BEGIN:VCALENDAR
VERSION:2.0
PRODID:-//Barlow Hall Primary School - ECPv6.13.2.1//NONSGML v1.0//EN
CALSCALE:GREGORIAN
METHOD:PUBLISH
X-WR-CALNAME:Barlow Hall Primary School
X-ORIGINAL-URL:https://barlowhallprimary.co.uk
X-WR-CALDESC:Events for Barlow Hall Primary School
REFRESH-INTERVAL;VALUE=DURATION:PT1H
X-Robots-Tag:noindex
X-PUBLISHED-TTL:PT1H
BEGIN:VTIMEZONE
TZID:Europe/London
BEGIN:DAYLIGHT
TZOFFSETFROM:+0000
TZOFFSETTO:+0100
TZNAME:BST
DTSTART:20240331T010000
END:DAYLIGHT
BEGIN:STANDARD
TZOFFSETFROM:+0100
TZOFFSETTO:+0000
TZNAME:GMT
DTSTART:20241027T010000
END:STANDARD
END:VTIMEZONE
BEGIN:VEVENT
DTSTART;VALUE=DATE:20241007
DTEND;VALUE=DATE:20241008
DTSTAMP:20260425T230612
CREATED:20240930T111142Z
LAST-MODIFIED:20241003T114141Z
UID:10830-1728259200-1728345599@barlowhallprimary.co.uk
SUMMARY:Dyslexia Awareness week
DESCRIPTION:
URL:https://barlowhallprimary.co.uk/event/dyslexia-awareness-week-2/
END:VEVENT
BEGIN:VEVENT
DTSTART;VALUE=DATE:20241007
DTEND;VALUE=DATE:20241008
DTSTAMP:20260425T230612
CREATED:20240930T095702Z
LAST-MODIFIED:20241007T225702Z
UID:10827-1728259200-1728345599@barlowhallprimary.co.uk
SUMMARY:Dyslexia Awareness week
DESCRIPTION:
URL:https://barlowhallprimary.co.uk/event/dyslexia-awareness-week/
END:VEVENT
BEGIN:VEVENT
DTSTART;VALUE=DATE:20241004
DTEND;VALUE=DATE:20241005
DTSTAMP:20260425T230612
CREATED:20240905T111734Z
LAST-MODIFIED:20241004T221140Z
UID:9925-1728000000-1728086399@barlowhallprimary.co.uk
SUMMARY:City in the Community sessions Y1/2/3/5 and 6
DESCRIPTION:
URL:https://barlowhallprimary.co.uk/event/city-in-the-community-sessions-y1-2-3-5-and-6-4/
END:VEVENT
BEGIN:VEVENT
DTSTART;VALUE=DATE:20241004
DTEND;VALUE=DATE:20241005
DTSTAMP:20260425T230612
CREATED:20240903T080210Z
LAST-MODIFIED:20241004T231153Z
UID:9734-1728000000-1728086399@barlowhallprimary.co.uk
SUMMARY:Oct Polling Morning- Right Respecting Council
DESCRIPTION:
URL:https://barlowhallprimary.co.uk/event/oct-polling-morning-right-respecting-council/
END:VEVENT
BEGIN:VEVENT
DTSTART;VALUE=DATE:20241003
DTEND;VALUE=DATE:20241004
DTSTAMP:20260425T230612
CREATED:20240323T073603Z
LAST-MODIFIED:20240603T091433Z
UID:3964-1727913600-1727999999@barlowhallprimary.co.uk
SUMMARY:City Thrive programme starting for year 6s
DESCRIPTION:
URL:https://barlowhallprimary.co.uk/event/city-thrive-programme-starting-for-year-6s-25/
END:VEVENT
BEGIN:VEVENT
DTSTART;TZID=Europe/London:20241001T094500
DTEND;TZID=Europe/London:20241001T120000
DTSTAMP:20260425T230612
CREATED:20240910T153212Z
LAST-MODIFIED:20241001T105647Z
UID:10268-1727775900-1727784000@barlowhallprimary.co.uk
SUMMARY:: Inclusion Multi-Sport Primary Panathlon 1 Venue: Whalley Range High School (\, Manchester)
DESCRIPTION:
URL:https://barlowhallprimary.co.uk/event/inclusion-multi-sport-primary-panathlon-1-venue-whalley-range-high-school-manchester/
END:VEVENT
BEGIN:VEVENT
DTSTART;VALUE=DATE:20240930
DTEND;VALUE=DATE:20241001
DTSTAMP:20260425T230612
CREATED:20240903T074741Z
LAST-MODIFIED:20240930T235646Z
UID:9729-1727654400-1727740799@barlowhallprimary.co.uk
SUMMARY:Campaign week Rights Respecting Council
DESCRIPTION:
URL:https://barlowhallprimary.co.uk/event/campaign-week-rights-respecting-council/
END:VEVENT
BEGIN:VEVENT
DTSTART;VALUE=DATE:20240927
DTEND;VALUE=DATE:20240928
DTSTAMP:20260425T230612
CREATED:20240905T111734Z
LAST-MODIFIED:20240927T222640Z
UID:9924-1727395200-1727481599@barlowhallprimary.co.uk
SUMMARY:City in the Community sessions Y1/2/3/5 and 6
DESCRIPTION:
URL:https://barlowhallprimary.co.uk/event/city-in-the-community-sessions-y1-2-3-5-and-6-3/
END:VEVENT
BEGIN:VEVENT
DTSTART;VALUE=DATE:20240926
DTEND;VALUE=DATE:20240927
DTSTAMP:20260425T230612
CREATED:20240323T073603Z
LAST-MODIFIED:20240603T091433Z
UID:3963-1727308800-1727395199@barlowhallprimary.co.uk
SUMMARY:City Thrive programme starting for year 6s
DESCRIPTION:
URL:https://barlowhallprimary.co.uk/event/city-thrive-programme-starting-for-year-6s-24/
END:VEVENT
BEGIN:VEVENT
DTSTART;VALUE=DATE:20240923
DTEND;VALUE=DATE:20240924
DTSTAMP:20260425T230612
CREATED:20240903T074741Z
LAST-MODIFIED:20240923T235235Z
UID:9728-1727049600-1727135999@barlowhallprimary.co.uk
SUMMARY:Nominations week Rights Respecting Council
DESCRIPTION:
URL:https://barlowhallprimary.co.uk/event/nominations-week-rights-respecting-council/
END:VEVENT
BEGIN:VEVENT
DTSTART;VALUE=DATE:20240920
DTEND;VALUE=DATE:20240921
DTSTAMP:20260425T230612
CREATED:20240905T111733Z
LAST-MODIFIED:20240920T221721Z
UID:9920-1726790400-1726876799@barlowhallprimary.co.uk
SUMMARY:City in the Community sessions Y1/2/3/5 and 6
DESCRIPTION:
URL:https://barlowhallprimary.co.uk/event/city-in-the-community-sessions-y1-2-3-5-and-6-2/
END:VEVENT
BEGIN:VEVENT
DTSTART;VALUE=DATE:20240920
DTEND;VALUE=DATE:20240921
DTSTAMP:20260425T230612
CREATED:20240903T074741Z
LAST-MODIFIED:20240920T231707Z
UID:9727-1726790400-1726876799@barlowhallprimary.co.uk
SUMMARY:Whole school assembly to launch the Rights Respecting Council
DESCRIPTION:
URL:https://barlowhallprimary.co.uk/event/whole-school-assembly-to-launch-the-rights-respecting-council/
END:VEVENT
BEGIN:VEVENT
DTSTART;VALUE=DATE:20240919
DTEND;VALUE=DATE:20240920
DTSTAMP:20260425T230612
CREATED:20240909T143245Z
LAST-MODIFIED:20240919T231725Z
UID:10232-1726704000-1726790399@barlowhallprimary.co.uk
SUMMARY:Reception Class and Y6 height and weight
DESCRIPTION:
URL:https://barlowhallprimary.co.uk/event/reception-class-and-y6-height-and-weight/
END:VEVENT
BEGIN:VEVENT
DTSTART;VALUE=DATE:20240919
DTEND;VALUE=DATE:20240920
DTSTAMP:20260425T230612
CREATED:20240323T073603Z
LAST-MODIFIED:20240603T091433Z
UID:3962-1726704000-1726790399@barlowhallprimary.co.uk
SUMMARY:City Thrive programme starting for year 6s
DESCRIPTION:
URL:https://barlowhallprimary.co.uk/event/city-thrive-programme-starting-for-year-6s-23/
END:VEVENT
BEGIN:VEVENT
DTSTART;TZID=Europe/London:20240917T160000
DTEND;TZID=Europe/London:20240917T164500
DTSTAMP:20260425T230612
CREATED:20240906T153223Z
LAST-MODIFIED:20240917T153212Z
UID:10141-1726588800-1726591500@barlowhallprimary.co.uk
SUMMARY:School Games Cross Country Run  at Chorlton Park\,  Starting at 4:00pm- 4:45pm.
DESCRIPTION:
URL:https://barlowhallprimary.co.uk/event/school-games-cross-country-run-at-chorlton-park-starting-at-400pm-445pm-3/
END:VEVENT
BEGIN:VEVENT
DTSTART;TZID=Europe/London:20240917T160000
DTEND;TZID=Europe/London:20240917T163000
DTSTAMP:20260425T230612
CREATED:20240912T083207Z
LAST-MODIFIED:20240917T143212Z
UID:10312-1726588800-1726590600@barlowhallprimary.co.uk
SUMMARY:EYFS ‘Meet the Team’ 2:45 pm/ repeated 4 pm ECAR Room
DESCRIPTION:
URL:https://barlowhallprimary.co.uk/event/eyfs-meet-the-team-245-pm-repeated-4-pm-ecar-room/
END:VEVENT
BEGIN:VEVENT
DTSTART;TZID=Europe/London:20240917T144500
DTEND;TZID=Europe/London:20240917T151500
DTSTAMP:20260425T230612
CREATED:20240813T111707Z
LAST-MODIFIED:20240917T133233Z
UID:8983-1726584300-1726586100@barlowhallprimary.co.uk
SUMMARY:EYFS ‘Meet the Team’ 2:45 pm/repeated at 4 pm
DESCRIPTION:
URL:https://barlowhallprimary.co.uk/event/eyfs-meet-the-team-time-tbc/
END:VEVENT
BEGIN:VEVENT
DTSTART;TZID=Europe/London:20240916T090000
DTEND;TZID=Europe/London:20240916T100000
DTSTAMP:20260425T230612
CREATED:20240701T123058Z
LAST-MODIFIED:20240916T084722Z
UID:7842-1726477200-1726480800@barlowhallprimary.co.uk
SUMMARY:Return Nasal Flu consents by 9 am.
DESCRIPTION:
URL:https://barlowhallprimary.co.uk/event/return-nasal-flu-consents-by-9-am/
END:VEVENT
BEGIN:VEVENT
DTSTART;TZID=Europe/London:20240913T130000
DTEND;TZID=Europe/London:20240913T150000
DTSTAMP:20260425T230612
CREATED:20240905T111733Z
LAST-MODIFIED:20240913T134736Z
UID:9918-1726232400-1726239600@barlowhallprimary.co.uk
SUMMARY:Year 4 Swimming at Hough End Leisure Centre
DESCRIPTION:
URL:https://barlowhallprimary.co.uk/event/year-4-swimming-at-hough-end-leisure-centre/
END:VEVENT
BEGIN:VEVENT
DTSTART;TZID=Europe/London:20240913T091500
DTEND;TZID=Europe/London:20240913T101500
DTSTAMP:20260425T230612
CREATED:20240906T090208Z
LAST-MODIFIED:20240913T084742Z
UID:10061-1726218900-1726222500@barlowhallprimary.co.uk
SUMMARY:City in The Community Nursery sessions - KS1 Hall
DESCRIPTION:
URL:https://barlowhallprimary.co.uk/event/city-in-the-community-nursery-sessions-ks1-hall/
END:VEVENT
BEGIN:VEVENT
DTSTART;VALUE=DATE:20240913
DTEND;VALUE=DATE:20240914
DTSTAMP:20260425T230612
CREATED:20240905T111733Z
LAST-MODIFIED:20240913T231710Z
UID:9919-1726185600-1726271999@barlowhallprimary.co.uk
SUMMARY:City in the Community sessions Y1/2/3/5 and 6
DESCRIPTION:
URL:https://barlowhallprimary.co.uk/event/city-in-the-community-sessions-y1-2-3-5-and-6/
END:VEVENT
BEGIN:VEVENT
DTSTART;TZID=Europe/London:20240912T144500
DTEND;TZID=Europe/London:20240912T151500
DTSTAMP:20260425T230612
CREATED:20240813T111706Z
LAST-MODIFIED:20240912T134710Z
UID:8979-1726152300-1726154100@barlowhallprimary.co.uk
SUMMARY:UKS2 ‘Meet the Team’ 2:45 pm\, repeated at 4 pm
DESCRIPTION:
URL:https://barlowhallprimary.co.uk/event/uks2-meet-the-team-time-tbc/
END:VEVENT
BEGIN:VEVENT
DTSTART;VALUE=DATE:20240912
DTEND;VALUE=DATE:20240913
DTSTAMP:20260425T230612
CREATED:20240323T073603Z
LAST-MODIFIED:20240603T091433Z
UID:3961-1726099200-1726185599@barlowhallprimary.co.uk
SUMMARY:City Thrive programme starting for year 6s
DESCRIPTION:
URL:https://barlowhallprimary.co.uk/event/city-thrive-programme-starting-for-year-6s-22/
END:VEVENT
BEGIN:VEVENT
DTSTART;TZID=Europe/London:20240911T160000
DTEND;TZID=Europe/London:20240911T163000
DTSTAMP:20260425T230612
CREATED:20240908T183211Z
LAST-MODIFIED:20240911T151721Z
UID:10204-1726070400-1726072200@barlowhallprimary.co.uk
SUMMARY:LKS2 Meet the Team\, repeated meeting 4 pm
DESCRIPTION:
URL:https://barlowhallprimary.co.uk/event/lks2-meet-the-team-repeated-meeting-4-pm/
END:VEVENT
BEGIN:VEVENT
DTSTART;TZID=Europe/London:20240911T144500
DTEND;TZID=Europe/London:20240911T151500
DTSTAMP:20260425T230612
CREATED:20240813T111706Z
LAST-MODIFIED:20240911T131710Z
UID:8978-1726065900-1726067700@barlowhallprimary.co.uk
SUMMARY:LKS ‘Meet the Team’
DESCRIPTION:
URL:https://barlowhallprimary.co.uk/event/lks-meet-the-team-time-tbc/
END:VEVENT
BEGIN:VEVENT
DTSTART;TZID=Europe/London:20240910T160000
DTEND;TZID=Europe/London:20240910T164500
DTSTAMP:20260425T230612
CREATED:20240906T153222Z
LAST-MODIFIED:20240906T153222Z
UID:10139-1725984000-1725986700@barlowhallprimary.co.uk
SUMMARY:School Games Cross Country Run  at Chorlton Park\,  Starting at 4:00pm- 4:45pm.
DESCRIPTION:
URL:https://barlowhallprimary.co.uk/event/school-games-cross-country-run-at-chorlton-park-starting-at-400pm-445pm/
END:VEVENT
BEGIN:VEVENT
DTSTART;TZID=Europe/London:20240910T160000
DTEND;TZID=Europe/London:20240910T164500
DTSTAMP:20260425T230612
CREATED:20240906T153222Z
LAST-MODIFIED:20240910T153212Z
UID:10140-1725984000-1725986700@barlowhallprimary.co.uk
SUMMARY:School Games Cross Country Run  at Chorlton Park\,  Starting at 4:00pm- 4:45pm.
DESCRIPTION:
URL:https://barlowhallprimary.co.uk/event/school-games-cross-country-run-at-chorlton-park-starting-at-400pm-445pm-2/
END:VEVENT
BEGIN:VEVENT
DTSTART;TZID=Europe/London:20240910T144500
DTEND;TZID=Europe/London:20240910T151500
DTSTAMP:20260425T230612
CREATED:20240813T111706Z
LAST-MODIFIED:20240910T131731Z
UID:8977-1725979500-1725981300@barlowhallprimary.co.uk
SUMMARY:KS1 ‘Meet the Team’ 2:45pm\, repeated at 4 pm
DESCRIPTION:
URL:https://barlowhallprimary.co.uk/event/ks1-meet-the-team-time-tbc/
END:VEVENT
BEGIN:VEVENT
DTSTART;VALUE=DATE:20240909
DTEND;VALUE=DATE:20240910
DTSTAMP:20260425T230612
CREATED:20240701T123058Z
LAST-MODIFIED:20240909T233226Z
UID:7841-1725840000-1725926399@barlowhallprimary.co.uk
SUMMARY:Nasal flu forms delivered to school and out to parents
DESCRIPTION:
URL:https://barlowhallprimary.co.uk/event/nasal-flu-forms-delivered-to-school-and-out-to-parents/
END:VEVENT
BEGIN:VEVENT
DTSTART;VALUE=DATE:20240906
DTEND;VALUE=DATE:20240907
DTSTAMP:20260425T230612
CREATED:20240715T143211Z
LAST-MODIFIED:20240906T233207Z
UID:8248-1725580800-1725667199@barlowhallprimary.co.uk
SUMMARY:No Swimming this week
DESCRIPTION:
URL:https://barlowhallprimary.co.uk/event/no-swimming-this-week/
END:VEVENT
END:VCALENDAR