BEGIN:VCALENDAR
VERSION:2.0
PRODID:-//Barlow Hall Primary School - ECPv6.13.2.1//NONSGML v1.0//EN
CALSCALE:GREGORIAN
METHOD:PUBLISH
X-WR-CALNAME:Barlow Hall Primary School
X-ORIGINAL-URL:https://barlowhallprimary.co.uk
X-WR-CALDESC:Events for Barlow Hall Primary School
REFRESH-INTERVAL;VALUE=DURATION:PT1H
X-Robots-Tag:noindex
X-PUBLISHED-TTL:PT1H
BEGIN:VTIMEZONE
TZID:Europe/London
BEGIN:DAYLIGHT
TZOFFSETFROM:+0000
TZOFFSETTO:+0100
TZNAME:BST
DTSTART:20240331T010000
END:DAYLIGHT
BEGIN:STANDARD
TZOFFSETFROM:+0100
TZOFFSETTO:+0000
TZNAME:GMT
DTSTART:20241027T010000
END:STANDARD
END:VTIMEZONE
BEGIN:VEVENT
DTSTART;TZID=Europe/London:20241030T143000
DTEND;TZID=Europe/London:20241030T150000
DTSTAMP:20260425T194811
CREATED:20241018T111142Z
LAST-MODIFIED:20241030T141147Z
UID:11344-1730298600-1730300400@barlowhallprimary.co.uk
SUMMARY:Nursery Meet the Team Meeting
DESCRIPTION:
URL:https://barlowhallprimary.co.uk/event/nursery-meet-the-team-meeting/
END:VEVENT
BEGIN:VEVENT
DTSTART;VALUE=DATE:20241030
DTEND;VALUE=DATE:20241031
DTSTAMP:20260425T194811
CREATED:20240613T163347Z
LAST-MODIFIED:20241030T232658Z
UID:6936-1730246400-1730332799@barlowhallprimary.co.uk
SUMMARY:School Photograph Day - individual pictures only
DESCRIPTION:
URL:https://barlowhallprimary.co.uk/event/school-photograph-day-individual-pictures-only/
END:VEVENT
BEGIN:VEVENT
DTSTART;VALUE=DATE:20241028
DTEND;VALUE=DATE:20241029
DTSTAMP:20260425T194811
CREATED:20240915T104734Z
LAST-MODIFIED:20241028T231152Z
UID:10400-1730073600-1730159999@barlowhallprimary.co.uk
SUMMARY:Half-term overviews for Autumn 2 out
DESCRIPTION:
URL:https://barlowhallprimary.co.uk/event/half-term-overviews-for-autumn-2-out/
END:VEVENT
BEGIN:VEVENT
DTSTART;VALUE=DATE:20241028
DTEND;VALUE=DATE:20241029
DTSTAMP:20260425T194811
CREATED:20240606T122932Z
LAST-MODIFIED:20241028T231152Z
UID:6698-1730073600-1730159999@barlowhallprimary.co.uk
SUMMARY:Return to school
DESCRIPTION:
URL:https://barlowhallprimary.co.uk/event/return-to-school-3/
END:VEVENT
BEGIN:VEVENT
DTSTART;VALUE=DATE:20241025
DTEND;VALUE=DATE:20241026
DTSTAMP:20260425T194811
CREATED:20240905T111734Z
LAST-MODIFIED:20241009T071150Z
UID:9928-1729814400-1729900799@barlowhallprimary.co.uk
SUMMARY:City in the Community sessions Y1/2/3/5 and 6
DESCRIPTION:
URL:https://barlowhallprimary.co.uk/event/city-in-the-community-sessions-y1-2-3-5-and-6-7/
END:VEVENT
BEGIN:VEVENT
DTSTART;VALUE=DATE:20241024
DTEND;VALUE=DATE:20241025
DTSTAMP:20260425T194811
CREATED:20240323T073603Z
LAST-MODIFIED:20240603T091433Z
UID:3967-1729728000-1729814399@barlowhallprimary.co.uk
SUMMARY:City Thrive programme starting for year 6s
DESCRIPTION:
URL:https://barlowhallprimary.co.uk/event/city-thrive-programme-starting-for-year-6s-28/
END:VEVENT
BEGIN:VEVENT
DTSTART;VALUE=DATE:20241021
DTEND;VALUE=DATE:20241028
DTSTAMP:20260425T194811
CREATED:20240606T122932Z
LAST-MODIFIED:20241027T234144Z
UID:6697-1729468800-1730073599@barlowhallprimary.co.uk
SUMMARY:School closed - half-term holidays
DESCRIPTION:
URL:https://barlowhallprimary.co.uk/event/school-closed-half-term-holidays/
END:VEVENT
BEGIN:VEVENT
DTSTART;TZID=Europe/London:20241018T151500
DTEND;TZID=Europe/London:20241018T161500
DTSTAMP:20260425T194811
CREATED:20240606T122932Z
LAST-MODIFIED:20241018T142634Z
UID:6696-1729264500-1729268100@barlowhallprimary.co.uk
SUMMARY:Break-up 3:15 pm
DESCRIPTION:
URL:https://barlowhallprimary.co.uk/event/break-up-315-pm-2/
END:VEVENT
BEGIN:VEVENT
DTSTART;VALUE=DATE:20241018
DTEND;VALUE=DATE:20241019
DTSTAMP:20260425T194811
CREATED:20240913T074726Z
LAST-MODIFIED:20241018T232636Z
UID:10337-1729209600-1729295999@barlowhallprimary.co.uk
SUMMARY:Wear Red Day (show racism the red card)
DESCRIPTION:
URL:https://barlowhallprimary.co.uk/event/wear-red-day-show-racism-the-red-card-2/
END:VEVENT
BEGIN:VEVENT
DTSTART;VALUE=DATE:20241018
DTEND;VALUE=DATE:20241019
DTSTAMP:20260425T194811
CREATED:20240905T111734Z
LAST-MODIFIED:20241018T222635Z
UID:9927-1729209600-1729295999@barlowhallprimary.co.uk
SUMMARY:City in the Community sessions Y1/2/3/5 and 6
DESCRIPTION:
URL:https://barlowhallprimary.co.uk/event/city-in-the-community-sessions-y1-2-3-5-and-6-6/
END:VEVENT
BEGIN:VEVENT
DTSTART;VALUE=DATE:20241018
DTEND;VALUE=DATE:20241019
DTSTAMP:20260425T194811
CREATED:20240813T121708Z
LAST-MODIFIED:20240913T064711Z
UID:8986-1729209600-1729295999@barlowhallprimary.co.uk
SUMMARY:Wear Red Day (show racism the red card)
DESCRIPTION:
URL:https://barlowhallprimary.co.uk/event/wear-red-day-show-racism-the-red-card/
END:VEVENT
BEGIN:VEVENT
DTSTART;TZID=Europe/London:20241017T133000
DTEND;TZID=Europe/London:20241017T150000
DTSTAMP:20260425T194811
CREATED:20240508T124902Z
LAST-MODIFIED:20241017T135710Z
UID:5546-1729171800-1729177200@barlowhallprimary.co.uk
SUMMARY:Nasal flu immunisations.
DESCRIPTION:
URL:https://barlowhallprimary.co.uk/event/nasal-flu-immunisations/
END:VEVENT
BEGIN:VEVENT
DTSTART;VALUE=DATE:20241017
DTEND;VALUE=DATE:20241018
DTSTAMP:20260425T194811
CREATED:20240323T073603Z
LAST-MODIFIED:20240603T091433Z
UID:3966-1729123200-1729209599@barlowhallprimary.co.uk
SUMMARY:City Thrive programme starting for year 6s
DESCRIPTION:
URL:https://barlowhallprimary.co.uk/event/city-thrive-programme-starting-for-year-6s-27/
END:VEVENT
BEGIN:VEVENT
DTSTART;VALUE=DATE:20241016
DTEND;VALUE=DATE:20241017
DTSTAMP:20260425T194811
CREATED:20241009T171135Z
LAST-MODIFIED:20241009T171135Z
UID:11084-1729036800-1729123199@barlowhallprimary.co.uk
SUMMARY:World Food day (collection for food bank)
DESCRIPTION:
URL:https://barlowhallprimary.co.uk/event/world-food-day-collection-for-food-bank-2/
END:VEVENT
BEGIN:VEVENT
DTSTART;VALUE=DATE:20241016
DTEND;VALUE=DATE:20241017
DTSTAMP:20260425T194811
CREATED:20241009T171135Z
LAST-MODIFIED:20241016T234147Z
UID:11083-1729036800-1729123199@barlowhallprimary.co.uk
SUMMARY:World Food day (collection for food bank)
DESCRIPTION:
URL:https://barlowhallprimary.co.uk/event/world-food-day-collection-for-food-bank/
END:VEVENT
BEGIN:VEVENT
DTSTART;TZID=Europe/London:20241015T140000
DTEND;TZID=Europe/London:20241015T163000
DTSTAMP:20260425T194811
CREATED:20240918T110215Z
LAST-MODIFIED:20241015T152641Z
UID:10520-1729000800-1729009800@barlowhallprimary.co.uk
SUMMARY:What's on? What's free? What's for me? event: Barlow Hall School Health Event Junior Hall - more details to follow -
DESCRIPTION:
URL:https://barlowhallprimary.co.uk/event/health-event-junior-hall-more-details-to-follow/
END:VEVENT
BEGIN:VEVENT
DTSTART;TZID=Europe/London:20241015T090000
DTEND;TZID=Europe/London:20241015T103000
DTSTAMP:20260425T194811
CREATED:20240918T084732Z
LAST-MODIFIED:20241015T091211Z
UID:10513-1728982800-1728988200@barlowhallprimary.co.uk
SUMMARY:Reception Class Autumn Walk
DESCRIPTION:
URL:https://barlowhallprimary.co.uk/event/reception-class-autumn-walk/
END:VEVENT
BEGIN:VEVENT
DTSTART;VALUE=DATE:20241015
DTEND;VALUE=DATE:20241016
DTSTAMP:20260425T194811
CREATED:20241009T171135Z
LAST-MODIFIED:20241009T171135Z
UID:11082-1728950400-1729036799@barlowhallprimary.co.uk
SUMMARY:Half term house winner (non uniform day)
DESCRIPTION:
URL:https://barlowhallprimary.co.uk/event/half-term-house-winner-non-uniform-day-3/
END:VEVENT
BEGIN:VEVENT
DTSTART;VALUE=DATE:20241015
DTEND;VALUE=DATE:20241016
DTSTAMP:20260425T194811
CREATED:20241009T171135Z
LAST-MODIFIED:20241015T232639Z
UID:11081-1728950400-1729036799@barlowhallprimary.co.uk
SUMMARY:Half term house winner (non uniform day)
DESCRIPTION:
URL:https://barlowhallprimary.co.uk/event/half-term-house-winner-non-uniform-day-2/
END:VEVENT
BEGIN:VEVENT
DTSTART;VALUE=DATE:20241014
DTEND;VALUE=DATE:20241015
DTSTAMP:20260425T194811
CREATED:20240908T193232Z
LAST-MODIFIED:20241009T161137Z
UID:10210-1728864000-1728950399@barlowhallprimary.co.uk
SUMMARY:Half term house winner Non-Uniform day
DESCRIPTION:
URL:https://barlowhallprimary.co.uk/event/half-term-house-winner-non-uniform-day/
END:VEVENT
BEGIN:VEVENT
DTSTART;VALUE=DATE:20241011
DTEND;VALUE=DATE:20241012
DTSTAMP:20260425T194811
CREATED:20240905T111734Z
LAST-MODIFIED:20241011T225649Z
UID:9926-1728604800-1728691199@barlowhallprimary.co.uk
SUMMARY:City in the Community sessions Y1/2/3/5 and 6
DESCRIPTION:
URL:https://barlowhallprimary.co.uk/event/city-in-the-community-sessions-y1-2-3-5-and-6-5/
END:VEVENT
BEGIN:VEVENT
DTSTART;VALUE=DATE:20241010
DTEND;VALUE=DATE:20241011
DTSTAMP:20260425T194811
CREATED:20240323T073603Z
LAST-MODIFIED:20240603T091433Z
UID:3965-1728518400-1728604799@barlowhallprimary.co.uk
SUMMARY:City Thrive programme starting for year 6s
DESCRIPTION:
URL:https://barlowhallprimary.co.uk/event/city-thrive-programme-starting-for-year-6s-26/
END:VEVENT
BEGIN:VEVENT
DTSTART;TZID=Europe/London:20241008T151500
DTEND;TZID=Europe/London:20241008T170000
DTSTAMP:20260425T194811
CREATED:20241002T085634Z
LAST-MODIFIED:20241008T155639Z
UID:10889-1728400500-1728406800@barlowhallprimary.co.uk
SUMMARY:Y5/6 Football Tournament Chrotlon High South. Parents collect children from CHS South
DESCRIPTION:
URL:https://barlowhallprimary.co.uk/event/y5-6-football-tournament-chrotlon-high-south-parents-collect-children-from-chs-south/
END:VEVENT
BEGIN:VEVENT
DTSTART;TZID=Europe/London:20241008T123000
DTEND;TZID=Europe/London:20241008T130000
DTSTAMP:20260425T194811
CREATED:20240908T193232Z
LAST-MODIFIED:20241008T114136Z
UID:10209-1728390600-1728392400@barlowhallprimary.co.uk
SUMMARY:House Team Meeting -time tbc
DESCRIPTION:
URL:https://barlowhallprimary.co.uk/event/house-team-meeting-time-tbc/
END:VEVENT
BEGIN:VEVENT
DTSTART;VALUE=DATE:20241007
DTEND;VALUE=DATE:20241008
DTSTAMP:20260425T194811
CREATED:20240930T111142Z
LAST-MODIFIED:20241003T114141Z
UID:10830-1728259200-1728345599@barlowhallprimary.co.uk
SUMMARY:Dyslexia Awareness week
DESCRIPTION:
URL:https://barlowhallprimary.co.uk/event/dyslexia-awareness-week-2/
END:VEVENT
BEGIN:VEVENT
DTSTART;VALUE=DATE:20241007
DTEND;VALUE=DATE:20241008
DTSTAMP:20260425T194811
CREATED:20240930T095702Z
LAST-MODIFIED:20241007T225702Z
UID:10827-1728259200-1728345599@barlowhallprimary.co.uk
SUMMARY:Dyslexia Awareness week
DESCRIPTION:
URL:https://barlowhallprimary.co.uk/event/dyslexia-awareness-week/
END:VEVENT
BEGIN:VEVENT
DTSTART;VALUE=DATE:20241004
DTEND;VALUE=DATE:20241005
DTSTAMP:20260425T194811
CREATED:20240905T111734Z
LAST-MODIFIED:20241004T221140Z
UID:9925-1728000000-1728086399@barlowhallprimary.co.uk
SUMMARY:City in the Community sessions Y1/2/3/5 and 6
DESCRIPTION:
URL:https://barlowhallprimary.co.uk/event/city-in-the-community-sessions-y1-2-3-5-and-6-4/
END:VEVENT
BEGIN:VEVENT
DTSTART;VALUE=DATE:20241004
DTEND;VALUE=DATE:20241005
DTSTAMP:20260425T194811
CREATED:20240903T080210Z
LAST-MODIFIED:20241004T231153Z
UID:9734-1728000000-1728086399@barlowhallprimary.co.uk
SUMMARY:Oct Polling Morning- Right Respecting Council
DESCRIPTION:
URL:https://barlowhallprimary.co.uk/event/oct-polling-morning-right-respecting-council/
END:VEVENT
BEGIN:VEVENT
DTSTART;VALUE=DATE:20241003
DTEND;VALUE=DATE:20241004
DTSTAMP:20260425T194811
CREATED:20240323T073603Z
LAST-MODIFIED:20240603T091433Z
UID:3964-1727913600-1727999999@barlowhallprimary.co.uk
SUMMARY:City Thrive programme starting for year 6s
DESCRIPTION:
URL:https://barlowhallprimary.co.uk/event/city-thrive-programme-starting-for-year-6s-25/
END:VEVENT
BEGIN:VEVENT
DTSTART;TZID=Europe/London:20241001T094500
DTEND;TZID=Europe/London:20241001T120000
DTSTAMP:20260425T194811
CREATED:20240910T153212Z
LAST-MODIFIED:20241001T105647Z
UID:10268-1727775900-1727784000@barlowhallprimary.co.uk
SUMMARY:: Inclusion Multi-Sport Primary Panathlon 1 Venue: Whalley Range High School (\, Manchester)
DESCRIPTION:
URL:https://barlowhallprimary.co.uk/event/inclusion-multi-sport-primary-panathlon-1-venue-whalley-range-high-school-manchester/
END:VEVENT
END:VCALENDAR