BEGIN:VCALENDAR
VERSION:2.0
PRODID:-//Barlow Hall Primary School - ECPv6.13.2.1//NONSGML v1.0//EN
CALSCALE:GREGORIAN
METHOD:PUBLISH
X-WR-CALNAME:Barlow Hall Primary School
X-ORIGINAL-URL:https://barlowhallprimary.co.uk
X-WR-CALDESC:Events for Barlow Hall Primary School
REFRESH-INTERVAL;VALUE=DURATION:PT1H
X-Robots-Tag:noindex
X-PUBLISHED-TTL:PT1H
BEGIN:VTIMEZONE
TZID:Europe/London
BEGIN:DAYLIGHT
TZOFFSETFROM:+0000
TZOFFSETTO:+0100
TZNAME:BST
DTSTART:20240331T010000
END:DAYLIGHT
BEGIN:STANDARD
TZOFFSETFROM:+0100
TZOFFSETTO:+0000
TZNAME:GMT
DTSTART:20241027T010000
END:STANDARD
END:VTIMEZONE
BEGIN:VEVENT
DTSTART;TZID=Europe/London:20241206T100000
DTEND;TZID=Europe/London:20241206T103000
DTSTAMP:20260425T123050
CREATED:20241105T091155Z
LAST-MODIFIED:20241105T091155Z
UID:12069-1733479200-1733481000@barlowhallprimary.co.uk
SUMMARY:Remembrance Assembly
DESCRIPTION:
URL:https://barlowhallprimary.co.uk/event/remembrance-assembly-5/
END:VEVENT
BEGIN:VEVENT
DTSTART;VALUE=DATE:20241206
DTEND;VALUE=DATE:20241207
DTSTAMP:20260425T123050
CREATED:20240905T111735Z
LAST-MODIFIED:20241206T230235Z
UID:9934-1733443200-1733529599@barlowhallprimary.co.uk
SUMMARY:City in the Community sessions Y1/2/3/5 and 6
DESCRIPTION:
URL:https://barlowhallprimary.co.uk/event/city-in-the-community-sessions-y1-2-3-5-and-6-13/
END:VEVENT
BEGIN:VEVENT
DTSTART;TZID=Europe/London:20241205T131500
DTEND;TZID=Europe/London:20241205T141500
DTSTAMP:20260425T123050
CREATED:20241031T125635Z
LAST-MODIFIED:20241205T093220Z
UID:11668-1733404500-1733408100@barlowhallprimary.co.uk
SUMMARY:Sure Start Cheeky Chops Playtime Parent and Toddler session KS1 Hall
DESCRIPTION:
URL:https://barlowhallprimary.co.uk/event/sure-start-cheeky-chops-playtime-parent-and-toddler-session-ks1-hall-5/
END:VEVENT
BEGIN:VEVENT
DTSTART;VALUE=DATE:20241205
DTEND;VALUE=DATE:20241206
DTSTAMP:20260425T123050
CREATED:20240323T073603Z
LAST-MODIFIED:20240603T091433Z
UID:3973-1733356800-1733443199@barlowhallprimary.co.uk
SUMMARY:City Thrive programme starting for year 6s
DESCRIPTION:
URL:https://barlowhallprimary.co.uk/event/city-thrive-programme-starting-for-year-6s-34/
END:VEVENT
BEGIN:VEVENT
DTSTART;TZID=Europe/London:20241204T153000
DTEND;TZID=Europe/London:20241204T180000
DTSTAMP:20260425T123050
CREATED:20241010T184135Z
LAST-MODIFIED:20241204T174734Z
UID:11114-1733326200-1733335200@barlowhallprimary.co.uk
SUMMARY:Reception Pupil Progress Evening
DESCRIPTION:
URL:https://barlowhallprimary.co.uk/event/reception-pupil-progress-evening/
END:VEVENT
BEGIN:VEVENT
DTSTART;TZID=Europe/London:20241203T090000
DTEND;TZID=Europe/London:20241203T120000
DTSTAMP:20260425T123050
CREATED:20241129T110231Z
LAST-MODIFIED:20241203T114716Z
UID:13533-1733216400-1733227200@barlowhallprimary.co.uk
SUMMARY:Year 5 and 6 Councillors to Brookburn
DESCRIPTION:
URL:https://barlowhallprimary.co.uk/event/year-5-and-6-councillors-to-brookburn/
END:VEVENT
BEGIN:VEVENT
DTSTART;TZID=Europe/London:20241202T113000
DTEND;TZID=Europe/London:20241202T150000
DTSTAMP:20260425T123050
CREATED:20241202T124725Z
LAST-MODIFIED:20241202T144719Z
UID:13606-1733139000-1733151600@barlowhallprimary.co.uk
SUMMARY:Girls Futsal at Platt Lane
DESCRIPTION:
URL:https://barlowhallprimary.co.uk/event/girls-futsal-at-platt-lane/
END:VEVENT
BEGIN:VEVENT
DTSTART;TZID=Europe/London:20241129T100000
DTEND;TZID=Europe/London:20241129T103000
DTSTAMP:20260425T123050
CREATED:20241105T091155Z
LAST-MODIFIED:20241105T091155Z
UID:12068-1732874400-1732876200@barlowhallprimary.co.uk
SUMMARY:Remembrance Assembly
DESCRIPTION:
URL:https://barlowhallprimary.co.uk/event/remembrance-assembly-4/
END:VEVENT
BEGIN:VEVENT
DTSTART;VALUE=DATE:20241129
DTEND;VALUE=DATE:20241130
DTSTAMP:20260425T123050
CREATED:20240905T111735Z
LAST-MODIFIED:20241129T230219Z
UID:9933-1732838400-1732924799@barlowhallprimary.co.uk
SUMMARY:City in the Community sessions Y1/2/3/5 and 6
DESCRIPTION:
URL:https://barlowhallprimary.co.uk/event/city-in-the-community-sessions-y1-2-3-5-and-6-12/
END:VEVENT
BEGIN:VEVENT
DTSTART;TZID=Europe/London:20241128T131500
DTEND;TZID=Europe/London:20241128T141500
DTSTAMP:20260425T123050
CREATED:20241031T125635Z
LAST-MODIFIED:20241128T131720Z
UID:11667-1732799700-1732803300@barlowhallprimary.co.uk
SUMMARY:Sure Start Cheeky Chops Playtime Parent and Toddler session KS1 Hall
DESCRIPTION:
URL:https://barlowhallprimary.co.uk/event/sure-start-cheeky-chops-playtime-parent-and-toddler-session-ks1-hall-4/
END:VEVENT
BEGIN:VEVENT
DTSTART;TZID=Europe/London:20241128T100000
DTEND;TZID=Europe/London:20241128T110000
DTSTAMP:20260425T123050
CREATED:20241108T155635Z
LAST-MODIFIED:20241128T101737Z
UID:12769-1732788000-1732791600@barlowhallprimary.co.uk
SUMMARY:Reception  and Nursery Class Tours
DESCRIPTION:
URL:https://barlowhallprimary.co.uk/event/reception-and-nursery-class-tours-2/
END:VEVENT
BEGIN:VEVENT
DTSTART;VALUE=DATE:20241128
DTEND;VALUE=DATE:20241129
DTSTAMP:20260425T123050
CREATED:20240323T073603Z
LAST-MODIFIED:20240603T091433Z
UID:3972-1732752000-1732838399@barlowhallprimary.co.uk
SUMMARY:City Thrive programme starting for year 6s
DESCRIPTION:
URL:https://barlowhallprimary.co.uk/event/city-thrive-programme-starting-for-year-6s-33/
END:VEVENT
BEGIN:VEVENT
DTSTART;VALUE=DATE:20241127
DTEND;VALUE=DATE:20241128
DTSTAMP:20260425T123050
CREATED:20240906T153223Z
LAST-MODIFIED:20241122T152800Z
UID:10144-1732665600-1732751999@barlowhallprimary.co.uk
SUMMARY:Girls futsal\, 27/11 time tbc
DESCRIPTION:
URL:https://barlowhallprimary.co.uk/event/girls-futsal-27-11-time-tbc/
END:VEVENT
BEGIN:VEVENT
DTSTART;TZID=Europe/London:20241126T143000
DTEND;TZID=Europe/London:20241126T150000
DTSTAMP:20260425T123050
CREATED:20241125T124203Z
LAST-MODIFIED:20241126T144731Z
UID:13287-1732631400-1732633200@barlowhallprimary.co.uk
SUMMARY:Oracy Assembly
DESCRIPTION:
URL:https://barlowhallprimary.co.uk/event/oracy-assembly-2/
END:VEVENT
BEGIN:VEVENT
DTSTART;TZID=Europe/London:20241126T130000
DTEND;TZID=Europe/London:20241126T150000
DTSTAMP:20260425T123050
CREATED:20241106T145651Z
LAST-MODIFIED:20241126T144731Z
UID:12511-1732626000-1732633200@barlowhallprimary.co.uk
SUMMARY:Y4 Chorlton fieldwork walk  (AV\, Jo\, Caroline G.\, Abbie and Debbie
DESCRIPTION:
URL:https://barlowhallprimary.co.uk/event/y4-chorlton-fieldwork-walk-av-jo-caroline-g-abbie-and-debbie/
END:VEVENT
BEGIN:VEVENT
DTSTART;VALUE=DATE:20241126
DTEND;VALUE=DATE:20241127
DTSTAMP:20260425T123050
CREATED:20240918T074720Z
LAST-MODIFIED:20241126T230232Z
UID:10507-1732579200-1732665599@barlowhallprimary.co.uk
SUMMARY:City of Trees tree planting days
DESCRIPTION:
URL:https://barlowhallprimary.co.uk/event/city-of-trees-tree-planting-days-2/
END:VEVENT
BEGIN:VEVENT
DTSTART;VALUE=DATE:20241125
DTEND;VALUE=DATE:20241126
DTSTAMP:20260425T123050
CREATED:20240918T074720Z
LAST-MODIFIED:20241125T231200Z
UID:10508-1732492800-1732579199@barlowhallprimary.co.uk
SUMMARY:City of Trees tree planting days
DESCRIPTION:
URL:https://barlowhallprimary.co.uk/event/city-of-trees-tree-planting-days-3/
END:VEVENT
BEGIN:VEVENT
DTSTART;TZID=Europe/London:20241122T100000
DTEND;TZID=Europe/London:20241122T110000
DTSTAMP:20260425T123050
CREATED:20241105T101141Z
LAST-MODIFIED:20241122T101340Z
UID:12174-1732269600-1732273200@barlowhallprimary.co.uk
SUMMARY:AC Assembly
DESCRIPTION:
URL:https://barlowhallprimary.co.uk/event/ac-assembly/
END:VEVENT
BEGIN:VEVENT
DTSTART;TZID=Europe/London:20241122T100000
DTEND;TZID=Europe/London:20241122T103000
DTSTAMP:20260425T123050
CREATED:20241105T091155Z
LAST-MODIFIED:20241105T091155Z
UID:12067-1732269600-1732271400@barlowhallprimary.co.uk
SUMMARY:Remembrance Assembly
DESCRIPTION:
URL:https://barlowhallprimary.co.uk/event/remembrance-assembly-3/
END:VEVENT
BEGIN:VEVENT
DTSTART;VALUE=DATE:20241122
DTEND;VALUE=DATE:20241123
DTSTAMP:20260425T123050
CREATED:20240918T074720Z
LAST-MODIFIED:20241122T234203Z
UID:10506-1732233600-1732319999@barlowhallprimary.co.uk
SUMMARY:City of Trees tree planting days
DESCRIPTION:
URL:https://barlowhallprimary.co.uk/event/city-of-trees-tree-planting-days/
END:VEVENT
BEGIN:VEVENT
DTSTART;VALUE=DATE:20241122
DTEND;VALUE=DATE:20241123
DTSTAMP:20260425T123050
CREATED:20240905T111735Z
LAST-MODIFIED:20241122T234203Z
UID:9932-1732233600-1732319999@barlowhallprimary.co.uk
SUMMARY:City in the Community sessions Y1/2/3/5 and 6
DESCRIPTION:
URL:https://barlowhallprimary.co.uk/event/city-in-the-community-sessions-y1-2-3-5-and-6-11/
END:VEVENT
BEGIN:VEVENT
DTSTART;TZID=Europe/London:20241121T131500
DTEND;TZID=Europe/London:20241121T141500
DTSTAMP:20260425T123050
CREATED:20241031T125635Z
LAST-MODIFIED:20241121T134208Z
UID:11665-1732194900-1732198500@barlowhallprimary.co.uk
SUMMARY:Sure Start Cheeky Chops Playtime Parent and Toddler session KS1 Hall
DESCRIPTION:
URL:https://barlowhallprimary.co.uk/event/sure-start-cheeky-chops-playtime-parent-and-toddler-session-ks1-hall-3/
END:VEVENT
BEGIN:VEVENT
DTSTART;TZID=Europe/London:20241121T100000
DTEND;TZID=Europe/London:20241121T110000
DTSTAMP:20260425T123050
CREATED:20241108T155635Z
LAST-MODIFIED:20241121T104158Z
UID:12768-1732183200-1732186800@barlowhallprimary.co.uk
SUMMARY:Reception  and Nursery Class Tours
DESCRIPTION:
URL:https://barlowhallprimary.co.uk/event/reception-and-nursery-class-tours/
END:VEVENT
BEGIN:VEVENT
DTSTART;VALUE=DATE:20241121
DTEND;VALUE=DATE:20241122
DTSTAMP:20260425T123050
CREATED:20240323T073603Z
LAST-MODIFIED:20240603T091433Z
UID:3971-1732147200-1732233599@barlowhallprimary.co.uk
SUMMARY:City Thrive programme starting for year 6s
DESCRIPTION:
URL:https://barlowhallprimary.co.uk/event/city-thrive-programme-starting-for-year-6s-32/
END:VEVENT
BEGIN:VEVENT
DTSTART;TZID=Europe/London:20241120T154500
DTEND;TZID=Europe/London:20241120T164500
DTSTAMP:20260425T123050
CREATED:20241118T155702Z
LAST-MODIFIED:20241120T162638Z
UID:13063-1732117500-1732121100@barlowhallprimary.co.uk
SUMMARY:Exceeding Expectations classes starting this week at Chorlton High.  Science
DESCRIPTION:
URL:https://barlowhallprimary.co.uk/event/exceeding-expectations-classes-starting-this-week-at-chorlton-high-science/
END:VEVENT
BEGIN:VEVENT
DTSTART;TZID=Europe/London:20241120T153000
DTEND;TZID=Europe/London:20241120T180000
DTSTAMP:20260425T123050
CREATED:20241010T184135Z
LAST-MODIFIED:20241120T172652Z
UID:11113-1732116600-1732125600@barlowhallprimary.co.uk
SUMMARY:Reception Class Pupil Progress Evening 1
DESCRIPTION:
URL:https://barlowhallprimary.co.uk/event/reception-class-pupil-progress-evening-1/
END:VEVENT
BEGIN:VEVENT
DTSTART;TZID=Europe/London:20241120T090000
DTEND;TZID=Europe/London:20241120T100000
DTSTAMP:20260425T123050
CREATED:20240919T124724Z
LAST-MODIFIED:20241120T091151Z
UID:10554-1732093200-1732096800@barlowhallprimary.co.uk
SUMMARY:Inclusion parent coffee morning (with Parent Carer forum)
DESCRIPTION:
URL:https://barlowhallprimary.co.uk/event/inclusion-coffee-morning-drop-in-4/
END:VEVENT
BEGIN:VEVENT
DTSTART;VALUE=DATE:20241120
DTEND;VALUE=DATE:20241121
DTSTAMP:20260425T123050
CREATED:20241105T091155Z
LAST-MODIFIED:20241120T235644Z
UID:12066-1732060800-1732147199@barlowhallprimary.co.uk
SUMMARY:World Children’s Day
DESCRIPTION:
URL:https://barlowhallprimary.co.uk/event/world-childrens-day/
END:VEVENT
BEGIN:VEVENT
DTSTART;TZID=Europe/London:20241119T154500
DTEND;TZID=Europe/London:20241119T164500
DTSTAMP:20260425T123050
CREATED:20241118T155702Z
LAST-MODIFIED:20241119T162638Z
UID:13062-1732031100-1732034700@barlowhallprimary.co.uk
SUMMARY:Exceeding Expectations classes starting this week at Chorlton High.   English and Maths  - Start 3:45/ parents to collect as per letter
DESCRIPTION:
URL:https://barlowhallprimary.co.uk/event/exceeding-expectations-classes-starting-this-week-at-chorlton-high-english-and-maths-start-345-parents-to-collect-as-per-letter/
END:VEVENT
BEGIN:VEVENT
DTSTART;TZID=Europe/London:20241119T093000
DTEND;TZID=Europe/London:20241119T110000
DTSTAMP:20260425T123050
CREATED:20241101T095637Z
LAST-MODIFIED:20241119T101141Z
UID:11909-1732008600-1732014000@barlowhallprimary.co.uk
SUMMARY:Box clever Theatre Group in for road safety performance for Y5/6
DESCRIPTION:
URL:https://barlowhallprimary.co.uk/event/box-clever-theatre-group-in-for-road-safety-performance-for-y5-6/
END:VEVENT
END:VCALENDAR