BEGIN:VCALENDAR
VERSION:2.0
PRODID:-//Barlow Hall Primary School - ECPv6.13.2.1//NONSGML v1.0//EN
CALSCALE:GREGORIAN
METHOD:PUBLISH
X-WR-CALNAME:Barlow Hall Primary School
X-ORIGINAL-URL:https://barlowhallprimary.co.uk
X-WR-CALDESC:Events for Barlow Hall Primary School
REFRESH-INTERVAL;VALUE=DURATION:PT1H
X-Robots-Tag:noindex
X-PUBLISHED-TTL:PT1H
BEGIN:VTIMEZONE
TZID:Europe/London
BEGIN:DAYLIGHT
TZOFFSETFROM:+0000
TZOFFSETTO:+0100
TZNAME:BST
DTSTART:20250330T010000
END:DAYLIGHT
BEGIN:STANDARD
TZOFFSETFROM:+0100
TZOFFSETTO:+0000
TZNAME:GMT
DTSTART:20251026T010000
END:STANDARD
END:VTIMEZONE
BEGIN:VEVENT
DTSTART;TZID=Europe/London:20250124T100000
DTEND;TZID=Europe/London:20250124T110000
DTSTAMP:20260425T032234
CREATED:20250113T103355Z
LAST-MODIFIED:20250124T104725Z
UID:14950-1737712800-1737716400@barlowhallprimary.co.uk
SUMMARY:AC Assembly
DESCRIPTION:
URL:https://barlowhallprimary.co.uk/event/ac-assembly-129/
END:VEVENT
BEGIN:VEVENT
DTSTART;TZID=Europe/London:20250124T100000
DTEND;TZID=Europe/London:20250124T110000
DTSTAMP:20260425T032234
CREATED:20250109T094740Z
LAST-MODIFIED:20250124T104725Z
UID:14803-1737712800-1737716400@barlowhallprimary.co.uk
SUMMARY:Great British Birdwatch for schools 2025
DESCRIPTION:
URL:https://barlowhallprimary.co.uk/event/great-british-birdwatch-for-schools-2025/
END:VEVENT
BEGIN:VEVENT
DTSTART;TZID=Europe/London:20250124T100000
DTEND;TZID=Europe/London:20250124T103000
DTSTAMP:20260425T032234
CREATED:20250113T103355Z
LAST-MODIFIED:20250124T094723Z
UID:14949-1737712800-1737714600@barlowhallprimary.co.uk
SUMMARY:AC Assembly
DESCRIPTION:
URL:https://barlowhallprimary.co.uk/event/ac-assembly-128/
END:VEVENT
BEGIN:VEVENT
DTSTART;TZID=Europe/London:20250124T100000
DTEND;TZID=Europe/London:20250124T103000
DTSTAMP:20260425T032234
CREATED:20241105T101142Z
LAST-MODIFIED:20250113T093230Z
UID:12189-1737712800-1737714600@barlowhallprimary.co.uk
SUMMARY:AC Assembly
DESCRIPTION:
URL:https://barlowhallprimary.co.uk/event/ac-assembly-12/
END:VEVENT
BEGIN:VEVENT
DTSTART;TZID=Europe/London:20250124T100000
DTEND;TZID=Europe/London:20250124T103000
DTSTAMP:20260425T032234
CREATED:20241105T091156Z
LAST-MODIFIED:20241105T091156Z
UID:12076-1737712800-1737714600@barlowhallprimary.co.uk
SUMMARY:Remembrance Assembly
DESCRIPTION:
URL:https://barlowhallprimary.co.uk/event/remembrance-assembly-12/
END:VEVENT
BEGIN:VEVENT
DTSTART;VALUE=DATE:20250124
DTEND;VALUE=DATE:20250125
DTSTAMP:20260425T032234
CREATED:20240905T111735Z
LAST-MODIFIED:20250124T234731Z
UID:9941-1737676800-1737763199@barlowhallprimary.co.uk
SUMMARY:City in the Community sessions Y1/2/3/5 and 6
DESCRIPTION:
URL:https://barlowhallprimary.co.uk/event/city-in-the-community-sessions-y1-2-3-5-and-6-20/
END:VEVENT
BEGIN:VEVENT
DTSTART;TZID=Europe/London:20250123T131500
DTEND;TZID=Europe/London:20250123T141500
DTSTAMP:20260425T032234
CREATED:20241031T125636Z
LAST-MODIFIED:20250123T130216Z
UID:11675-1737638100-1737641700@barlowhallprimary.co.uk
SUMMARY:Sure Start Cheeky Chops Playtime Parent and Toddler session KS1 Hall
DESCRIPTION:
URL:https://barlowhallprimary.co.uk/event/sure-start-cheeky-chops-playtime-parent-and-toddler-session-ks1-hall-12/
END:VEVENT
BEGIN:VEVENT
DTSTART;TZID=Europe/London:20250123T090000
DTEND;TZID=Europe/London:20250123T100000
DTSTAMP:20260425T032234
CREATED:20240919T114708Z
LAST-MODIFIED:20250123T094718Z
UID:10550-1737622800-1737626400@barlowhallprimary.co.uk
SUMMARY:Inclusion coffee morning / drop-in with Parent/Carer Forum
DESCRIPTION:
URL:https://barlowhallprimary.co.uk/event/inclusion-coffee-morning-drop-in/
END:VEVENT
BEGIN:VEVENT
DTSTART;VALUE=DATE:20250123
DTEND;VALUE=DATE:20250124
DTSTAMP:20260425T032234
CREATED:20240323T073603Z
LAST-MODIFIED:20240603T091434Z
UID:3980-1737590400-1737676799@barlowhallprimary.co.uk
SUMMARY:City Thrive programme starting for year 6s
DESCRIPTION:
URL:https://barlowhallprimary.co.uk/event/city-thrive-programme-starting-for-year-6s-41/
END:VEVENT
BEGIN:VEVENT
DTSTART;TZID=Europe/London:20250122T154500
DTEND;TZID=Europe/London:20250122T173000
DTSTAMP:20260425T032234
CREATED:20250115T143217Z
LAST-MODIFIED:20250122T170222Z
UID:15245-1737560700-1737567000@barlowhallprimary.co.uk
SUMMARY:Basketball Inspire Competition  at Whalley Range
DESCRIPTION:
URL:https://barlowhallprimary.co.uk/event/basketball-inspire-competition-at-whalley-range/
END:VEVENT
BEGIN:VEVENT
DTSTART;TZID=Europe/London:20250121T143000
DTEND;TZID=Europe/London:20250121T150000
DTSTAMP:20260425T032234
CREATED:20241125T124206Z
LAST-MODIFIED:20241219T101726Z
UID:13292-1737469800-1737471600@barlowhallprimary.co.uk
SUMMARY:Oracy Assembly
DESCRIPTION:
URL:https://barlowhallprimary.co.uk/event/oracy-assembly-6/
END:VEVENT
BEGIN:VEVENT
DTSTART;TZID=Europe/London:20250120T080000
DTEND;TZID=Europe/London:20250120T090000
DTSTAMP:20260425T032234
CREATED:20250109T124720Z
LAST-MODIFIED:20250120T081737Z
UID:14825-1737360000-1737363600@barlowhallprimary.co.uk
SUMMARY:Ikea delivery for EYFS
DESCRIPTION:
URL:https://barlowhallprimary.co.uk/event/ikea-delivery-for-eyfs/
END:VEVENT
BEGIN:VEVENT
DTSTART;TZID=Europe/London:20250117T100000
DTEND;TZID=Europe/London:20250117T110000
DTSTAMP:20260425T032234
CREATED:20241105T101142Z
LAST-MODIFIED:20250113T093230Z
UID:12188-1737108000-1737111600@barlowhallprimary.co.uk
SUMMARY:AC Assembly
DESCRIPTION:
URL:https://barlowhallprimary.co.uk/event/ac-assembly-11/
END:VEVENT
BEGIN:VEVENT
DTSTART;TZID=Europe/London:20250117T100000
DTEND;TZID=Europe/London:20250117T103000
DTSTAMP:20260425T032234
CREATED:20241105T101142Z
LAST-MODIFIED:20250113T093230Z
UID:12187-1737108000-1737109800@barlowhallprimary.co.uk
SUMMARY:AC Assembly
DESCRIPTION:
URL:https://barlowhallprimary.co.uk/event/ac-assembly-10/
END:VEVENT
BEGIN:VEVENT
DTSTART;TZID=Europe/London:20250117T100000
DTEND;TZID=Europe/London:20250117T103000
DTSTAMP:20260425T032234
CREATED:20241105T091156Z
LAST-MODIFIED:20241105T091156Z
UID:12075-1737108000-1737109800@barlowhallprimary.co.uk
SUMMARY:Remembrance Assembly
DESCRIPTION:
URL:https://barlowhallprimary.co.uk/event/remembrance-assembly-11/
END:VEVENT
BEGIN:VEVENT
DTSTART;VALUE=DATE:20250117
DTEND;VALUE=DATE:20250118
DTSTAMP:20260425T032234
CREATED:20240905T111735Z
LAST-MODIFIED:20250117T233241Z
UID:9940-1737072000-1737158399@barlowhallprimary.co.uk
SUMMARY:City in the Community sessions Y1/2/3/5 and 6
DESCRIPTION:
URL:https://barlowhallprimary.co.uk/event/city-in-the-community-sessions-y1-2-3-5-and-6-19/
END:VEVENT
BEGIN:VEVENT
DTSTART;TZID=Europe/London:20250116T131500
DTEND;TZID=Europe/London:20250116T141500
DTSTAMP:20260425T032234
CREATED:20241031T125636Z
LAST-MODIFIED:20250116T134744Z
UID:11674-1737033300-1737036900@barlowhallprimary.co.uk
SUMMARY:Sure Start Cheeky Chops Playtime Parent and Toddler session KS1 Hall
DESCRIPTION:
URL:https://barlowhallprimary.co.uk/event/sure-start-cheeky-chops-playtime-parent-and-toddler-session-ks1-hall-11/
END:VEVENT
BEGIN:VEVENT
DTSTART;VALUE=DATE:20250116
DTEND;VALUE=DATE:20250117
DTSTAMP:20260425T032234
CREATED:20240323T073603Z
LAST-MODIFIED:20240603T091434Z
UID:3979-1736985600-1737071999@barlowhallprimary.co.uk
SUMMARY:City Thrive programme starting for year 6s
DESCRIPTION:
URL:https://barlowhallprimary.co.uk/event/city-thrive-programme-starting-for-year-6s-40/
END:VEVENT
BEGIN:VEVENT
DTSTART;TZID=Europe/London:20250113T113000
DTEND;TZID=Europe/London:20250113T150000
DTSTAMP:20260425T032234
CREATED:20241211T141717Z
LAST-MODIFIED:20250113T144744Z
UID:13996-1736767800-1736780400@barlowhallprimary.co.uk
SUMMARY:Y5/6 Boys Football Tournament - the Cliff Training Ground in Salford
DESCRIPTION:
URL:https://barlowhallprimary.co.uk/event/y5-6-boys-football-tournament-the-cliff-training-ground-in-salford/
END:VEVENT
BEGIN:VEVENT
DTSTART;VALUE=DATE:20250113
DTEND;VALUE=DATE:20250114
DTSTAMP:20260425T032234
CREATED:20241105T112653Z
LAST-MODIFIED:20250113T234750Z
UID:12315-1736726400-1736812799@barlowhallprimary.co.uk
SUMMARY:Maths Evidence trail
DESCRIPTION:
URL:https://barlowhallprimary.co.uk/event/maths-evidence-trail/
END:VEVENT
BEGIN:VEVENT
DTSTART;TZID=Europe/London:20250110T100000
DTEND;TZID=Europe/London:20250110T103000
DTSTAMP:20260425T032234
CREATED:20241105T101142Z
LAST-MODIFIED:20250110T093258Z
UID:12186-1736503200-1736505000@barlowhallprimary.co.uk
SUMMARY:AC Assembly
DESCRIPTION:
URL:https://barlowhallprimary.co.uk/event/ac-assembly-9/
END:VEVENT
BEGIN:VEVENT
DTSTART;TZID=Europe/London:20250110T100000
DTEND;TZID=Europe/London:20250110T103000
DTSTAMP:20260425T032234
CREATED:20241105T091156Z
LAST-MODIFIED:20241105T091156Z
UID:12074-1736503200-1736505000@barlowhallprimary.co.uk
SUMMARY:Remembrance Assembly
DESCRIPTION:
URL:https://barlowhallprimary.co.uk/event/remembrance-assembly-10/
END:VEVENT
BEGIN:VEVENT
DTSTART;VALUE=DATE:20250110
DTEND;VALUE=DATE:20250111
DTSTAMP:20260425T032234
CREATED:20241105T112653Z
LAST-MODIFIED:20250110T231736Z
UID:12313-1736467200-1736553599@barlowhallprimary.co.uk
SUMMARY:Curriculum Overview out to parents/carers
DESCRIPTION:
URL:https://barlowhallprimary.co.uk/event/curriculum-overview-out-to-parents-carers/
END:VEVENT
BEGIN:VEVENT
DTSTART;VALUE=DATE:20250110
DTEND;VALUE=DATE:20250111
DTSTAMP:20260425T032234
CREATED:20240905T111735Z
LAST-MODIFIED:20250110T231736Z
UID:9939-1736467200-1736553599@barlowhallprimary.co.uk
SUMMARY:City in the Community sessions Y1/2/3/5 and 6
DESCRIPTION:
URL:https://barlowhallprimary.co.uk/event/city-in-the-community-sessions-y1-2-3-5-and-6-18/
END:VEVENT
BEGIN:VEVENT
DTSTART;TZID=Europe/London:20250109T131500
DTEND;TZID=Europe/London:20250109T141500
DTSTAMP:20260425T032234
CREATED:20241031T125636Z
LAST-MODIFIED:20250109T140217Z
UID:11673-1736428500-1736432100@barlowhallprimary.co.uk
SUMMARY:Sure Start Cheeky Chops Playtime Parent and Toddler session KS1 Hall
DESCRIPTION:
URL:https://barlowhallprimary.co.uk/event/sure-start-cheeky-chops-playtime-parent-and-toddler-session-ks1-hall-10/
END:VEVENT
BEGIN:VEVENT
DTSTART;TZID=Europe/London:20250109T090000
DTEND;TZID=Europe/London:20250109T120000
DTSTAMP:20260425T032234
CREATED:20241011T135637Z
LAST-MODIFIED:20250109T114737Z
UID:11158-1736413200-1736424000@barlowhallprimary.co.uk
SUMMARY:Reception Vision  and Hearing Tests
DESCRIPTION:
URL:https://barlowhallprimary.co.uk/event/reception-vision-and-hearing-tests/
END:VEVENT
BEGIN:VEVENT
DTSTART;VALUE=DATE:20250109
DTEND;VALUE=DATE:20250110
DTSTAMP:20260425T032234
CREATED:20240323T073603Z
LAST-MODIFIED:20240603T091434Z
UID:3978-1736380800-1736467199@barlowhallprimary.co.uk
SUMMARY:City Thrive programme starting for year 6s
DESCRIPTION:
URL:https://barlowhallprimary.co.uk/event/city-thrive-programme-starting-for-year-6s-39/
END:VEVENT
BEGIN:VEVENT
DTSTART;TZID=Europe/London:20250107T143000
DTEND;TZID=Europe/London:20250107T150000
DTSTAMP:20260425T032234
CREATED:20241125T124205Z
LAST-MODIFIED:20250107T144716Z
UID:13291-1736260200-1736262000@barlowhallprimary.co.uk
SUMMARY:Oracy Assembly
DESCRIPTION:
URL:https://barlowhallprimary.co.uk/event/oracy-assembly-5/
END:VEVENT
BEGIN:VEVENT
DTSTART;VALUE=DATE:20250106
DTEND;VALUE=DATE:20250107
DTSTAMP:20260425T032234
CREATED:20240606T122932Z
LAST-MODIFIED:20250106T231727Z
UID:6701-1736121600-1736207999@barlowhallprimary.co.uk
SUMMARY:Return to school
DESCRIPTION:
URL:https://barlowhallprimary.co.uk/event/return-to-school-4/
END:VEVENT
BEGIN:VEVENT
DTSTART;TZID=Europe/London:20250103T100000
DTEND;TZID=Europe/London:20250103T110000
DTSTAMP:20260425T032234
CREATED:20241105T101142Z
LAST-MODIFIED:20241127T091734Z
UID:12185-1735898400-1735902000@barlowhallprimary.co.uk
SUMMARY:AC Assembly
DESCRIPTION:
URL:https://barlowhallprimary.co.uk/event/ac-assembly-8/
END:VEVENT
END:VCALENDAR