BEGIN:VCALENDAR
VERSION:2.0
PRODID:-//Barlow Hall Primary School - ECPv6.13.2.1//NONSGML v1.0//EN
CALSCALE:GREGORIAN
METHOD:PUBLISH
X-WR-CALNAME:Barlow Hall Primary School
X-ORIGINAL-URL:https://barlowhallprimary.co.uk
X-WR-CALDESC:Events for Barlow Hall Primary School
REFRESH-INTERVAL;VALUE=DURATION:PT1H
X-Robots-Tag:noindex
X-PUBLISHED-TTL:PT1H
BEGIN:VTIMEZONE
TZID:Europe/London
BEGIN:DAYLIGHT
TZOFFSETFROM:+0000
TZOFFSETTO:+0100
TZNAME:BST
DTSTART:20250330T010000
END:DAYLIGHT
BEGIN:STANDARD
TZOFFSETFROM:+0100
TZOFFSETTO:+0000
TZNAME:GMT
DTSTART:20251026T010000
END:STANDARD
END:VTIMEZONE
BEGIN:VEVENT
DTSTART;VALUE=DATE:20250213
DTEND;VALUE=DATE:20250214
DTSTAMP:20260425T002212
CREATED:20240323T073604Z
LAST-MODIFIED:20240603T091434Z
UID:3983-1739404800-1739491199@barlowhallprimary.co.uk
SUMMARY:City Thrive programme starting for year 6s
DESCRIPTION:
URL:https://barlowhallprimary.co.uk/event/city-thrive-programme-starting-for-year-6s-44/
END:VEVENT
BEGIN:VEVENT
DTSTART;TZID=Europe/London:20250211T143000
DTEND;TZID=Europe/London:20250211T150000
DTSTAMP:20260425T002212
CREATED:20241219T111739Z
LAST-MODIFIED:20250211T144842Z
UID:14216-1739284200-1739286000@barlowhallprimary.co.uk
SUMMARY:Oracy Assembly
DESCRIPTION:
URL:https://barlowhallprimary.co.uk/event/oracy-assembly-20/
END:VEVENT
BEGIN:VEVENT
DTSTART;VALUE=DATE:20250210
DTEND;VALUE=DATE:20250211
DTSTAMP:20260425T002212
CREATED:20250124T104725Z
LAST-MODIFIED:20250210T233314Z
UID:15493-1739145600-1739231999@barlowhallprimary.co.uk
SUMMARY:Years 4\, and 6 Outdoor Learning Week
DESCRIPTION:
URL:https://barlowhallprimary.co.uk/event/years-4-5-and-6-outdoor-learning-week/
END:VEVENT
BEGIN:VEVENT
DTSTART;VALUE=DATE:20250210
DTEND;VALUE=DATE:20250211
DTSTAMP:20260425T002212
CREATED:20250117T083237Z
LAST-MODIFIED:20250210T233314Z
UID:15289-1739145600-1739231999@barlowhallprimary.co.uk
SUMMARY:Ghyll Head Residential
DESCRIPTION:
URL:https://barlowhallprimary.co.uk/event/ghyll-head-residential-2/
END:VEVENT
BEGIN:VEVENT
DTSTART;TZID=Europe/London:20250207T100000
DTEND;TZID=Europe/London:20250207T110000
DTSTAMP:20260425T002212
CREATED:20250113T103357Z
LAST-MODIFIED:20250207T104731Z
UID:14954-1738922400-1738926000@barlowhallprimary.co.uk
SUMMARY:AC Whole School Assembly - Mental health week
DESCRIPTION:
URL:https://barlowhallprimary.co.uk/event/ac-assembly-131/
END:VEVENT
BEGIN:VEVENT
DTSTART;TZID=Europe/London:20250207T100000
DTEND;TZID=Europe/London:20250207T103000
DTSTAMP:20260425T002212
CREATED:20250113T103357Z
LAST-MODIFIED:20250207T094715Z
UID:14955-1738922400-1738924200@barlowhallprimary.co.uk
SUMMARY:AC Whole School Assembly - Mental Health Week
DESCRIPTION:
URL:https://barlowhallprimary.co.uk/event/ac-assembly-132/
END:VEVENT
BEGIN:VEVENT
DTSTART;TZID=Europe/London:20250207T100000
DTEND;TZID=Europe/London:20250207T103000
DTSTAMP:20260425T002212
CREATED:20241105T101142Z
LAST-MODIFIED:20250113T093231Z
UID:12192-1738922400-1738924200@barlowhallprimary.co.uk
SUMMARY:AC Assembly
DESCRIPTION:
URL:https://barlowhallprimary.co.uk/event/ac-assembly-15/
END:VEVENT
BEGIN:VEVENT
DTSTART;TZID=Europe/London:20250207T100000
DTEND;TZID=Europe/London:20250207T103000
DTSTAMP:20260425T002212
CREATED:20241105T091157Z
LAST-MODIFIED:20241105T091157Z
UID:12078-1738922400-1738924200@barlowhallprimary.co.uk
SUMMARY:Remembrance Assembly
DESCRIPTION:
URL:https://barlowhallprimary.co.uk/event/remembrance-assembly-14/
END:VEVENT
BEGIN:VEVENT
DTSTART;VALUE=DATE:20250207
DTEND;VALUE=DATE:20250208
DTSTAMP:20260425T002212
CREATED:20240905T111735Z
LAST-MODIFIED:20250207T231751Z
UID:9943-1738886400-1738972799@barlowhallprimary.co.uk
SUMMARY:City in the Community sessions Y1/2/3/5 and 6
DESCRIPTION:
URL:https://barlowhallprimary.co.uk/event/city-in-the-community-sessions-y1-2-3-5-and-6-22/
END:VEVENT
BEGIN:VEVENT
DTSTART;TZID=Europe/London:20250206T131500
DTEND;TZID=Europe/London:20250206T141500
DTSTAMP:20260425T002212
CREATED:20241031T125636Z
LAST-MODIFIED:20250206T140219Z
UID:11677-1738847700-1738851300@barlowhallprimary.co.uk
SUMMARY:Sure Start Cheeky Chops Playtime Parent and Toddler session KS1 Hall
DESCRIPTION:
URL:https://barlowhallprimary.co.uk/event/sure-start-cheeky-chops-playtime-parent-and-toddler-session-ks1-hall-14/
END:VEVENT
BEGIN:VEVENT
DTSTART;VALUE=DATE:20250206
DTEND;VALUE=DATE:20250207
DTSTAMP:20260425T002212
CREATED:20240323T073604Z
LAST-MODIFIED:20240603T091434Z
UID:3982-1738800000-1738886399@barlowhallprimary.co.uk
SUMMARY:City Thrive programme starting for year 6s
DESCRIPTION:
URL:https://barlowhallprimary.co.uk/event/city-thrive-programme-starting-for-year-6s-43/
END:VEVENT
BEGIN:VEVENT
DTSTART;TZID=Europe/London:20250204T143000
DTEND;TZID=Europe/London:20250204T150000
DTSTAMP:20260425T002212
CREATED:20241125T124206Z
LAST-MODIFIED:20241219T101727Z
UID:13293-1738679400-1738681200@barlowhallprimary.co.uk
SUMMARY:Oracy Assembly
DESCRIPTION:
URL:https://barlowhallprimary.co.uk/event/oracy-assembly-7/
END:VEVENT
BEGIN:VEVENT
DTSTART;VALUE=DATE:20250203
DTEND;VALUE=DATE:20250204
DTSTAMP:20260425T002212
CREATED:20241105T155638Z
LAST-MODIFIED:20250203T233215Z
UID:12433-1738540800-1738627199@barlowhallprimary.co.uk
SUMMARY:Place2Be Children’s Mental Health Week
DESCRIPTION:
URL:https://barlowhallprimary.co.uk/event/place2be-childrens-mental-health-week/
END:VEVENT
BEGIN:VEVENT
DTSTART;TZID=Europe/London:20250131T100000
DTEND;TZID=Europe/London:20250131T110000
DTSTAMP:20260425T002212
CREATED:20241105T101142Z
LAST-MODIFIED:20250113T093230Z
UID:12191-1738317600-1738321200@barlowhallprimary.co.uk
SUMMARY:AC Assembly
DESCRIPTION:
URL:https://barlowhallprimary.co.uk/event/ac-assembly-14/
END:VEVENT
BEGIN:VEVENT
DTSTART;TZID=Europe/London:20250131T100000
DTEND;TZID=Europe/London:20250131T103000
DTSTAMP:20260425T002212
CREATED:20250113T103356Z
LAST-MODIFIED:20250131T100234Z
UID:14953-1738317600-1738319400@barlowhallprimary.co.uk
SUMMARY:AC Assembly
DESCRIPTION:
URL:https://barlowhallprimary.co.uk/event/ac-assembly-130/
END:VEVENT
BEGIN:VEVENT
DTSTART;TZID=Europe/London:20250131T100000
DTEND;TZID=Europe/London:20250131T103000
DTSTAMP:20260425T002212
CREATED:20241105T101142Z
LAST-MODIFIED:20250113T093230Z
UID:12190-1738317600-1738319400@barlowhallprimary.co.uk
SUMMARY:AC Assembly
DESCRIPTION:
URL:https://barlowhallprimary.co.uk/event/ac-assembly-13/
END:VEVENT
BEGIN:VEVENT
DTSTART;TZID=Europe/London:20250131T100000
DTEND;TZID=Europe/London:20250131T103000
DTSTAMP:20260425T002212
CREATED:20241105T091156Z
LAST-MODIFIED:20241105T091156Z
UID:12077-1738317600-1738319400@barlowhallprimary.co.uk
SUMMARY:Remembrance Assembly
DESCRIPTION:
URL:https://barlowhallprimary.co.uk/event/remembrance-assembly-13/
END:VEVENT
BEGIN:VEVENT
DTSTART;VALUE=DATE:20250131
DTEND;VALUE=DATE:20250201
DTSTAMP:20260425T002212
CREATED:20240905T111735Z
LAST-MODIFIED:20250131T233237Z
UID:9942-1738281600-1738367999@barlowhallprimary.co.uk
SUMMARY:City in the Community sessions Y1/2/3/5 and 6
DESCRIPTION:
URL:https://barlowhallprimary.co.uk/event/city-in-the-community-sessions-y1-2-3-5-and-6-21/
END:VEVENT
BEGIN:VEVENT
DTSTART;TZID=Europe/London:20250130T131500
DTEND;TZID=Europe/London:20250130T141500
DTSTAMP:20260425T002212
CREATED:20241031T125636Z
LAST-MODIFIED:20250130T140233Z
UID:11676-1738242900-1738246500@barlowhallprimary.co.uk
SUMMARY:Sure Start Cheeky Chops Playtime Parent and Toddler session KS1 Hall
DESCRIPTION:
URL:https://barlowhallprimary.co.uk/event/sure-start-cheeky-chops-playtime-parent-and-toddler-session-ks1-hall-13/
END:VEVENT
BEGIN:VEVENT
DTSTART;VALUE=DATE:20250130
DTEND;VALUE=DATE:20250131
DTSTAMP:20260425T002212
CREATED:20240323T073604Z
LAST-MODIFIED:20240603T091434Z
UID:3981-1738195200-1738281599@barlowhallprimary.co.uk
SUMMARY:City Thrive programme starting for year 6s
DESCRIPTION:
URL:https://barlowhallprimary.co.uk/event/city-thrive-programme-starting-for-year-6s-42/
END:VEVENT
BEGIN:VEVENT
DTSTART;TZID=Europe/London:20250129T103000
DTEND;TZID=Europe/London:20250129T140000
DTSTAMP:20260425T002212
CREATED:20250109T124720Z
LAST-MODIFIED:20250129T134732Z
UID:14826-1738146600-1738159200@barlowhallprimary.co.uk
SUMMARY:Reception Class trip to Chinatown in Manchester.  
DESCRIPTION:
URL:https://barlowhallprimary.co.uk/event/reception-class-trip-to-chinatown-in-manchester/
END:VEVENT
BEGIN:VEVENT
DTSTART;TZID=Europe/London:20250129T090000
DTEND;TZID=Europe/London:20250129T120000
DTSTAMP:20260425T002212
CREATED:20250114T133224Z
LAST-MODIFIED:20250129T114720Z
UID:15214-1738141200-1738152000@barlowhallprimary.co.uk
SUMMARY:Mammal workshop - Dogs Year 2 4 5 and 6
DESCRIPTION:
URL:https://barlowhallprimary.co.uk/event/mammal-workshop-dogs-year-2-4-5-and-6/
END:VEVENT
BEGIN:VEVENT
DTSTART;TZID=Europe/London:20250128T143000
DTEND;TZID=Europe/London:20250128T150000
DTSTAMP:20260425T002212
CREATED:20241219T111739Z
LAST-MODIFIED:20250128T143213Z
UID:14215-1738074600-1738076400@barlowhallprimary.co.uk
SUMMARY:Oracy Assembly
DESCRIPTION:
URL:https://barlowhallprimary.co.uk/event/oracy-assembly-19/
END:VEVENT
BEGIN:VEVENT
DTSTART;TZID=Europe/London:20250127T113000
DTEND;TZID=Europe/London:20250127T150000
DTSTAMP:20260425T002212
CREATED:20241211T141718Z
LAST-MODIFIED:20250127T141723Z
UID:13997-1737977400-1737990000@barlowhallprimary.co.uk
SUMMARY:SS/AV out Y5/6 Girls Football Tournament - The Cliff
DESCRIPTION:
URL:https://barlowhallprimary.co.uk/event/ss-av-out-y5-6-girls-football-tournament-the-cliff/
END:VEVENT
BEGIN:VEVENT
DTSTART;TZID=Europe/London:20250124T100000
DTEND;TZID=Europe/London:20250124T110000
DTSTAMP:20260425T002212
CREATED:20250113T103355Z
LAST-MODIFIED:20250124T104725Z
UID:14950-1737712800-1737716400@barlowhallprimary.co.uk
SUMMARY:AC Assembly
DESCRIPTION:
URL:https://barlowhallprimary.co.uk/event/ac-assembly-129/
END:VEVENT
BEGIN:VEVENT
DTSTART;TZID=Europe/London:20250124T100000
DTEND;TZID=Europe/London:20250124T110000
DTSTAMP:20260425T002212
CREATED:20250109T094740Z
LAST-MODIFIED:20250124T104725Z
UID:14803-1737712800-1737716400@barlowhallprimary.co.uk
SUMMARY:Great British Birdwatch for schools 2025
DESCRIPTION:
URL:https://barlowhallprimary.co.uk/event/great-british-birdwatch-for-schools-2025/
END:VEVENT
BEGIN:VEVENT
DTSTART;TZID=Europe/London:20250124T100000
DTEND;TZID=Europe/London:20250124T103000
DTSTAMP:20260425T002212
CREATED:20250113T103355Z
LAST-MODIFIED:20250124T094723Z
UID:14949-1737712800-1737714600@barlowhallprimary.co.uk
SUMMARY:AC Assembly
DESCRIPTION:
URL:https://barlowhallprimary.co.uk/event/ac-assembly-128/
END:VEVENT
BEGIN:VEVENT
DTSTART;TZID=Europe/London:20250124T100000
DTEND;TZID=Europe/London:20250124T103000
DTSTAMP:20260425T002212
CREATED:20241105T101142Z
LAST-MODIFIED:20250113T093230Z
UID:12189-1737712800-1737714600@barlowhallprimary.co.uk
SUMMARY:AC Assembly
DESCRIPTION:
URL:https://barlowhallprimary.co.uk/event/ac-assembly-12/
END:VEVENT
BEGIN:VEVENT
DTSTART;TZID=Europe/London:20250124T100000
DTEND;TZID=Europe/London:20250124T103000
DTSTAMP:20260425T002212
CREATED:20241105T091156Z
LAST-MODIFIED:20241105T091156Z
UID:12076-1737712800-1737714600@barlowhallprimary.co.uk
SUMMARY:Remembrance Assembly
DESCRIPTION:
URL:https://barlowhallprimary.co.uk/event/remembrance-assembly-12/
END:VEVENT
BEGIN:VEVENT
DTSTART;VALUE=DATE:20250124
DTEND;VALUE=DATE:20250125
DTSTAMP:20260425T002212
CREATED:20240905T111735Z
LAST-MODIFIED:20250124T234731Z
UID:9941-1737676800-1737763199@barlowhallprimary.co.uk
SUMMARY:City in the Community sessions Y1/2/3/5 and 6
DESCRIPTION:
URL:https://barlowhallprimary.co.uk/event/city-in-the-community-sessions-y1-2-3-5-and-6-20/
END:VEVENT
END:VCALENDAR