BEGIN:VCALENDAR
VERSION:2.0
PRODID:-//Barlow Hall Primary School - ECPv6.13.2.1//NONSGML v1.0//EN
CALSCALE:GREGORIAN
METHOD:PUBLISH
X-ORIGINAL-URL:https://barlowhallprimary.co.uk
X-WR-CALDESC:Events for Barlow Hall Primary School
REFRESH-INTERVAL;VALUE=DURATION:PT1H
X-Robots-Tag:noindex
X-PUBLISHED-TTL:PT1H
BEGIN:VTIMEZONE
TZID:Europe/London
BEGIN:DAYLIGHT
TZOFFSETFROM:+0000
TZOFFSETTO:+0100
TZNAME:BST
DTSTART:20280326T010000
END:DAYLIGHT
BEGIN:STANDARD
TZOFFSETFROM:+0100
TZOFFSETTO:+0000
TZNAME:GMT
DTSTART:20281029T010000
END:STANDARD
END:VTIMEZONE
BEGIN:VEVENT
DTSTART;TZID=Europe/London:20280221T095000
DTEND;TZID=Europe/London:20280221T102000
DTSTAMP:20260424T175612
CREATED:20260301T114240Z
LAST-MODIFIED:20260301T114240Z
UID:23398-1834739400-1834741200@barlowhallprimary.co.uk
SUMMARY:Celebration assembly
DESCRIPTION:
URL:https://barlowhallprimary.co.uk/event/celebration-assembly-151/
END:VEVENT
BEGIN:VEVENT
DTSTART;TZID=Europe/London:20280222T100000
DTEND;TZID=Europe/London:20280222T102000
DTSTAMP:20260424T175612
CREATED:20260301T114240Z
LAST-MODIFIED:20260301T114240Z
UID:23399-1834826400-1834827600@barlowhallprimary.co.uk
SUMMARY:Oracy Assembly - fortnightly
DESCRIPTION:
URL:https://barlowhallprimary.co.uk/event/oracy-assembly-fortnightly-61/
END:VEVENT
BEGIN:VEVENT
DTSTART;TZID=Europe/London:20280225T095000
DTEND;TZID=Europe/London:20280225T102000
DTSTAMP:20260424T175612
CREATED:20260301T114240Z
LAST-MODIFIED:20260301T114240Z
UID:23400-1835085000-1835086800@barlowhallprimary.co.uk
SUMMARY:Themed Assembly
DESCRIPTION:
URL:https://barlowhallprimary.co.uk/event/themed-assembly-129/
END:VEVENT
BEGIN:VEVENT
DTSTART;TZID=Europe/London:20280228T095000
DTEND;TZID=Europe/London:20280228T102000
DTSTAMP:20260424T175612
CREATED:20260301T114252Z
LAST-MODIFIED:20260301T114252Z
UID:23401-1835344200-1835346000@barlowhallprimary.co.uk
SUMMARY:Celebration assembly
DESCRIPTION:
URL:https://barlowhallprimary.co.uk/event/celebration-assembly-152/
END:VEVENT
END:VCALENDAR