BEGIN:VCALENDAR
VERSION:2.0
PRODID:-//Barlow Hall Primary School - ECPv6.13.2.1//NONSGML v1.0//EN
CALSCALE:GREGORIAN
METHOD:PUBLISH
X-WR-CALNAME:Barlow Hall Primary School
X-ORIGINAL-URL:https://barlowhallprimary.co.uk
X-WR-CALDESC:Events for Barlow Hall Primary School
REFRESH-INTERVAL;VALUE=DURATION:PT1H
X-Robots-Tag:noindex
X-PUBLISHED-TTL:PT1H
BEGIN:VTIMEZONE
TZID:Europe/London
BEGIN:DAYLIGHT
TZOFFSETFROM:+0000
TZOFFSETTO:+0100
TZNAME:BST
DTSTART:20250330T010000
END:DAYLIGHT
BEGIN:STANDARD
TZOFFSETFROM:+0100
TZOFFSETTO:+0000
TZNAME:GMT
DTSTART:20251026T010000
END:STANDARD
END:VTIMEZONE
BEGIN:VEVENT
DTSTART;VALUE=DATE:20250306
DTEND;VALUE=DATE:20250307
DTSTAMP:20260424T194215
CREATED:20241105T155639Z
LAST-MODIFIED:20250306T235659Z
UID:12438-1741219200-1741305599@barlowhallprimary.co.uk
SUMMARY:World Book Day
DESCRIPTION:
URL:https://barlowhallprimary.co.uk/event/world-book-day-3/
END:VEVENT
BEGIN:VEVENT
DTSTART;VALUE=DATE:20250306
DTEND;VALUE=DATE:20250307
DTSTAMP:20260424T194215
CREATED:20240323T073604Z
LAST-MODIFIED:20240603T091434Z
UID:3986-1741219200-1741305599@barlowhallprimary.co.uk
SUMMARY:City Thrive programme starting for year 6s
DESCRIPTION:
URL:https://barlowhallprimary.co.uk/event/city-thrive-programme-starting-for-year-6s-47/
END:VEVENT
BEGIN:VEVENT
DTSTART;VALUE=DATE:20250305
DTEND;VALUE=DATE:20250306
DTSTAMP:20260424T194215
CREATED:20250207T140218Z
LAST-MODIFIED:20250305T231136Z
UID:15859-1741132800-1741219199@barlowhallprimary.co.uk
SUMMARY:Deadline to bring in rosette competition entries
DESCRIPTION:
URL:https://barlowhallprimary.co.uk/event/deadline-to-bring-in-rosette-competition-entries/
END:VEVENT
BEGIN:VEVENT
DTSTART;VALUE=DATE:20250305
DTEND;VALUE=DATE:20250306
DTSTAMP:20260424T194215
CREATED:20241216T091725Z
LAST-MODIFIED:20250305T231136Z
UID:14117-1741132800-1741219199@barlowhallprimary.co.uk
SUMMARY:Manchester City delivering workshops for KS2 classes (4 x 1 hour workshops) for a Disability Awareness Day.
DESCRIPTION:
URL:https://barlowhallprimary.co.uk/event/manchester-city-delivering-workshops-for-ks2-classes-4-x-1-hour-workshops-for-a-disability-awareness-day/
END:VEVENT
BEGIN:VEVENT
DTSTART;TZID=Europe/London:20250304T143000
DTEND;TZID=Europe/London:20250304T150000
DTSTAMP:20260424T194215
CREATED:20250207T140217Z
LAST-MODIFIED:20250304T144134Z
UID:15858-1741098600-1741100400@barlowhallprimary.co.uk
SUMMARY:Oracy Assembly
DESCRIPTION:
URL:https://barlowhallprimary.co.uk/event/oracy-assembly-32/
END:VEVENT
BEGIN:VEVENT
DTSTART;TZID=Europe/London:20250304T143000
DTEND;TZID=Europe/London:20250304T150000
DTSTAMP:20260424T194215
CREATED:20241125T124207Z
LAST-MODIFIED:20241219T101728Z
UID:13295-1741098600-1741100400@barlowhallprimary.co.uk
SUMMARY:Oracy Assembly
DESCRIPTION:
URL:https://barlowhallprimary.co.uk/event/oracy-assembly-9/
END:VEVENT
BEGIN:VEVENT
DTSTART;VALUE=DATE:20250303
DTEND;VALUE=DATE:20250304
DTSTAMP:20260424T194215
CREATED:20250207T130227Z
LAST-MODIFIED:20250303T234150Z
UID:15855-1740960000-1741046399@barlowhallprimary.co.uk
SUMMARY:Year 1 to Z Arts for WBD performance - time tbc
DESCRIPTION:
URL:https://barlowhallprimary.co.uk/event/year-1-to-z-arts-for-wbd-performance-time-tbc/
END:VEVENT
BEGIN:VEVENT
DTSTART;VALUE=DATE:20250303
DTEND;VALUE=DATE:20250304
DTSTAMP:20260424T194215
CREATED:20241105T155639Z
LAST-MODIFIED:20250303T234150Z
UID:12436-1740960000-1741046399@barlowhallprimary.co.uk
SUMMARY:Climate and Routines audit(behaviour): unstructured times
DESCRIPTION:
URL:https://barlowhallprimary.co.uk/event/climate-and-routines-auditbehaviour-unstructured-times/
END:VEVENT
BEGIN:VEVENT
DTSTART;TZID=Europe/London:20250228T100000
DTEND;TZID=Europe/London:20250228T110000
DTSTAMP:20260424T194215
CREATED:20241105T101143Z
LAST-MODIFIED:20250113T093231Z
UID:12197-1740736800-1740740400@barlowhallprimary.co.uk
SUMMARY:AC Assembly
DESCRIPTION:
URL:https://barlowhallprimary.co.uk/event/ac-assembly-20/
END:VEVENT
BEGIN:VEVENT
DTSTART;TZID=Europe/London:20250228T100000
DTEND;TZID=Europe/London:20250228T103000
DTSTAMP:20260424T194215
CREATED:20250113T103357Z
LAST-MODIFIED:20250228T101134Z
UID:14959-1740736800-1740738600@barlowhallprimary.co.uk
SUMMARY:AC Assembly
DESCRIPTION:
URL:https://barlowhallprimary.co.uk/event/ac-assembly-136/
END:VEVENT
BEGIN:VEVENT
DTSTART;TZID=Europe/London:20250228T100000
DTEND;TZID=Europe/London:20250228T103000
DTSTAMP:20260424T194215
CREATED:20241105T101143Z
LAST-MODIFIED:20250113T093231Z
UID:12196-1740736800-1740738600@barlowhallprimary.co.uk
SUMMARY:AC Assembly
DESCRIPTION:
URL:https://barlowhallprimary.co.uk/event/ac-assembly-19/
END:VEVENT
BEGIN:VEVENT
DTSTART;TZID=Europe/London:20250228T100000
DTEND;TZID=Europe/London:20250228T103000
DTSTAMP:20260424T194215
CREATED:20241105T091157Z
LAST-MODIFIED:20241105T091157Z
UID:12081-1740736800-1740738600@barlowhallprimary.co.uk
SUMMARY:Remembrance Assembly
DESCRIPTION:
URL:https://barlowhallprimary.co.uk/event/remembrance-assembly-17/
END:VEVENT
BEGIN:VEVENT
DTSTART;VALUE=DATE:20250228
DTEND;VALUE=DATE:20250301
DTSTAMP:20260424T194215
CREATED:20241105T155639Z
LAST-MODIFIED:20250228T234129Z
UID:12435-1740700800-1740787199@barlowhallprimary.co.uk
SUMMARY:Curriculum overview for Spring 2 sent out
DESCRIPTION:
URL:https://barlowhallprimary.co.uk/event/curriculum-overview-for-spring-2-sent-out/
END:VEVENT
BEGIN:VEVENT
DTSTART;VALUE=DATE:20250228
DTEND;VALUE=DATE:20250301
DTSTAMP:20260424T194215
CREATED:20240905T111735Z
LAST-MODIFIED:20250228T234129Z
UID:9946-1740700800-1740787199@barlowhallprimary.co.uk
SUMMARY:City in the Community sessions Y1/2/3/5 and 6
DESCRIPTION:
URL:https://barlowhallprimary.co.uk/event/city-in-the-community-sessions-y1-2-3-5-and-6-25/
END:VEVENT
BEGIN:VEVENT
DTSTART;TZID=Europe/London:20250227T131500
DTEND;TZID=Europe/London:20250227T141500
DTSTAMP:20260424T194215
CREATED:20241031T125636Z
LAST-MODIFIED:20250227T141132Z
UID:11680-1740662100-1740665700@barlowhallprimary.co.uk
SUMMARY:Sure Start Cheeky Chops Playtime Parent and Toddler session KS1 Hall
DESCRIPTION:
URL:https://barlowhallprimary.co.uk/event/sure-start-cheeky-chops-playtime-parent-and-toddler-session-ks1-hall-17/
END:VEVENT
BEGIN:VEVENT
DTSTART;VALUE=DATE:20250227
DTEND;VALUE=DATE:20250228
DTSTAMP:20260424T194215
CREATED:20240323T073604Z
LAST-MODIFIED:20240603T091434Z
UID:3985-1740614400-1740700799@barlowhallprimary.co.uk
SUMMARY:City Thrive programme starting for year 6s
DESCRIPTION:
URL:https://barlowhallprimary.co.uk/event/city-thrive-programme-starting-for-year-6s-46/
END:VEVENT
BEGIN:VEVENT
DTSTART;TZID=Europe/London:20250225T143000
DTEND;TZID=Europe/London:20250225T150000
DTSTAMP:20260424T194215
CREATED:20241219T111739Z
LAST-MODIFIED:20250225T144139Z
UID:14217-1740493800-1740495600@barlowhallprimary.co.uk
SUMMARY:Oracy Assembly
DESCRIPTION:
URL:https://barlowhallprimary.co.uk/event/oracy-assembly-21/
END:VEVENT
BEGIN:VEVENT
DTSTART;TZID=Europe/London:20250225T100000
DTEND;TZID=Europe/London:20250225T143000
DTSTAMP:20260424T194215
CREATED:20241219T133224Z
LAST-MODIFIED:20250225T134129Z
UID:14248-1740477600-1740493800@barlowhallprimary.co.uk
SUMMARY:Y6 to  IWM North
DESCRIPTION:
URL:https://barlowhallprimary.co.uk/event/y6-to-iwm-north/
END:VEVENT
BEGIN:VEVENT
DTSTART;VALUE=DATE:20250225
DTEND;VALUE=DATE:20250226
DTSTAMP:20260424T194215
CREATED:20241105T155638Z
LAST-MODIFIED:20250225T231159Z
UID:12434-1740441600-1740527999@barlowhallprimary.co.uk
SUMMARY:Safer Internet Day
DESCRIPTION:
URL:https://barlowhallprimary.co.uk/event/safer-internet-day-2/
END:VEVENT
BEGIN:VEVENT
DTSTART;VALUE=DATE:20250224
DTEND;VALUE=DATE:20250225
DTSTAMP:20260424T194215
CREATED:20250211T093314Z
LAST-MODIFIED:20250224T231140Z
UID:15966-1740355200-1740441599@barlowhallprimary.co.uk
SUMMARY:Eggs arrive in school ready for hatching
DESCRIPTION:
URL:https://barlowhallprimary.co.uk/event/eggs-arrive-in-school-ready-for-hatching/
END:VEVENT
BEGIN:VEVENT
DTSTART;VALUE=DATE:20250224
DTEND;VALUE=DATE:20250225
DTSTAMP:20260424T194215
CREATED:20240606T122932Z
LAST-MODIFIED:20250224T231140Z
UID:6702-1740355200-1740441599@barlowhallprimary.co.uk
SUMMARY:Return to school
DESCRIPTION:
URL:https://barlowhallprimary.co.uk/event/return-to-school-5/
END:VEVENT
BEGIN:VEVENT
DTSTART;TZID=Europe/London:20250221T100000
DTEND;TZID=Europe/London:20250221T110000
DTSTAMP:20260424T194215
CREATED:20250113T103357Z
LAST-MODIFIED:20250207T161722Z
UID:14957-1740132000-1740135600@barlowhallprimary.co.uk
SUMMARY:AC Assembly
DESCRIPTION:
URL:https://barlowhallprimary.co.uk/event/ac-assembly-134/
END:VEVENT
BEGIN:VEVENT
DTSTART;TZID=Europe/London:20250221T100000
DTEND;TZID=Europe/London:20250221T103000
DTSTAMP:20260424T194215
CREATED:20250113T103357Z
LAST-MODIFIED:20250207T161722Z
UID:14958-1740132000-1740133800@barlowhallprimary.co.uk
SUMMARY:AC Assembly
DESCRIPTION:
URL:https://barlowhallprimary.co.uk/event/ac-assembly-135/
END:VEVENT
BEGIN:VEVENT
DTSTART;TZID=Europe/London:20250221T100000
DTEND;TZID=Europe/London:20250221T103000
DTSTAMP:20260424T194215
CREATED:20241105T101143Z
LAST-MODIFIED:20250113T093231Z
UID:12195-1740132000-1740133800@barlowhallprimary.co.uk
SUMMARY:AC Assembly
DESCRIPTION:
URL:https://barlowhallprimary.co.uk/event/ac-assembly-18/
END:VEVENT
BEGIN:VEVENT
DTSTART;TZID=Europe/London:20250221T100000
DTEND;TZID=Europe/London:20250221T103000
DTSTAMP:20260424T194215
CREATED:20241105T091157Z
LAST-MODIFIED:20241105T091157Z
UID:12080-1740132000-1740133800@barlowhallprimary.co.uk
SUMMARY:Remembrance Assembly
DESCRIPTION:
URL:https://barlowhallprimary.co.uk/event/remembrance-assembly-16/
END:VEVENT
BEGIN:VEVENT
DTSTART;VALUE=DATE:20250221
DTEND;VALUE=DATE:20250222
DTSTAMP:20260424T194215
CREATED:20240905T111735Z
LAST-MODIFIED:20250207T161722Z
UID:9945-1740096000-1740182399@barlowhallprimary.co.uk
SUMMARY:City in the Community sessions Y1/2/3/5 and 6
DESCRIPTION:
URL:https://barlowhallprimary.co.uk/event/city-in-the-community-sessions-y1-2-3-5-and-6-24/
END:VEVENT
BEGIN:VEVENT
DTSTART;TZID=Europe/London:20250220T131500
DTEND;TZID=Europe/London:20250220T141500
DTSTAMP:20260424T194215
CREATED:20241031T125636Z
LAST-MODIFIED:20250207T161722Z
UID:11679-1740057300-1740060900@barlowhallprimary.co.uk
SUMMARY:Sure Start Cheeky Chops Playtime Parent and Toddler session KS1 Hall
DESCRIPTION:
URL:https://barlowhallprimary.co.uk/event/sure-start-cheeky-chops-playtime-parent-and-toddler-session-ks1-hall-16/
END:VEVENT
BEGIN:VEVENT
DTSTART;VALUE=DATE:20250220
DTEND;VALUE=DATE:20250221
DTSTAMP:20260424T194215
CREATED:20240323T073604Z
LAST-MODIFIED:20240603T091434Z
UID:3984-1740009600-1740095999@barlowhallprimary.co.uk
SUMMARY:City Thrive programme starting for year 6s
DESCRIPTION:
URL:https://barlowhallprimary.co.uk/event/city-thrive-programme-starting-for-year-6s-45/
END:VEVENT
BEGIN:VEVENT
DTSTART;TZID=Europe/London:20250218T143000
DTEND;TZID=Europe/London:20250218T150000
DTSTAMP:20260424T194215
CREATED:20241125T124206Z
LAST-MODIFIED:20241219T101727Z
UID:13294-1739889000-1739890800@barlowhallprimary.co.uk
SUMMARY:Oracy Assembly
DESCRIPTION:
URL:https://barlowhallprimary.co.uk/event/oracy-assembly-8/
END:VEVENT
BEGIN:VEVENT
DTSTART;TZID=Europe/London:20250214T151500
DTEND;TZID=Europe/London:20250214T161500
DTSTAMP:20260424T194215
CREATED:20240107T010738Z
LAST-MODIFIED:20250214T151852Z
UID:1407-1739546100-1739549700@barlowhallprimary.co.uk
SUMMARY:Break up - 3:15 pm
DESCRIPTION:
URL:https://barlowhallprimary.co.uk/event/break-up-315-pm/
END:VEVENT
END:VCALENDAR