BEGIN:VCALENDAR
VERSION:2.0
PRODID:-//Barlow Hall Primary School - ECPv6.13.2.1//NONSGML v1.0//EN
CALSCALE:GREGORIAN
METHOD:PUBLISH
X-WR-CALNAME:Barlow Hall Primary School
X-ORIGINAL-URL:https://barlowhallprimary.co.uk
X-WR-CALDESC:Events for Barlow Hall Primary School
REFRESH-INTERVAL;VALUE=DURATION:PT1H
X-Robots-Tag:noindex
X-PUBLISHED-TTL:PT1H
BEGIN:VTIMEZONE
TZID:Europe/London
BEGIN:DAYLIGHT
TZOFFSETFROM:+0000
TZOFFSETTO:+0100
TZNAME:BST
DTSTART:20250330T010000
END:DAYLIGHT
BEGIN:STANDARD
TZOFFSETFROM:+0100
TZOFFSETTO:+0000
TZNAME:GMT
DTSTART:20251026T010000
END:STANDARD
END:VTIMEZONE
BEGIN:VEVENT
DTSTART;VALUE=DATE:20250327
DTEND;VALUE=DATE:20250328
DTSTAMP:20260424T135935
CREATED:20240323T073604Z
LAST-MODIFIED:20240603T091434Z
UID:3989-1743033600-1743119999@barlowhallprimary.co.uk
SUMMARY:City Thrive programme starting for year 6s
DESCRIPTION:
URL:https://barlowhallprimary.co.uk/event/city-thrive-programme-starting-for-year-6s-50/
END:VEVENT
BEGIN:VEVENT
DTSTART;TZID=Europe/London:20250326T150000
DTEND;TZID=Europe/London:20250326T180000
DTSTAMP:20260424T135935
CREATED:20241106T114140Z
LAST-MODIFIED:20250211T113313Z
UID:12477-1743001200-1743012000@barlowhallprimary.co.uk
SUMMARY:Pupil Progress Evening
DESCRIPTION:
URL:https://barlowhallprimary.co.uk/event/pupil-progress-evening-3/
END:VEVENT
BEGIN:VEVENT
DTSTART;TZID=Europe/London:20250326T150000
DTEND;TZID=Europe/London:20250326T180000
DTSTAMP:20260424T135935
CREATED:20241106T114140Z
LAST-MODIFIED:20250326T172634Z
UID:12478-1743001200-1743012000@barlowhallprimary.co.uk
SUMMARY:Pupil Progress Evening
DESCRIPTION:
URL:https://barlowhallprimary.co.uk/event/pupil-progress-evening-4/
END:VEVENT
BEGIN:VEVENT
DTSTART;TZID=Europe/London:20250326T093000
DTEND;TZID=Europe/London:20250326T120000
DTSTAMP:20260424T135935
CREATED:20250120T081739Z
LAST-MODIFIED:20250326T115638Z
UID:15373-1742981400-1742990400@barlowhallprimary.co.uk
SUMMARY:Easter Experience Christ church West Didsbury  Year 3- 9:30am  Year 4- 10:45am
DESCRIPTION:
URL:https://barlowhallprimary.co.uk/event/easter-experience-christ-church-west-didsbury-year-3-930am-year-4-1045am/
END:VEVENT
BEGIN:VEVENT
DTSTART;VALUE=DATE:20250326
DTEND;VALUE=DATE:20250327
DTSTAMP:20260424T135935
CREATED:20241106T114140Z
LAST-MODIFIED:20250326T232645Z
UID:12476-1742947200-1743033599@barlowhallprimary.co.uk
SUMMARY:Y5 Shakespeare - Chorlton high Date and time tbc
DESCRIPTION:
URL:https://barlowhallprimary.co.uk/event/y5-shakespeare-chorlton-high-date-and-time-tbc/
END:VEVENT
BEGIN:VEVENT
DTSTART;TZID=Europe/London:20250325T143000
DTEND;TZID=Europe/London:20250325T150000
DTSTAMP:20260424T135935
CREATED:20241219T111740Z
LAST-MODIFIED:20250325T144200Z
UID:14219-1742913000-1742914800@barlowhallprimary.co.uk
SUMMARY:Oracy Assembly
DESCRIPTION:
URL:https://barlowhallprimary.co.uk/event/oracy-assembly-23/
END:VEVENT
BEGIN:VEVENT
DTSTART;TZID=Europe/London:20250325T093000
DTEND;TZID=Europe/London:20250325T120000
DTSTAMP:20260424T135935
CREATED:20250120T081739Z
LAST-MODIFIED:20250325T114130Z
UID:15372-1742895000-1742904000@barlowhallprimary.co.uk
SUMMARY:Easter Experience Christ church West Didsbury Year 5- 10:45am  Year 6- 1:30pm
DESCRIPTION:
URL:https://barlowhallprimary.co.uk/event/easter-experience-christ-church-west-didsbury-year-5-1045am-year-6-130pm/
END:VEVENT
BEGIN:VEVENT
DTSTART;TZID=Europe/London:20250321T100000
DTEND;TZID=Europe/London:20250321T110000
DTSTAMP:20260424T135935
CREATED:20250113T103358Z
LAST-MODIFIED:20250321T095714Z
UID:14964-1742551200-1742554800@barlowhallprimary.co.uk
SUMMARY:AC Assembly
DESCRIPTION:
URL:https://barlowhallprimary.co.uk/event/ac-assembly-140/
END:VEVENT
BEGIN:VEVENT
DTSTART;TZID=Europe/London:20250321T100000
DTEND;TZID=Europe/London:20250321T103000
DTSTAMP:20260424T135935
CREATED:20250113T103358Z
LAST-MODIFIED:20250321T095714Z
UID:14965-1742551200-1742553000@barlowhallprimary.co.uk
SUMMARY:AC Assembly
DESCRIPTION:
URL:https://barlowhallprimary.co.uk/event/ac-assembly-141/
END:VEVENT
BEGIN:VEVENT
DTSTART;TZID=Europe/London:20250321T100000
DTEND;TZID=Europe/London:20250321T103000
DTSTAMP:20260424T135935
CREATED:20241105T101143Z
LAST-MODIFIED:20250113T093232Z
UID:12201-1742551200-1742553000@barlowhallprimary.co.uk
SUMMARY:AC Assembly
DESCRIPTION:
URL:https://barlowhallprimary.co.uk/event/ac-assembly-24/
END:VEVENT
BEGIN:VEVENT
DTSTART;TZID=Europe/London:20250321T100000
DTEND;TZID=Europe/London:20250321T103000
DTSTAMP:20260424T135935
CREATED:20241105T091157Z
LAST-MODIFIED:20241105T091157Z
UID:12084-1742551200-1742553000@barlowhallprimary.co.uk
SUMMARY:Remembrance Assembly
DESCRIPTION:
URL:https://barlowhallprimary.co.uk/event/remembrance-assembly-20/
END:VEVENT
BEGIN:VEVENT
DTSTART;TZID=Europe/London:20250321T090000
DTEND;TZID=Europe/London:20250321T103000
DTSTAMP:20260424T135935
CREATED:20250304T134150Z
LAST-MODIFIED:20250321T095714Z
UID:16761-1742547600-1742553000@barlowhallprimary.co.uk
SUMMARY:Manchester Dentist Buddy Practice Programme in Nursery and Reception
DESCRIPTION:
URL:https://barlowhallprimary.co.uk/event/manchester-dentist-buddy-practice-programme-in-nursery-and-reception/
END:VEVENT
BEGIN:VEVENT
DTSTART;VALUE=DATE:20250321
DTEND;VALUE=DATE:20250322
DTSTAMP:20260424T135935
CREATED:20241106T114139Z
LAST-MODIFIED:20250321T232643Z
UID:12474-1742515200-1742601599@barlowhallprimary.co.uk
SUMMARY:World Downs Syndrome day
DESCRIPTION:
URL:https://barlowhallprimary.co.uk/event/world-downs-syndrome-day/
END:VEVENT
BEGIN:VEVENT
DTSTART;VALUE=DATE:20250321
DTEND;VALUE=DATE:20250322
DTSTAMP:20260424T135935
CREATED:20241106T114139Z
LAST-MODIFIED:20250321T232643Z
UID:12475-1742515200-1742601599@barlowhallprimary.co.uk
SUMMARY:UN Anti Racism Day
DESCRIPTION:
URL:https://barlowhallprimary.co.uk/event/un-anti-racism-day/
END:VEVENT
BEGIN:VEVENT
DTSTART;VALUE=DATE:20250321
DTEND;VALUE=DATE:20250322
DTSTAMP:20260424T135935
CREATED:20240905T111736Z
LAST-MODIFIED:20250321T232643Z
UID:9949-1742515200-1742601599@barlowhallprimary.co.uk
SUMMARY:City in the Community sessions Y1/2/3/5 and 6
DESCRIPTION:
URL:https://barlowhallprimary.co.uk/event/city-in-the-community-sessions-y1-2-3-5-and-6-28/
END:VEVENT
BEGIN:VEVENT
DTSTART;TZID=Europe/London:20250320T131500
DTEND;TZID=Europe/London:20250320T141500
DTSTAMP:20260424T135935
CREATED:20241031T125637Z
LAST-MODIFIED:20250320T141131Z
UID:11683-1742476500-1742480100@barlowhallprimary.co.uk
SUMMARY:Sure Start Cheeky Chops Playtime Parent and Toddler session KS1 Hall
DESCRIPTION:
URL:https://barlowhallprimary.co.uk/event/sure-start-cheeky-chops-playtime-parent-and-toddler-session-ks1-hall-20/
END:VEVENT
BEGIN:VEVENT
DTSTART;VALUE=DATE:20250320
DTEND;VALUE=DATE:20250321
DTSTAMP:20260424T135935
CREATED:20240323T073604Z
LAST-MODIFIED:20240603T091434Z
UID:3988-1742428800-1742515199@barlowhallprimary.co.uk
SUMMARY:City Thrive programme starting for year 6s
DESCRIPTION:
URL:https://barlowhallprimary.co.uk/event/city-thrive-programme-starting-for-year-6s-49/
END:VEVENT
BEGIN:VEVENT
DTSTART;TZID=Europe/London:20250318T160000
DTEND;TZID=Europe/London:20250318T180000
DTSTAMP:20260424T135935
CREATED:20250207T140218Z
LAST-MODIFIED:20250318T174132Z
UID:15861-1742313600-1742320800@barlowhallprimary.co.uk
SUMMARY:Central Bee-Netball Inspire Competition Venue: St Bede's College (\, Manchester)- Parents collect at 6 pm
DESCRIPTION:
URL:https://barlowhallprimary.co.uk/event/central-bee-netball-inspire-competition-venue-st-bedes-college-manchester-parents-collect-at-6-pm/
END:VEVENT
BEGIN:VEVENT
DTSTART;TZID=Europe/London:20250318T143000
DTEND;TZID=Europe/London:20250318T150000
DTSTAMP:20260424T135935
CREATED:20241125T124207Z
LAST-MODIFIED:20241219T101728Z
UID:13296-1742308200-1742310000@barlowhallprimary.co.uk
SUMMARY:Oracy Assembly
DESCRIPTION:
URL:https://barlowhallprimary.co.uk/event/oracy-assembly-10/
END:VEVENT
BEGIN:VEVENT
DTSTART;TZID=Europe/London:20250314T143000
DTEND;TZID=Europe/London:20250314T151500
DTSTAMP:20260424T135935
CREATED:20250225T144140Z
LAST-MODIFIED:20250314T142633Z
UID:16569-1741962600-1741965300@barlowhallprimary.co.uk
SUMMARY:Year 1 Phonics Workshop - ECAR Room 2:30 - 3:15 pm
DESCRIPTION:
URL:https://barlowhallprimary.co.uk/event/year-1-phonics-workshop-ecar-room-230-315-pm/
END:VEVENT
BEGIN:VEVENT
DTSTART;TZID=Europe/London:20250314T100000
DTEND;TZID=Europe/London:20250314T110000
DTSTAMP:20260424T135935
CREATED:20241105T101143Z
LAST-MODIFIED:20250113T093232Z
UID:12200-1741946400-1741950000@barlowhallprimary.co.uk
SUMMARY:AC Assembly
DESCRIPTION:
URL:https://barlowhallprimary.co.uk/event/ac-assembly-23/
END:VEVENT
BEGIN:VEVENT
DTSTART;TZID=Europe/London:20250314T100000
DTEND;TZID=Europe/London:20250314T103000
DTSTAMP:20260424T135935
CREATED:20250307T085630Z
LAST-MODIFIED:20250314T102633Z
UID:16856-1741946400-1741948200@barlowhallprimary.co.uk
SUMMARY:Science Assembly
DESCRIPTION:
URL:https://barlowhallprimary.co.uk/event/science-assembly/
END:VEVENT
BEGIN:VEVENT
DTSTART;TZID=Europe/London:20250314T100000
DTEND;TZID=Europe/London:20250314T103000
DTSTAMP:20260424T135935
CREATED:20250113T103358Z
LAST-MODIFIED:20250207T151721Z
UID:14963-1741946400-1741948200@barlowhallprimary.co.uk
SUMMARY:AC Assembly
DESCRIPTION:
URL:https://barlowhallprimary.co.uk/event/ac-assembly-139/
END:VEVENT
BEGIN:VEVENT
DTSTART;TZID=Europe/London:20250314T100000
DTEND;TZID=Europe/London:20250314T103000
DTSTAMP:20260424T135935
CREATED:20241105T101143Z
LAST-MODIFIED:20250113T093232Z
UID:12199-1741946400-1741948200@barlowhallprimary.co.uk
SUMMARY:AC Assembly
DESCRIPTION:
URL:https://barlowhallprimary.co.uk/event/ac-assembly-22/
END:VEVENT
BEGIN:VEVENT
DTSTART;TZID=Europe/London:20250314T100000
DTEND;TZID=Europe/London:20250314T103000
DTSTAMP:20260424T135935
CREATED:20241105T091157Z
LAST-MODIFIED:20241105T091157Z
UID:12083-1741946400-1741948200@barlowhallprimary.co.uk
SUMMARY:Remembrance Assembly
DESCRIPTION:
URL:https://barlowhallprimary.co.uk/event/remembrance-assembly-19/
END:VEVENT
BEGIN:VEVENT
DTSTART;TZID=Europe/London:20250314T090000
DTEND;TZID=Europe/London:20250314T094500
DTSTAMP:20260424T135935
CREATED:20250225T144140Z
LAST-MODIFIED:20250314T092640Z
UID:16570-1741942800-1741945500@barlowhallprimary.co.uk
SUMMARY:Year 1 Phonics Workshop - ECAR Room 9 - 9:45 am (repeated from yesterday)
DESCRIPTION:
URL:https://barlowhallprimary.co.uk/event/year-1-phonics-workshop-ecar-room-9-945-am-repeated-from-yesterday/
END:VEVENT
BEGIN:VEVENT
DTSTART;VALUE=DATE:20250314
DTEND;VALUE=DATE:20250315
DTSTAMP:20260424T135935
CREATED:20241105T155639Z
LAST-MODIFIED:20250314T234159Z
UID:12441-1741910400-1741996799@barlowhallprimary.co.uk
SUMMARY:Interim reports sent out
DESCRIPTION:
URL:https://barlowhallprimary.co.uk/event/interim-reports-sent-out/
END:VEVENT
BEGIN:VEVENT
DTSTART;VALUE=DATE:20250314
DTEND;VALUE=DATE:20250315
DTSTAMP:20260424T135935
CREATED:20241105T155639Z
LAST-MODIFIED:20250307T115639Z
UID:12442-1741910400-1741996799@barlowhallprimary.co.uk
SUMMARY:Comic Relief
DESCRIPTION:
URL:https://barlowhallprimary.co.uk/event/comic-relief/
END:VEVENT
BEGIN:VEVENT
DTSTART;VALUE=DATE:20250314
DTEND;VALUE=DATE:20250315
DTSTAMP:20260424T135935
CREATED:20240905T111736Z
LAST-MODIFIED:20250314T234159Z
UID:9948-1741910400-1741996799@barlowhallprimary.co.uk
SUMMARY:City in the Community sessions Y1/2/3/5 and 6
DESCRIPTION:
URL:https://barlowhallprimary.co.uk/event/city-in-the-community-sessions-y1-2-3-5-and-6-27/
END:VEVENT
BEGIN:VEVENT
DTSTART;TZID=Europe/London:20250313T131500
DTEND;TZID=Europe/London:20250313T141500
DTSTAMP:20260424T135935
CREATED:20241031T125636Z
LAST-MODIFIED:20250313T132634Z
UID:11682-1741871700-1741875300@barlowhallprimary.co.uk
SUMMARY:Sure Start Cheeky Chops Playtime Parent and Toddler session KS1 Hall
DESCRIPTION:
URL:https://barlowhallprimary.co.uk/event/sure-start-cheeky-chops-playtime-parent-and-toddler-session-ks1-hall-19/
END:VEVENT
END:VCALENDAR