BEGIN:VCALENDAR
VERSION:2.0
PRODID:-//Barlow Hall Primary School - ECPv6.13.2.1//NONSGML v1.0//EN
CALSCALE:GREGORIAN
METHOD:PUBLISH
X-WR-CALNAME:Barlow Hall Primary School
X-ORIGINAL-URL:https://barlowhallprimary.co.uk
X-WR-CALDESC:Events for Barlow Hall Primary School
REFRESH-INTERVAL;VALUE=DURATION:PT1H
X-Robots-Tag:noindex
X-PUBLISHED-TTL:PT1H
BEGIN:VTIMEZONE
TZID:Europe/London
BEGIN:DAYLIGHT
TZOFFSETFROM:+0000
TZOFFSETTO:+0100
TZNAME:BST
DTSTART:20250330T010000
END:DAYLIGHT
BEGIN:STANDARD
TZOFFSETFROM:+0100
TZOFFSETTO:+0000
TZNAME:GMT
DTSTART:20251026T010000
END:STANDARD
END:VTIMEZONE
BEGIN:VEVENT
DTSTART;VALUE=DATE:20250407
DTEND;VALUE=DATE:20250422
DTSTAMP:20260424T111327
CREATED:20240107T010738Z
LAST-MODIFIED:20250421T230839Z
UID:1408-1743984000-1745279999@barlowhallprimary.co.uk
SUMMARY:School closed Easter Holidays
DESCRIPTION:Join with Google Meet: https://meet.google.com/efv-bjij-hxm\nOr dial: (US) +1 302-364-6637 PIN: 552888850#\nLearn more about Meet at: https://support.google.com/a/users/answer/9282720
URL:https://barlowhallprimary.co.uk/event/school-closed-easter-holidays/
END:VEVENT
BEGIN:VEVENT
DTSTART;TZID=Europe/London:20250404T140000
DTEND;TZID=Europe/London:20250404T150000
DTSTAMP:20260424T111327
CREATED:20240606T122932Z
LAST-MODIFIED:20250404T131133Z
UID:6703-1743775200-1743778800@barlowhallprimary.co.uk
SUMMARY:Break up for Easter - 2 pm No After School Club
DESCRIPTION:
URL:https://barlowhallprimary.co.uk/event/break-up-for-easter-2-pm-no-after-school-club/
END:VEVENT
BEGIN:VEVENT
DTSTART;TZID=Europe/London:20250404T100000
DTEND;TZID=Europe/London:20250404T103000
DTSTAMP:20260424T111327
CREATED:20250113T103359Z
LAST-MODIFIED:20250404T091133Z
UID:14967-1743760800-1743762600@barlowhallprimary.co.uk
SUMMARY:AC Assembly
DESCRIPTION:
URL:https://barlowhallprimary.co.uk/event/ac-assembly-143/
END:VEVENT
BEGIN:VEVENT
DTSTART;TZID=Europe/London:20250404T100000
DTEND;TZID=Europe/London:20250404T103000
DTSTAMP:20260424T111327
CREATED:20250113T103359Z
LAST-MODIFIED:20250404T091133Z
UID:14968-1743760800-1743762600@barlowhallprimary.co.uk
SUMMARY:AC Assembly
DESCRIPTION:
URL:https://barlowhallprimary.co.uk/event/ac-assembly-144/
END:VEVENT
BEGIN:VEVENT
DTSTART;TZID=Europe/London:20250404T100000
DTEND;TZID=Europe/London:20250404T103000
DTSTAMP:20260424T111327
CREATED:20241105T101144Z
LAST-MODIFIED:20250113T093232Z
UID:12204-1743760800-1743762600@barlowhallprimary.co.uk
SUMMARY:AC Assembly
DESCRIPTION:
URL:https://barlowhallprimary.co.uk/event/ac-assembly-27/
END:VEVENT
BEGIN:VEVENT
DTSTART;TZID=Europe/London:20250404T100000
DTEND;TZID=Europe/London:20250404T103000
DTSTAMP:20260424T111327
CREATED:20241105T091157Z
LAST-MODIFIED:20241105T091157Z
UID:12086-1743760800-1743762600@barlowhallprimary.co.uk
SUMMARY:Remembrance Assembly
DESCRIPTION:
URL:https://barlowhallprimary.co.uk/event/remembrance-assembly-22/
END:VEVENT
BEGIN:VEVENT
DTSTART;VALUE=DATE:20250404
DTEND;VALUE=DATE:20250405
DTSTAMP:20260424T111327
CREATED:20250207T171741Z
LAST-MODIFIED:20250404T231151Z
UID:15871-1743724800-1743811199@barlowhallprimary.co.uk
SUMMARY:Yellow Day/Easter Eggstravaganza
DESCRIPTION:
URL:https://barlowhallprimary.co.uk/event/yellow-day-easter-eggstravaganza-2/
END:VEVENT
BEGIN:VEVENT
DTSTART;VALUE=DATE:20250404
DTEND;VALUE=DATE:20250405
DTSTAMP:20260424T111327
CREATED:20240905T111736Z
LAST-MODIFIED:20250404T221131Z
UID:9951-1743724800-1743811199@barlowhallprimary.co.uk
SUMMARY:City in the Community sessions Y1/2/3/5 and 6
DESCRIPTION:
URL:https://barlowhallprimary.co.uk/event/city-in-the-community-sessions-y1-2-3-5-and-6-30/
END:VEVENT
BEGIN:VEVENT
DTSTART;TZID=Europe/London:20250403T131500
DTEND;TZID=Europe/London:20250403T141500
DTSTAMP:20260424T111327
CREATED:20241031T125637Z
LAST-MODIFIED:20250403T125636Z
UID:11685-1743686100-1743689700@barlowhallprimary.co.uk
SUMMARY:Sure Start Cheeky Chops Playtime Parent and Toddler session KS1 Hall
DESCRIPTION:
URL:https://barlowhallprimary.co.uk/event/sure-start-cheeky-chops-playtime-parent-and-toddler-session-ks1-hall-22/
END:VEVENT
BEGIN:VEVENT
DTSTART;VALUE=DATE:20250403
DTEND;VALUE=DATE:20250404
DTSTAMP:20260424T111327
CREATED:20240323T073604Z
LAST-MODIFIED:20240603T091434Z
UID:3990-1743638400-1743724799@barlowhallprimary.co.uk
SUMMARY:City Thrive programme starting for year 6s
DESCRIPTION:
URL:https://barlowhallprimary.co.uk/event/city-thrive-programme-starting-for-year-6s-51/
END:VEVENT
BEGIN:VEVENT
DTSTART;TZID=Europe/London:20250402T154500
DTEND;TZID=Europe/London:20250402T173000
DTSTAMP:20260424T111327
CREATED:20250224T144140Z
LAST-MODIFIED:20250402T155633Z
UID:16535-1743608700-1743615000@barlowhallprimary.co.uk
SUMMARY:Central Rounders Inspire Competition William Hulme's Grammar School. Collect at 5:30 pm
DESCRIPTION:
URL:https://barlowhallprimary.co.uk/event/central-rounders-inspire-competition-william-hulmes-grammar-school-collect-at-530-pm/
END:VEVENT
BEGIN:VEVENT
DTSTART;TZID=Europe/London:20250402T080000
DTEND;TZID=Europe/London:20250402T150000
DTSTAMP:20260424T111327
CREATED:20241106T114140Z
LAST-MODIFIED:20250402T135629Z
UID:12480-1743580800-1743606000@barlowhallprimary.co.uk
SUMMARY:Class Photograph Day
DESCRIPTION:
URL:https://barlowhallprimary.co.uk/event/class-photograph-day/
END:VEVENT
BEGIN:VEVENT
DTSTART;TZID=Europe/London:20250401T143000
DTEND;TZID=Europe/London:20250401T150000
DTSTAMP:20260424T111327
CREATED:20241125T124208Z
LAST-MODIFIED:20241219T101729Z
UID:13297-1743517800-1743519600@barlowhallprimary.co.uk
SUMMARY:Oracy Assembly
DESCRIPTION:
URL:https://barlowhallprimary.co.uk/event/oracy-assembly-11/
END:VEVENT
BEGIN:VEVENT
DTSTART;VALUE=DATE:20250401
DTEND;VALUE=DATE:20250402
DTSTAMP:20260424T111327
CREATED:20250328T151137Z
LAST-MODIFIED:20250401T232633Z
UID:17461-1743465600-1743551999@barlowhallprimary.co.uk
SUMMARY:Children can come in wearing Eid clothes\, Celebratory clothes or their uniform. (No football kits)
DESCRIPTION:Join with Google Meet: https://meet.google.com/xuy-owmx-gja\nOr dial: (US) +1 267-509-7941 PIN: 476723832#\nLearn more about Meet at: https://support.google.com/a/users/answer/9282720
URL:https://barlowhallprimary.co.uk/event/children-can-come-in-wearing-eid-clothes-celebratory-clothes-or-their-uniform-no-football-kits/
END:VEVENT
BEGIN:VEVENT
DTSTART;TZID=Europe/London:20250331T090000
DTEND;TZID=Europe/London:20250331T120000
DTSTAMP:20260424T111327
CREATED:20241216T091725Z
LAST-MODIFIED:20250331T102656Z
UID:14116-1743411600-1743422400@barlowhallprimary.co.uk
SUMMARY:RP children to Manchester City's sensory room - time tbc
DESCRIPTION:
URL:https://barlowhallprimary.co.uk/event/rp-children-to-manchester-citys-sensory-room-time-tbc/
END:VEVENT
BEGIN:VEVENT
DTSTART;VALUE=DATE:20250331
DTEND;VALUE=DATE:20250401
DTSTAMP:20260424T111327
CREATED:20241106T114140Z
LAST-MODIFIED:20250331T231150Z
UID:12479-1743379200-1743465599@barlowhallprimary.co.uk
SUMMARY:EID - to be confirmed
DESCRIPTION:
URL:https://barlowhallprimary.co.uk/event/eid-to-be-confirmed/
END:VEVENT
BEGIN:VEVENT
DTSTART;TZID=Europe/London:20250328T100000
DTEND;TZID=Europe/London:20250328T110000
DTSTAMP:20260424T111327
CREATED:20241105T101143Z
LAST-MODIFIED:20250113T093232Z
UID:12203-1743156000-1743159600@barlowhallprimary.co.uk
SUMMARY:AC Assembly
DESCRIPTION:
URL:https://barlowhallprimary.co.uk/event/ac-assembly-26/
END:VEVENT
BEGIN:VEVENT
DTSTART;TZID=Europe/London:20250328T100000
DTEND;TZID=Europe/London:20250328T103000
DTSTAMP:20260424T111327
CREATED:20250113T103358Z
LAST-MODIFIED:20250328T095653Z
UID:14966-1743156000-1743157800@barlowhallprimary.co.uk
SUMMARY:AC Assembly
DESCRIPTION:
URL:https://barlowhallprimary.co.uk/event/ac-assembly-142/
END:VEVENT
BEGIN:VEVENT
DTSTART;TZID=Europe/London:20250328T100000
DTEND;TZID=Europe/London:20250328T103000
DTSTAMP:20260424T111327
CREATED:20241105T101143Z
LAST-MODIFIED:20250113T093232Z
UID:12202-1743156000-1743157800@barlowhallprimary.co.uk
SUMMARY:AC Assembly
DESCRIPTION:
URL:https://barlowhallprimary.co.uk/event/ac-assembly-25/
END:VEVENT
BEGIN:VEVENT
DTSTART;TZID=Europe/London:20250328T100000
DTEND;TZID=Europe/London:20250328T103000
DTSTAMP:20260424T111327
CREATED:20241105T091157Z
LAST-MODIFIED:20241105T091157Z
UID:12085-1743156000-1743157800@barlowhallprimary.co.uk
SUMMARY:Remembrance Assembly
DESCRIPTION:
URL:https://barlowhallprimary.co.uk/event/remembrance-assembly-21/
END:VEVENT
BEGIN:VEVENT
DTSTART;TZID=Europe/London:20250328T085000
DTEND;TZID=Europe/London:20250328T085500
DTSTAMP:20260424T111327
CREATED:20250324T162642Z
LAST-MODIFIED:20250328T084221Z
UID:17358-1743151800-1743152100@barlowhallprimary.co.uk
SUMMARY:Nursery Class singing and signing a Mother’s Day song
DESCRIPTION:
URL:https://barlowhallprimary.co.uk/event/nursery-class-singing-and-signing-a-mothers-day-song/
END:VEVENT
BEGIN:VEVENT
DTSTART;VALUE=DATE:20250328
DTEND;VALUE=DATE:20250329
DTSTAMP:20260424T111327
CREATED:20240905T111736Z
LAST-MODIFIED:20250328T231136Z
UID:9950-1743120000-1743206399@barlowhallprimary.co.uk
SUMMARY:City in the Community sessions Y1/2/3/5 and 6
DESCRIPTION:
URL:https://barlowhallprimary.co.uk/event/city-in-the-community-sessions-y1-2-3-5-and-6-29/
END:VEVENT
BEGIN:VEVENT
DTSTART;TZID=Europe/London:20250327T131500
DTEND;TZID=Europe/London:20250327T141500
DTSTAMP:20260424T111327
CREATED:20241031T125637Z
LAST-MODIFIED:20250327T135654Z
UID:11684-1743081300-1743084900@barlowhallprimary.co.uk
SUMMARY:Sure Start Cheeky Chops Playtime Parent and Toddler session KS1 Hall
DESCRIPTION:
URL:https://barlowhallprimary.co.uk/event/sure-start-cheeky-chops-playtime-parent-and-toddler-session-ks1-hall-21/
END:VEVENT
BEGIN:VEVENT
DTSTART;TZID=Europe/London:20250327T103000
DTEND;TZID=Europe/London:20250327T120000
DTSTAMP:20260424T111327
CREATED:20250116T074727Z
LAST-MODIFIED:20250327T115638Z
UID:15263-1743071400-1743076800@barlowhallprimary.co.uk
SUMMARY:Y6 visiting a Hindu temple
DESCRIPTION:
URL:https://barlowhallprimary.co.uk/event/y6-visiting-a-hindu-temple/
END:VEVENT
BEGIN:VEVENT
DTSTART;VALUE=DATE:20250327
DTEND;VALUE=DATE:20250328
DTSTAMP:20260424T111327
CREATED:20240323T073604Z
LAST-MODIFIED:20240603T091434Z
UID:3989-1743033600-1743119999@barlowhallprimary.co.uk
SUMMARY:City Thrive programme starting for year 6s
DESCRIPTION:
URL:https://barlowhallprimary.co.uk/event/city-thrive-programme-starting-for-year-6s-50/
END:VEVENT
BEGIN:VEVENT
DTSTART;TZID=Europe/London:20250326T150000
DTEND;TZID=Europe/London:20250326T180000
DTSTAMP:20260424T111327
CREATED:20241106T114140Z
LAST-MODIFIED:20250211T113313Z
UID:12477-1743001200-1743012000@barlowhallprimary.co.uk
SUMMARY:Pupil Progress Evening
DESCRIPTION:
URL:https://barlowhallprimary.co.uk/event/pupil-progress-evening-3/
END:VEVENT
BEGIN:VEVENT
DTSTART;TZID=Europe/London:20250326T150000
DTEND;TZID=Europe/London:20250326T180000
DTSTAMP:20260424T111327
CREATED:20241106T114140Z
LAST-MODIFIED:20250326T172634Z
UID:12478-1743001200-1743012000@barlowhallprimary.co.uk
SUMMARY:Pupil Progress Evening
DESCRIPTION:
URL:https://barlowhallprimary.co.uk/event/pupil-progress-evening-4/
END:VEVENT
BEGIN:VEVENT
DTSTART;TZID=Europe/London:20250326T093000
DTEND;TZID=Europe/London:20250326T120000
DTSTAMP:20260424T111327
CREATED:20250120T081739Z
LAST-MODIFIED:20250326T115638Z
UID:15373-1742981400-1742990400@barlowhallprimary.co.uk
SUMMARY:Easter Experience Christ church West Didsbury  Year 3- 9:30am  Year 4- 10:45am
DESCRIPTION:
URL:https://barlowhallprimary.co.uk/event/easter-experience-christ-church-west-didsbury-year-3-930am-year-4-1045am/
END:VEVENT
BEGIN:VEVENT
DTSTART;VALUE=DATE:20250326
DTEND;VALUE=DATE:20250327
DTSTAMP:20260424T111327
CREATED:20241106T114140Z
LAST-MODIFIED:20250326T232645Z
UID:12476-1742947200-1743033599@barlowhallprimary.co.uk
SUMMARY:Y5 Shakespeare - Chorlton high Date and time tbc
DESCRIPTION:
URL:https://barlowhallprimary.co.uk/event/y5-shakespeare-chorlton-high-date-and-time-tbc/
END:VEVENT
BEGIN:VEVENT
DTSTART;TZID=Europe/London:20250325T143000
DTEND;TZID=Europe/London:20250325T150000
DTSTAMP:20260424T111327
CREATED:20241219T111740Z
LAST-MODIFIED:20250325T144200Z
UID:14219-1742913000-1742914800@barlowhallprimary.co.uk
SUMMARY:Oracy Assembly
DESCRIPTION:
URL:https://barlowhallprimary.co.uk/event/oracy-assembly-23/
END:VEVENT
END:VCALENDAR