BEGIN:VCALENDAR
VERSION:2.0
PRODID:-//Barlow Hall Primary School - ECPv6.13.2.1//NONSGML v1.0//EN
CALSCALE:GREGORIAN
METHOD:PUBLISH
X-WR-CALNAME:Barlow Hall Primary School
X-ORIGINAL-URL:https://barlowhallprimary.co.uk
X-WR-CALDESC:Events for Barlow Hall Primary School
REFRESH-INTERVAL;VALUE=DURATION:PT1H
X-Robots-Tag:noindex
X-PUBLISHED-TTL:PT1H
BEGIN:VTIMEZONE
TZID:Europe/London
BEGIN:DAYLIGHT
TZOFFSETFROM:+0000
TZOFFSETTO:+0100
TZNAME:BST
DTSTART:20270328T010000
END:DAYLIGHT
BEGIN:STANDARD
TZOFFSETFROM:+0100
TZOFFSETTO:+0000
TZNAME:GMT
DTSTART:20271031T010000
END:STANDARD
BEGIN:DAYLIGHT
TZOFFSETFROM:+0000
TZOFFSETTO:+0100
TZNAME:BST
DTSTART:20280326T010000
END:DAYLIGHT
BEGIN:STANDARD
TZOFFSETFROM:+0100
TZOFFSETTO:+0000
TZNAME:GMT
DTSTART:20281029T010000
END:STANDARD
END:VTIMEZONE
BEGIN:VEVENT
DTSTART;TZID=Europe/London:20271119T095000
DTEND;TZID=Europe/London:20271119T102000
DTSTAMP:20260419T194746
CREATED:20260122T192817Z
LAST-MODIFIED:20260301T114205Z
UID:23241-1826617800-1826619600@barlowhallprimary.co.uk
SUMMARY:Themed Assembly
DESCRIPTION:
URL:https://barlowhallprimary.co.uk/event/themed-assembly-115/
END:VEVENT
BEGIN:VEVENT
DTSTART;TZID=Europe/London:20271122T095000
DTEND;TZID=Europe/London:20271122T102000
DTSTAMP:20260419T194746
CREATED:20260122T192817Z
LAST-MODIFIED:20260301T114205Z
UID:23242-1826877000-1826878800@barlowhallprimary.co.uk
SUMMARY:Celebration assembly
DESCRIPTION:
URL:https://barlowhallprimary.co.uk/event/celebration-assembly-138/
END:VEVENT
BEGIN:VEVENT
DTSTART;TZID=Europe/London:20271126T095000
DTEND;TZID=Europe/London:20271126T102000
DTSTAMP:20260419T194746
CREATED:20260122T192817Z
LAST-MODIFIED:20260301T114205Z
UID:23243-1827222600-1827224400@barlowhallprimary.co.uk
SUMMARY:Themed Assembly
DESCRIPTION:
URL:https://barlowhallprimary.co.uk/event/themed-assembly-116/
END:VEVENT
BEGIN:VEVENT
DTSTART;TZID=Europe/London:20271129T095000
DTEND;TZID=Europe/London:20271129T102000
DTSTAMP:20260419T194746
CREATED:20260122T192817Z
LAST-MODIFIED:20260301T114205Z
UID:23244-1827481800-1827483600@barlowhallprimary.co.uk
SUMMARY:Celebration assembly
DESCRIPTION:
URL:https://barlowhallprimary.co.uk/event/celebration-assembly-139/
END:VEVENT
BEGIN:VEVENT
DTSTART;TZID=Europe/London:20271130T100000
DTEND;TZID=Europe/London:20271130T102000
DTSTAMP:20260419T194746
CREATED:20260122T192818Z
LAST-MODIFIED:20260301T114205Z
UID:23245-1827568800-1827570000@barlowhallprimary.co.uk
SUMMARY:Oracy Assembly - fortnightly
DESCRIPTION:
URL:https://barlowhallprimary.co.uk/event/oracy-assembly-fortnightly-55/
END:VEVENT
BEGIN:VEVENT
DTSTART;TZID=Europe/London:20271203T095000
DTEND;TZID=Europe/London:20271203T102000
DTSTAMP:20260419T194746
CREATED:20260122T192818Z
LAST-MODIFIED:20260301T114205Z
UID:23246-1827827400-1827829200@barlowhallprimary.co.uk
SUMMARY:Themed Assembly
DESCRIPTION:
URL:https://barlowhallprimary.co.uk/event/themed-assembly-117/
END:VEVENT
BEGIN:VEVENT
DTSTART;TZID=Europe/London:20271206T095000
DTEND;TZID=Europe/London:20271206T102000
DTSTAMP:20260419T194746
CREATED:20260122T192818Z
LAST-MODIFIED:20260301T114216Z
UID:23247-1828086600-1828088400@barlowhallprimary.co.uk
SUMMARY:Celebration assembly
DESCRIPTION:
URL:https://barlowhallprimary.co.uk/event/celebration-assembly-140/
END:VEVENT
BEGIN:VEVENT
DTSTART;TZID=Europe/London:20271210T095000
DTEND;TZID=Europe/London:20271210T102000
DTSTAMP:20260419T194746
CREATED:20260122T192818Z
LAST-MODIFIED:20260301T114216Z
UID:23248-1828432200-1828434000@barlowhallprimary.co.uk
SUMMARY:Themed Assembly
DESCRIPTION:
URL:https://barlowhallprimary.co.uk/event/themed-assembly-118/
END:VEVENT
BEGIN:VEVENT
DTSTART;TZID=Europe/London:20271213T095000
DTEND;TZID=Europe/London:20271213T102000
DTSTAMP:20260419T194746
CREATED:20260122T192818Z
LAST-MODIFIED:20260301T114216Z
UID:23249-1828691400-1828693200@barlowhallprimary.co.uk
SUMMARY:Celebration assembly
DESCRIPTION:
URL:https://barlowhallprimary.co.uk/event/celebration-assembly-141/
END:VEVENT
BEGIN:VEVENT
DTSTART;TZID=Europe/London:20271214T100000
DTEND;TZID=Europe/London:20271214T102000
DTSTAMP:20260419T194746
CREATED:20260122T192818Z
LAST-MODIFIED:20260301T114216Z
UID:23250-1828778400-1828779600@barlowhallprimary.co.uk
SUMMARY:Oracy Assembly - fortnightly
DESCRIPTION:
URL:https://barlowhallprimary.co.uk/event/oracy-assembly-fortnightly-56/
END:VEVENT
BEGIN:VEVENT
DTSTART;TZID=Europe/London:20271217T095000
DTEND;TZID=Europe/London:20271217T102000
DTSTAMP:20260419T194746
CREATED:20260122T192818Z
LAST-MODIFIED:20260301T114216Z
UID:23251-1829037000-1829038800@barlowhallprimary.co.uk
SUMMARY:Themed Assembly
DESCRIPTION:
URL:https://barlowhallprimary.co.uk/event/themed-assembly-119/
END:VEVENT
BEGIN:VEVENT
DTSTART;TZID=Europe/London:20271220T095000
DTEND;TZID=Europe/London:20271220T102000
DTSTAMP:20260419T194746
CREATED:20260122T192818Z
LAST-MODIFIED:20260301T114216Z
UID:23252-1829296200-1829298000@barlowhallprimary.co.uk
SUMMARY:Celebration assembly
DESCRIPTION:
URL:https://barlowhallprimary.co.uk/event/celebration-assembly-142/
END:VEVENT
BEGIN:VEVENT
DTSTART;TZID=Europe/London:20271224T095000
DTEND;TZID=Europe/London:20271224T102000
DTSTAMP:20260419T194746
CREATED:20260122T192818Z
LAST-MODIFIED:20260301T114216Z
UID:23253-1829641800-1829643600@barlowhallprimary.co.uk
SUMMARY:Themed Assembly
DESCRIPTION:
URL:https://barlowhallprimary.co.uk/event/themed-assembly-120/
END:VEVENT
BEGIN:VEVENT
DTSTART;TZID=Europe/London:20271227T095000
DTEND;TZID=Europe/London:20271227T102000
DTSTAMP:20260419T194746
CREATED:20260122T192818Z
LAST-MODIFIED:20260301T114216Z
UID:23254-1829901000-1829902800@barlowhallprimary.co.uk
SUMMARY:Celebration assembly
DESCRIPTION:
URL:https://barlowhallprimary.co.uk/event/celebration-assembly-143/
END:VEVENT
BEGIN:VEVENT
DTSTART;TZID=Europe/London:20271228T100000
DTEND;TZID=Europe/London:20271228T102000
DTSTAMP:20260419T194746
CREATED:20260122T192819Z
LAST-MODIFIED:20260301T114216Z
UID:23255-1829988000-1829989200@barlowhallprimary.co.uk
SUMMARY:Oracy Assembly - fortnightly
DESCRIPTION:
URL:https://barlowhallprimary.co.uk/event/oracy-assembly-fortnightly-57/
END:VEVENT
BEGIN:VEVENT
DTSTART;TZID=Europe/London:20271231T095000
DTEND;TZID=Europe/London:20271231T102000
DTSTAMP:20260419T194746
CREATED:20260122T192819Z
LAST-MODIFIED:20260301T114216Z
UID:23256-1830246600-1830248400@barlowhallprimary.co.uk
SUMMARY:Themed Assembly
DESCRIPTION:
URL:https://barlowhallprimary.co.uk/event/themed-assembly-121/
END:VEVENT
BEGIN:VEVENT
DTSTART;TZID=Europe/London:20280103T095000
DTEND;TZID=Europe/London:20280103T102000
DTSTAMP:20260419T194746
CREATED:20260122T192819Z
LAST-MODIFIED:20260301T114227Z
UID:23257-1830505800-1830507600@barlowhallprimary.co.uk
SUMMARY:Celebration assembly
DESCRIPTION:
URL:https://barlowhallprimary.co.uk/event/celebration-assembly-144/
END:VEVENT
BEGIN:VEVENT
DTSTART;TZID=Europe/London:20280107T095000
DTEND;TZID=Europe/London:20280107T102000
DTSTAMP:20260419T194746
CREATED:20260122T192819Z
LAST-MODIFIED:20260301T114227Z
UID:23258-1830851400-1830853200@barlowhallprimary.co.uk
SUMMARY:Themed Assembly
DESCRIPTION:
URL:https://barlowhallprimary.co.uk/event/themed-assembly-122/
END:VEVENT
BEGIN:VEVENT
DTSTART;TZID=Europe/London:20280110T095000
DTEND;TZID=Europe/London:20280110T102000
DTSTAMP:20260419T194746
CREATED:20260122T192819Z
LAST-MODIFIED:20260301T114227Z
UID:23259-1831110600-1831112400@barlowhallprimary.co.uk
SUMMARY:Celebration assembly
DESCRIPTION:
URL:https://barlowhallprimary.co.uk/event/celebration-assembly-145/
END:VEVENT
BEGIN:VEVENT
DTSTART;TZID=Europe/London:20280111T100000
DTEND;TZID=Europe/London:20280111T102000
DTSTAMP:20260419T194746
CREATED:20260122T192819Z
LAST-MODIFIED:20260301T114227Z
UID:23260-1831197600-1831198800@barlowhallprimary.co.uk
SUMMARY:Oracy Assembly - fortnightly
DESCRIPTION:
URL:https://barlowhallprimary.co.uk/event/oracy-assembly-fortnightly-58/
END:VEVENT
BEGIN:VEVENT
DTSTART;TZID=Europe/London:20280114T095000
DTEND;TZID=Europe/London:20280114T102000
DTSTAMP:20260419T194746
CREATED:20260122T192819Z
LAST-MODIFIED:20260301T114227Z
UID:23261-1831456200-1831458000@barlowhallprimary.co.uk
SUMMARY:Themed Assembly
DESCRIPTION:
URL:https://barlowhallprimary.co.uk/event/themed-assembly-123/
END:VEVENT
BEGIN:VEVENT
DTSTART;TZID=Europe/London:20280117T095000
DTEND;TZID=Europe/London:20280117T102000
DTSTAMP:20260419T194746
CREATED:20260122T192819Z
LAST-MODIFIED:20260301T114227Z
UID:23262-1831715400-1831717200@barlowhallprimary.co.uk
SUMMARY:Celebration assembly
DESCRIPTION:
URL:https://barlowhallprimary.co.uk/event/celebration-assembly-146/
END:VEVENT
BEGIN:VEVENT
DTSTART;TZID=Europe/London:20280121T095000
DTEND;TZID=Europe/London:20280121T102000
DTSTAMP:20260419T194746
CREATED:20260122T192819Z
LAST-MODIFIED:20260301T114227Z
UID:23263-1832061000-1832062800@barlowhallprimary.co.uk
SUMMARY:Themed Assembly
DESCRIPTION:
URL:https://barlowhallprimary.co.uk/event/themed-assembly-124/
END:VEVENT
BEGIN:VEVENT
DTSTART;TZID=Europe/London:20280124T095000
DTEND;TZID=Europe/London:20280124T102000
DTSTAMP:20260419T194746
CREATED:20260301T114227Z
LAST-MODIFIED:20260301T114227Z
UID:23388-1832320200-1832322000@barlowhallprimary.co.uk
SUMMARY:Celebration assembly
DESCRIPTION:
URL:https://barlowhallprimary.co.uk/event/celebration-assembly-147/
END:VEVENT
BEGIN:VEVENT
DTSTART;TZID=Europe/London:20280125T100000
DTEND;TZID=Europe/London:20280125T102000
DTSTAMP:20260419T194746
CREATED:20260301T114227Z
LAST-MODIFIED:20260301T114227Z
UID:23389-1832407200-1832408400@barlowhallprimary.co.uk
SUMMARY:Oracy Assembly - fortnightly
DESCRIPTION:
URL:https://barlowhallprimary.co.uk/event/oracy-assembly-fortnightly-59/
END:VEVENT
BEGIN:VEVENT
DTSTART;TZID=Europe/London:20280128T095000
DTEND;TZID=Europe/London:20280128T102000
DTSTAMP:20260419T194746
CREATED:20260301T114227Z
LAST-MODIFIED:20260301T114227Z
UID:23390-1832665800-1832667600@barlowhallprimary.co.uk
SUMMARY:Themed Assembly
DESCRIPTION:
URL:https://barlowhallprimary.co.uk/event/themed-assembly-125/
END:VEVENT
BEGIN:VEVENT
DTSTART;TZID=Europe/London:20280131T095000
DTEND;TZID=Europe/London:20280131T102000
DTSTAMP:20260419T194746
CREATED:20260301T114240Z
LAST-MODIFIED:20260301T114240Z
UID:23391-1832925000-1832926800@barlowhallprimary.co.uk
SUMMARY:Celebration assembly
DESCRIPTION:
URL:https://barlowhallprimary.co.uk/event/celebration-assembly-148/
END:VEVENT
BEGIN:VEVENT
DTSTART;TZID=Europe/London:20280204T095000
DTEND;TZID=Europe/London:20280204T102000
DTSTAMP:20260419T194746
CREATED:20260301T114240Z
LAST-MODIFIED:20260301T114240Z
UID:23392-1833270600-1833272400@barlowhallprimary.co.uk
SUMMARY:Themed Assembly
DESCRIPTION:
URL:https://barlowhallprimary.co.uk/event/themed-assembly-126/
END:VEVENT
BEGIN:VEVENT
DTSTART;TZID=Europe/London:20280207T095000
DTEND;TZID=Europe/London:20280207T102000
DTSTAMP:20260419T194746
CREATED:20260301T114240Z
LAST-MODIFIED:20260301T114240Z
UID:23393-1833529800-1833531600@barlowhallprimary.co.uk
SUMMARY:Celebration assembly
DESCRIPTION:
URL:https://barlowhallprimary.co.uk/event/celebration-assembly-149/
END:VEVENT
BEGIN:VEVENT
DTSTART;TZID=Europe/London:20280208T100000
DTEND;TZID=Europe/London:20280208T102000
DTSTAMP:20260419T194746
CREATED:20260301T114240Z
LAST-MODIFIED:20260301T114240Z
UID:23394-1833616800-1833618000@barlowhallprimary.co.uk
SUMMARY:Oracy Assembly - fortnightly
DESCRIPTION:
URL:https://barlowhallprimary.co.uk/event/oracy-assembly-fortnightly-60/
END:VEVENT
END:VCALENDAR