BEGIN:VCALENDAR
VERSION:2.0
PRODID:-//Barlow Hall Primary School - ECPv6.13.2.1//NONSGML v1.0//EN
CALSCALE:GREGORIAN
METHOD:PUBLISH
X-WR-CALNAME:Barlow Hall Primary School
X-ORIGINAL-URL:https://barlowhallprimary.co.uk
X-WR-CALDESC:Events for Barlow Hall Primary School
REFRESH-INTERVAL;VALUE=DURATION:PT1H
X-Robots-Tag:noindex
X-PUBLISHED-TTL:PT1H
BEGIN:VTIMEZONE
TZID:Europe/London
BEGIN:DAYLIGHT
TZOFFSETFROM:+0000
TZOFFSETTO:+0100
TZNAME:BST
DTSTART:20250330T010000
END:DAYLIGHT
BEGIN:STANDARD
TZOFFSETFROM:+0100
TZOFFSETTO:+0000
TZNAME:GMT
DTSTART:20251026T010000
END:STANDARD
END:VTIMEZONE
BEGIN:VEVENT
DTSTART;TZID=Europe/London:20250502T100000
DTEND;TZID=Europe/London:20250502T103000
DTSTAMP:20260422T092627
CREATED:20241105T091158Z
LAST-MODIFIED:20241105T091158Z
UID:12090-1746180000-1746181800@barlowhallprimary.co.uk
SUMMARY:Remembrance Assembly
DESCRIPTION:
URL:https://barlowhallprimary.co.uk/event/remembrance-assembly-26/
END:VEVENT
BEGIN:VEVENT
DTSTART;TZID=Europe/London:20250502T090000
DTEND;TZID=Europe/London:20250502T093000
DTSTAMP:20260422T092627
CREATED:20250428T153835Z
LAST-MODIFIED:20250502T073847Z
UID:18269-1746176400-1746178200@barlowhallprimary.co.uk
SUMMARY:Assembly Year 1 2 celebration of learning
DESCRIPTION:
URL:https://barlowhallprimary.co.uk/event/assembly-year-1-2-celebration-of-learning/
END:VEVENT
BEGIN:VEVENT
DTSTART;VALUE=DATE:20250502
DTEND;VALUE=DATE:20250503
DTSTAMP:20260422T092627
CREATED:20240905T111736Z
LAST-MODIFIED:20250502T225337Z
UID:9955-1746144000-1746230399@barlowhallprimary.co.uk
SUMMARY:City in the Community sessions Y1/2/3/5 and 6
DESCRIPTION:
URL:https://barlowhallprimary.co.uk/event/city-in-the-community-sessions-y1-2-3-5-and-6-34/
END:VEVENT
BEGIN:VEVENT
DTSTART;TZID=Europe/London:20250501T131500
DTEND;TZID=Europe/London:20250501T141500
DTSTAMP:20260422T092627
CREATED:20241031T125637Z
LAST-MODIFIED:20250501T130904Z
UID:11689-1746105300-1746108900@barlowhallprimary.co.uk
SUMMARY:Sure Start Cheeky Chops Playtime Parent and Toddler session KS1 Hall
DESCRIPTION:
URL:https://barlowhallprimary.co.uk/event/sure-start-cheeky-chops-playtime-parent-and-toddler-session-ks1-hall-26/
END:VEVENT
BEGIN:VEVENT
DTSTART;VALUE=DATE:20250501
DTEND;VALUE=DATE:20250502
DTSTAMP:20260422T092627
CREATED:20240323T073604Z
LAST-MODIFIED:20240603T091434Z
UID:3994-1746057600-1746143999@barlowhallprimary.co.uk
SUMMARY:City Thrive programme starting for year 6s
DESCRIPTION:
URL:https://barlowhallprimary.co.uk/event/city-thrive-programme-starting-for-year-6s-55/
END:VEVENT
BEGIN:VEVENT
DTSTART;TZID=Europe/London:20250429T143000
DTEND;TZID=Europe/London:20250429T150000
DTSTAMP:20260422T092627
CREATED:20241219T111741Z
LAST-MODIFIED:20250429T135333Z
UID:14221-1745937000-1745938800@barlowhallprimary.co.uk
SUMMARY:Oracy Assembly
DESCRIPTION:
URL:https://barlowhallprimary.co.uk/event/oracy-assembly-25/
END:VEVENT
BEGIN:VEVENT
DTSTART;TZID=Europe/London:20250429T143000
DTEND;TZID=Europe/London:20250429T150000
DTSTAMP:20260422T092627
CREATED:20241125T124209Z
LAST-MODIFIED:20241219T101730Z
UID:13299-1745937000-1745938800@barlowhallprimary.co.uk
SUMMARY:Oracy Assembly
DESCRIPTION:
URL:https://barlowhallprimary.co.uk/event/oracy-assembly-13/
END:VEVENT
BEGIN:VEVENT
DTSTART;TZID=Europe/London:20250429T093000
DTEND;TZID=Europe/London:20250429T110000
DTSTAMP:20260422T092627
CREATED:20250424T135341Z
LAST-MODIFIED:20250429T093856Z
UID:18153-1745919000-1745924400@barlowhallprimary.co.uk
SUMMARY:Y1 Science walk to the waterpark
DESCRIPTION:
URL:https://barlowhallprimary.co.uk/event/y1-science-walk-to-the-waterpark/
END:VEVENT
BEGIN:VEVENT
DTSTART;TZID=Europe/London:20250425T100000
DTEND;TZID=Europe/London:20250425T110000
DTSTAMP:20260422T092627
CREATED:20241105T101144Z
LAST-MODIFIED:20250113T093233Z
UID:12208-1745575200-1745578800@barlowhallprimary.co.uk
SUMMARY:AC Assembly
DESCRIPTION:
URL:https://barlowhallprimary.co.uk/event/ac-assembly-31/
END:VEVENT
BEGIN:VEVENT
DTSTART;TZID=Europe/London:20250425T100000
DTEND;TZID=Europe/London:20250425T103000
DTSTAMP:20260422T092627
CREATED:20250113T103359Z
LAST-MODIFIED:20250425T090910Z
UID:14972-1745575200-1745577000@barlowhallprimary.co.uk
SUMMARY:AC Assembly
DESCRIPTION:
URL:https://barlowhallprimary.co.uk/event/ac-assembly-148/
END:VEVENT
BEGIN:VEVENT
DTSTART;TZID=Europe/London:20250425T100000
DTEND;TZID=Europe/London:20250425T103000
DTSTAMP:20260422T092627
CREATED:20241105T101144Z
LAST-MODIFIED:20250113T093233Z
UID:12209-1745575200-1745577000@barlowhallprimary.co.uk
SUMMARY:AC Assembly
DESCRIPTION:
URL:https://barlowhallprimary.co.uk/event/ac-assembly-32/
END:VEVENT
BEGIN:VEVENT
DTSTART;TZID=Europe/London:20250425T100000
DTEND;TZID=Europe/London:20250425T103000
DTSTAMP:20260422T092627
CREATED:20241105T091158Z
LAST-MODIFIED:20241105T091158Z
UID:12089-1745575200-1745577000@barlowhallprimary.co.uk
SUMMARY:Remembrance Assembly
DESCRIPTION:
URL:https://barlowhallprimary.co.uk/event/remembrance-assembly-25/
END:VEVENT
BEGIN:VEVENT
DTSTART;VALUE=DATE:20250425
DTEND;VALUE=DATE:20250426
DTSTAMP:20260422T092627
CREATED:20250422T090834Z
LAST-MODIFIED:20250425T232423Z
UID:18088-1745539200-1745625599@barlowhallprimary.co.uk
SUMMARY:Non-uniform day for Gaskell House
DESCRIPTION:
URL:https://barlowhallprimary.co.uk/event/non-uniform-day-for-gaskell-house/
END:VEVENT
BEGIN:VEVENT
DTSTART;VALUE=DATE:20250425
DTEND;VALUE=DATE:20250426
DTSTAMP:20260422T092627
CREATED:20241106T114140Z
LAST-MODIFIED:20250425T232423Z
UID:12482-1745539200-1745625599@barlowhallprimary.co.uk
SUMMARY:Curriculum half term for Summer 1 sent out
DESCRIPTION:
URL:https://barlowhallprimary.co.uk/event/curriculum-half-term-for-summer-1-sent-out/
END:VEVENT
BEGIN:VEVENT
DTSTART;VALUE=DATE:20250425
DTEND;VALUE=DATE:20250426
DTSTAMP:20260422T092627
CREATED:20240905T111736Z
LAST-MODIFIED:20250425T222336Z
UID:9954-1745539200-1745625599@barlowhallprimary.co.uk
SUMMARY:City in the Community sessions Y1/2/3/5 and 6
DESCRIPTION:
URL:https://barlowhallprimary.co.uk/event/city-in-the-community-sessions-y1-2-3-5-and-6-33/
END:VEVENT
BEGIN:VEVENT
DTSTART;TZID=Europe/London:20250424T131500
DTEND;TZID=Europe/London:20250424T141500
DTSTAMP:20260422T092627
CREATED:20241031T125637Z
LAST-MODIFIED:20250424T125335Z
UID:11688-1745500500-1745504100@barlowhallprimary.co.uk
SUMMARY:Sure Start Cheeky Chops Playtime Parent and Toddler session KS1 Hall
DESCRIPTION:
URL:https://barlowhallprimary.co.uk/event/sure-start-cheeky-chops-playtime-parent-and-toddler-session-ks1-hall-25/
END:VEVENT
BEGIN:VEVENT
DTSTART;VALUE=DATE:20250424
DTEND;VALUE=DATE:20250425
DTSTAMP:20260422T092627
CREATED:20250210T143302Z
LAST-MODIFIED:20250424T235339Z
UID:15945-1745452800-1745539199@barlowhallprimary.co.uk
SUMMARY:Y2+Y3 trip to Martin Mere
DESCRIPTION:
URL:https://barlowhallprimary.co.uk/event/y2y3-trip-to-martin-mere/
END:VEVENT
BEGIN:VEVENT
DTSTART;VALUE=DATE:20250424
DTEND;VALUE=DATE:20250425
DTSTAMP:20260422T092627
CREATED:20240323T073604Z
LAST-MODIFIED:20240603T091434Z
UID:3993-1745452800-1745539199@barlowhallprimary.co.uk
SUMMARY:City Thrive programme starting for year 6s
DESCRIPTION:
URL:https://barlowhallprimary.co.uk/event/city-thrive-programme-starting-for-year-6s-54/
END:VEVENT
BEGIN:VEVENT
DTSTART;VALUE=DATE:20250422
DTEND;VALUE=DATE:20250423
DTSTAMP:20260422T092627
CREATED:20241106T114140Z
LAST-MODIFIED:20250422T232357Z
UID:12481-1745280000-1745366399@barlowhallprimary.co.uk
SUMMARY:Climate and Routines audit(behaviour): unstructured times
DESCRIPTION:
URL:https://barlowhallprimary.co.uk/event/climate-and-routines-auditbehaviour-unstructured-times-2/
END:VEVENT
BEGIN:VEVENT
DTSTART;VALUE=DATE:20250422
DTEND;VALUE=DATE:20250423
DTSTAMP:20260422T092627
CREATED:20240606T122932Z
LAST-MODIFIED:20250422T232357Z
UID:6704-1745280000-1745366399@barlowhallprimary.co.uk
SUMMARY:Return to School
DESCRIPTION:
URL:https://barlowhallprimary.co.uk/event/return-to-school-6/
END:VEVENT
BEGIN:VEVENT
DTSTART;TZID=Europe/London:20250418T100000
DTEND;TZID=Europe/London:20250418T110000
DTSTAMP:20260422T092627
CREATED:20250113T103359Z
LAST-MODIFIED:20250207T161725Z
UID:14970-1744970400-1744974000@barlowhallprimary.co.uk
SUMMARY:AC Assembly
DESCRIPTION:
URL:https://barlowhallprimary.co.uk/event/ac-assembly-146/
END:VEVENT
BEGIN:VEVENT
DTSTART;TZID=Europe/London:20250418T100000
DTEND;TZID=Europe/London:20250418T103000
DTSTAMP:20260422T092627
CREATED:20250113T103359Z
LAST-MODIFIED:20250207T161725Z
UID:14971-1744970400-1744972200@barlowhallprimary.co.uk
SUMMARY:AC Assembly
DESCRIPTION:
URL:https://barlowhallprimary.co.uk/event/ac-assembly-147/
END:VEVENT
BEGIN:VEVENT
DTSTART;TZID=Europe/London:20250418T100000
DTEND;TZID=Europe/London:20250418T103000
DTSTAMP:20260422T092627
CREATED:20241105T101144Z
LAST-MODIFIED:20250113T093232Z
UID:12207-1744970400-1744972200@barlowhallprimary.co.uk
SUMMARY:AC Assembly
DESCRIPTION:
URL:https://barlowhallprimary.co.uk/event/ac-assembly-30/
END:VEVENT
BEGIN:VEVENT
DTSTART;TZID=Europe/London:20250418T100000
DTEND;TZID=Europe/London:20250418T103000
DTSTAMP:20260422T092627
CREATED:20241105T091158Z
LAST-MODIFIED:20241105T091158Z
UID:12088-1744970400-1744972200@barlowhallprimary.co.uk
SUMMARY:Remembrance Assembly
DESCRIPTION:
URL:https://barlowhallprimary.co.uk/event/remembrance-assembly-24/
END:VEVENT
BEGIN:VEVENT
DTSTART;VALUE=DATE:20250418
DTEND;VALUE=DATE:20250419
DTSTAMP:20260422T092627
CREATED:20240905T111736Z
LAST-MODIFIED:20250207T161725Z
UID:9953-1744934400-1745020799@barlowhallprimary.co.uk
SUMMARY:City in the Community sessions Y1/2/3/5 and 6
DESCRIPTION:
URL:https://barlowhallprimary.co.uk/event/city-in-the-community-sessions-y1-2-3-5-and-6-32/
END:VEVENT
BEGIN:VEVENT
DTSTART;TZID=Europe/London:20250417T131500
DTEND;TZID=Europe/London:20250417T141500
DTSTAMP:20260422T092627
CREATED:20241031T125637Z
LAST-MODIFIED:20250207T161724Z
UID:11687-1744895700-1744899300@barlowhallprimary.co.uk
SUMMARY:Sure Start Cheeky Chops Playtime Parent and Toddler session KS1 Hall
DESCRIPTION:
URL:https://barlowhallprimary.co.uk/event/sure-start-cheeky-chops-playtime-parent-and-toddler-session-ks1-hall-24/
END:VEVENT
BEGIN:VEVENT
DTSTART;VALUE=DATE:20250417
DTEND;VALUE=DATE:20250418
DTSTAMP:20260422T092627
CREATED:20240323T073604Z
LAST-MODIFIED:20240603T091434Z
UID:3992-1744848000-1744934399@barlowhallprimary.co.uk
SUMMARY:City Thrive programme starting for year 6s
DESCRIPTION:
URL:https://barlowhallprimary.co.uk/event/city-thrive-programme-starting-for-year-6s-53/
END:VEVENT
BEGIN:VEVENT
DTSTART;TZID=Europe/London:20250415T143000
DTEND;TZID=Europe/London:20250415T150000
DTSTAMP:20260422T092627
CREATED:20241125T124208Z
LAST-MODIFIED:20241219T101729Z
UID:13298-1744727400-1744729200@barlowhallprimary.co.uk
SUMMARY:Oracy Assembly
DESCRIPTION:
URL:https://barlowhallprimary.co.uk/event/oracy-assembly-12/
END:VEVENT
BEGIN:VEVENT
DTSTART;TZID=Europe/London:20250411T100000
DTEND;TZID=Europe/London:20250411T110000
DTSTAMP:20260422T092627
CREATED:20241105T101144Z
LAST-MODIFIED:20250113T093232Z
UID:12205-1744365600-1744369200@barlowhallprimary.co.uk
SUMMARY:AC Assembly
DESCRIPTION:
URL:https://barlowhallprimary.co.uk/event/ac-assembly-28/
END:VEVENT
BEGIN:VEVENT
DTSTART;TZID=Europe/London:20250411T100000
DTEND;TZID=Europe/London:20250411T103000
DTSTAMP:20260422T092627
CREATED:20250113T103359Z
LAST-MODIFIED:20250211T123338Z
UID:14969-1744365600-1744367400@barlowhallprimary.co.uk
SUMMARY:AC Assembly
DESCRIPTION:
URL:https://barlowhallprimary.co.uk/event/ac-assembly-145/
END:VEVENT
END:VCALENDAR