BEGIN:VCALENDAR
VERSION:2.0
PRODID:-//Barlow Hall Primary School - ECPv6.13.2.1//NONSGML v1.0//EN
CALSCALE:GREGORIAN
METHOD:PUBLISH
X-WR-CALNAME:Barlow Hall Primary School
X-ORIGINAL-URL:https://barlowhallprimary.co.uk
X-WR-CALDESC:Events for Barlow Hall Primary School
REFRESH-INTERVAL;VALUE=DURATION:PT1H
X-Robots-Tag:noindex
X-PUBLISHED-TTL:PT1H
BEGIN:VTIMEZONE
TZID:Europe/London
BEGIN:DAYLIGHT
TZOFFSETFROM:+0000
TZOFFSETTO:+0100
TZNAME:BST
DTSTART:20270328T010000
END:DAYLIGHT
BEGIN:STANDARD
TZOFFSETFROM:+0100
TZOFFSETTO:+0000
TZNAME:GMT
DTSTART:20271031T010000
END:STANDARD
END:VTIMEZONE
BEGIN:VEVENT
DTSTART;TZID=Europe/London:20270913T095000
DTEND;TZID=Europe/London:20270913T102000
DTSTAMP:20260419T195659
CREATED:20251012T123834Z
LAST-MODIFIED:20260301T114142Z
UID:22815-1820829000-1820830800@barlowhallprimary.co.uk
SUMMARY:Celebration assembly
DESCRIPTION:
URL:https://barlowhallprimary.co.uk/event/celebration-assembly-128/
END:VEVENT
BEGIN:VEVENT
DTSTART;TZID=Europe/London:20270917T095000
DTEND;TZID=Europe/London:20270917T102000
DTSTAMP:20260419T195659
CREATED:20251012T123834Z
LAST-MODIFIED:20260301T114142Z
UID:22816-1821174600-1821176400@barlowhallprimary.co.uk
SUMMARY:Themed Assembly
DESCRIPTION:
URL:https://barlowhallprimary.co.uk/event/themed-assembly-106/
END:VEVENT
BEGIN:VEVENT
DTSTART;TZID=Europe/London:20270920T095000
DTEND;TZID=Europe/London:20270920T102000
DTSTAMP:20260419T195659
CREATED:20251012T123835Z
LAST-MODIFIED:20260301T114142Z
UID:22817-1821433800-1821435600@barlowhallprimary.co.uk
SUMMARY:Celebration assembly
DESCRIPTION:
URL:https://barlowhallprimary.co.uk/event/celebration-assembly-129/
END:VEVENT
BEGIN:VEVENT
DTSTART;TZID=Europe/London:20270921T100000
DTEND;TZID=Europe/London:20270921T102000
DTSTAMP:20260419T195659
CREATED:20251012T123835Z
LAST-MODIFIED:20260301T114142Z
UID:22818-1821520800-1821522000@barlowhallprimary.co.uk
SUMMARY:Oracy Assembly - fortnightly
DESCRIPTION:
URL:https://barlowhallprimary.co.uk/event/oracy-assembly-fortnightly-50/
END:VEVENT
BEGIN:VEVENT
DTSTART;TZID=Europe/London:20270924T095000
DTEND;TZID=Europe/London:20270924T102000
DTSTAMP:20260419T195659
CREATED:20251012T123835Z
LAST-MODIFIED:20260301T114142Z
UID:22819-1821779400-1821781200@barlowhallprimary.co.uk
SUMMARY:Themed Assembly
DESCRIPTION:
URL:https://barlowhallprimary.co.uk/event/themed-assembly-107/
END:VEVENT
BEGIN:VEVENT
DTSTART;TZID=Europe/London:20270927T095000
DTEND;TZID=Europe/London:20270927T102000
DTSTAMP:20260419T195659
CREATED:20251012T123846Z
LAST-MODIFIED:20260301T114142Z
UID:22820-1822038600-1822040400@barlowhallprimary.co.uk
SUMMARY:Celebration assembly
DESCRIPTION:
URL:https://barlowhallprimary.co.uk/event/celebration-assembly-130/
END:VEVENT
BEGIN:VEVENT
DTSTART;TZID=Europe/London:20271001T095000
DTEND;TZID=Europe/London:20271001T102000
DTSTAMP:20260419T195659
CREATED:20251012T123846Z
LAST-MODIFIED:20260301T114142Z
UID:22821-1822384200-1822386000@barlowhallprimary.co.uk
SUMMARY:Themed Assembly
DESCRIPTION:
URL:https://barlowhallprimary.co.uk/event/themed-assembly-108/
END:VEVENT
BEGIN:VEVENT
DTSTART;TZID=Europe/London:20271004T095000
DTEND;TZID=Europe/London:20271004T102000
DTSTAMP:20260419T195659
CREATED:20251012T123846Z
LAST-MODIFIED:20260301T114142Z
UID:22822-1822643400-1822645200@barlowhallprimary.co.uk
SUMMARY:Celebration assembly
DESCRIPTION:
URL:https://barlowhallprimary.co.uk/event/celebration-assembly-131/
END:VEVENT
BEGIN:VEVENT
DTSTART;TZID=Europe/London:20271005T100000
DTEND;TZID=Europe/London:20271005T102000
DTSTAMP:20260419T195659
CREATED:20251012T123846Z
LAST-MODIFIED:20260301T114142Z
UID:22823-1822730400-1822731600@barlowhallprimary.co.uk
SUMMARY:Oracy Assembly - fortnightly
DESCRIPTION:
URL:https://barlowhallprimary.co.uk/event/oracy-assembly-fortnightly-51/
END:VEVENT
BEGIN:VEVENT
DTSTART;TZID=Europe/London:20271008T095000
DTEND;TZID=Europe/London:20271008T102000
DTSTAMP:20260419T195659
CREATED:20251012T123846Z
LAST-MODIFIED:20260301T114142Z
UID:22824-1822989000-1822990800@barlowhallprimary.co.uk
SUMMARY:Themed Assembly
DESCRIPTION:
URL:https://barlowhallprimary.co.uk/event/themed-assembly-109/
END:VEVENT
BEGIN:VEVENT
DTSTART;TZID=Europe/London:20271011T095000
DTEND;TZID=Europe/London:20271011T102000
DTSTAMP:20260419T195659
CREATED:20251012T123846Z
LAST-MODIFIED:20260301T114153Z
UID:22825-1823248200-1823250000@barlowhallprimary.co.uk
SUMMARY:Celebration assembly
DESCRIPTION:
URL:https://barlowhallprimary.co.uk/event/celebration-assembly-132/
END:VEVENT
BEGIN:VEVENT
DTSTART;TZID=Europe/London:20271015T095000
DTEND;TZID=Europe/London:20271015T102000
DTSTAMP:20260419T195659
CREATED:20251116T163624Z
LAST-MODIFIED:20260301T114153Z
UID:22960-1823593800-1823595600@barlowhallprimary.co.uk
SUMMARY:Themed Assembly
DESCRIPTION:
URL:https://barlowhallprimary.co.uk/event/themed-assembly-110/
END:VEVENT
BEGIN:VEVENT
DTSTART;TZID=Europe/London:20271018T095000
DTEND;TZID=Europe/London:20271018T102000
DTSTAMP:20260419T195659
CREATED:20251116T163624Z
LAST-MODIFIED:20260301T114153Z
UID:22961-1823853000-1823854800@barlowhallprimary.co.uk
SUMMARY:Celebration assembly
DESCRIPTION:
URL:https://barlowhallprimary.co.uk/event/celebration-assembly-133/
END:VEVENT
BEGIN:VEVENT
DTSTART;TZID=Europe/London:20271019T100000
DTEND;TZID=Europe/London:20271019T102000
DTSTAMP:20260419T195659
CREATED:20251116T163624Z
LAST-MODIFIED:20260301T114153Z
UID:22962-1823940000-1823941200@barlowhallprimary.co.uk
SUMMARY:Oracy Assembly - fortnightly
DESCRIPTION:
URL:https://barlowhallprimary.co.uk/event/oracy-assembly-fortnightly-52/
END:VEVENT
BEGIN:VEVENT
DTSTART;TZID=Europe/London:20271022T095000
DTEND;TZID=Europe/London:20271022T102000
DTSTAMP:20260419T195659
CREATED:20251116T163624Z
LAST-MODIFIED:20260301T114153Z
UID:22963-1824198600-1824200400@barlowhallprimary.co.uk
SUMMARY:Themed Assembly
DESCRIPTION:
URL:https://barlowhallprimary.co.uk/event/themed-assembly-111/
END:VEVENT
BEGIN:VEVENT
DTSTART;TZID=Europe/London:20271025T095000
DTEND;TZID=Europe/London:20271025T102000
DTSTAMP:20260419T195659
CREATED:20251116T163624Z
LAST-MODIFIED:20260301T114153Z
UID:22964-1824457800-1824459600@barlowhallprimary.co.uk
SUMMARY:Celebration assembly
DESCRIPTION:
URL:https://barlowhallprimary.co.uk/event/celebration-assembly-134/
END:VEVENT
BEGIN:VEVENT
DTSTART;TZID=Europe/London:20271029T095000
DTEND;TZID=Europe/London:20271029T102000
DTSTAMP:20260419T195659
CREATED:20251116T163625Z
LAST-MODIFIED:20260301T114153Z
UID:22965-1824803400-1824805200@barlowhallprimary.co.uk
SUMMARY:Themed Assembly
DESCRIPTION:
URL:https://barlowhallprimary.co.uk/event/themed-assembly-112/
END:VEVENT
BEGIN:VEVENT
DTSTART;TZID=Europe/London:20271101T095000
DTEND;TZID=Europe/London:20271101T102000
DTSTAMP:20260419T195659
CREATED:20251116T163625Z
LAST-MODIFIED:20260301T114153Z
UID:22966-1825062600-1825064400@barlowhallprimary.co.uk
SUMMARY:Celebration assembly
DESCRIPTION:
URL:https://barlowhallprimary.co.uk/event/celebration-assembly-135/
END:VEVENT
BEGIN:VEVENT
DTSTART;TZID=Europe/London:20271102T100000
DTEND;TZID=Europe/London:20271102T102000
DTSTAMP:20260419T195659
CREATED:20251116T163636Z
LAST-MODIFIED:20260301T114153Z
UID:22967-1825149600-1825150800@barlowhallprimary.co.uk
SUMMARY:Oracy Assembly - fortnightly
DESCRIPTION:
URL:https://barlowhallprimary.co.uk/event/oracy-assembly-fortnightly-53/
END:VEVENT
BEGIN:VEVENT
DTSTART;TZID=Europe/London:20271105T095000
DTEND;TZID=Europe/London:20271105T102000
DTSTAMP:20260419T195659
CREATED:20251116T163636Z
LAST-MODIFIED:20260301T114153Z
UID:22968-1825408200-1825410000@barlowhallprimary.co.uk
SUMMARY:Themed Assembly
DESCRIPTION:
URL:https://barlowhallprimary.co.uk/event/themed-assembly-113/
END:VEVENT
BEGIN:VEVENT
DTSTART;TZID=Europe/London:20271108T095000
DTEND;TZID=Europe/London:20271108T102000
DTSTAMP:20260419T195659
CREATED:20251116T163636Z
LAST-MODIFIED:20260301T114205Z
UID:22969-1825667400-1825669200@barlowhallprimary.co.uk
SUMMARY:Celebration assembly
DESCRIPTION:
URL:https://barlowhallprimary.co.uk/event/celebration-assembly-136/
END:VEVENT
BEGIN:VEVENT
DTSTART;TZID=Europe/London:20271112T095000
DTEND;TZID=Europe/London:20271112T102000
DTSTAMP:20260419T195659
CREATED:20251116T163636Z
LAST-MODIFIED:20260301T114205Z
UID:22970-1826013000-1826014800@barlowhallprimary.co.uk
SUMMARY:Themed Assembly
DESCRIPTION:
URL:https://barlowhallprimary.co.uk/event/themed-assembly-114/
END:VEVENT
BEGIN:VEVENT
DTSTART;TZID=Europe/London:20271115T095000
DTEND;TZID=Europe/London:20271115T102000
DTSTAMP:20260419T195659
CREATED:20251116T163636Z
LAST-MODIFIED:20260301T114205Z
UID:22971-1826272200-1826274000@barlowhallprimary.co.uk
SUMMARY:Celebration assembly
DESCRIPTION:
URL:https://barlowhallprimary.co.uk/event/celebration-assembly-137/
END:VEVENT
BEGIN:VEVENT
DTSTART;TZID=Europe/London:20271116T100000
DTEND;TZID=Europe/London:20271116T102000
DTSTAMP:20260419T195659
CREATED:20251116T163636Z
LAST-MODIFIED:20260301T114205Z
UID:22972-1826359200-1826360400@barlowhallprimary.co.uk
SUMMARY:Oracy Assembly - fortnightly
DESCRIPTION:
URL:https://barlowhallprimary.co.uk/event/oracy-assembly-fortnightly-54/
END:VEVENT
BEGIN:VEVENT
DTSTART;TZID=Europe/London:20271119T095000
DTEND;TZID=Europe/London:20271119T102000
DTSTAMP:20260419T195659
CREATED:20260122T192817Z
LAST-MODIFIED:20260301T114205Z
UID:23241-1826617800-1826619600@barlowhallprimary.co.uk
SUMMARY:Themed Assembly
DESCRIPTION:
URL:https://barlowhallprimary.co.uk/event/themed-assembly-115/
END:VEVENT
BEGIN:VEVENT
DTSTART;TZID=Europe/London:20271122T095000
DTEND;TZID=Europe/London:20271122T102000
DTSTAMP:20260419T195659
CREATED:20260122T192817Z
LAST-MODIFIED:20260301T114205Z
UID:23242-1826877000-1826878800@barlowhallprimary.co.uk
SUMMARY:Celebration assembly
DESCRIPTION:
URL:https://barlowhallprimary.co.uk/event/celebration-assembly-138/
END:VEVENT
BEGIN:VEVENT
DTSTART;TZID=Europe/London:20271126T095000
DTEND;TZID=Europe/London:20271126T102000
DTSTAMP:20260419T195659
CREATED:20260122T192817Z
LAST-MODIFIED:20260301T114205Z
UID:23243-1827222600-1827224400@barlowhallprimary.co.uk
SUMMARY:Themed Assembly
DESCRIPTION:
URL:https://barlowhallprimary.co.uk/event/themed-assembly-116/
END:VEVENT
BEGIN:VEVENT
DTSTART;TZID=Europe/London:20271129T095000
DTEND;TZID=Europe/London:20271129T102000
DTSTAMP:20260419T195659
CREATED:20260122T192817Z
LAST-MODIFIED:20260301T114205Z
UID:23244-1827481800-1827483600@barlowhallprimary.co.uk
SUMMARY:Celebration assembly
DESCRIPTION:
URL:https://barlowhallprimary.co.uk/event/celebration-assembly-139/
END:VEVENT
BEGIN:VEVENT
DTSTART;TZID=Europe/London:20271130T100000
DTEND;TZID=Europe/London:20271130T102000
DTSTAMP:20260419T195659
CREATED:20260122T192818Z
LAST-MODIFIED:20260301T114205Z
UID:23245-1827568800-1827570000@barlowhallprimary.co.uk
SUMMARY:Oracy Assembly - fortnightly
DESCRIPTION:
URL:https://barlowhallprimary.co.uk/event/oracy-assembly-fortnightly-55/
END:VEVENT
BEGIN:VEVENT
DTSTART;TZID=Europe/London:20271203T095000
DTEND;TZID=Europe/London:20271203T102000
DTSTAMP:20260419T195659
CREATED:20260122T192818Z
LAST-MODIFIED:20260301T114205Z
UID:23246-1827827400-1827829200@barlowhallprimary.co.uk
SUMMARY:Themed Assembly
DESCRIPTION:
URL:https://barlowhallprimary.co.uk/event/themed-assembly-117/
END:VEVENT
END:VCALENDAR