BEGIN:VCALENDAR
VERSION:2.0
PRODID:-//Barlow Hall Primary School - ECPv6.13.2.1//NONSGML v1.0//EN
CALSCALE:GREGORIAN
METHOD:PUBLISH
X-WR-CALNAME:Barlow Hall Primary School
X-ORIGINAL-URL:https://barlowhallprimary.co.uk
X-WR-CALDESC:Events for Barlow Hall Primary School
REFRESH-INTERVAL;VALUE=DURATION:PT1H
X-Robots-Tag:noindex
X-PUBLISHED-TTL:PT1H
BEGIN:VTIMEZONE
TZID:Europe/London
BEGIN:DAYLIGHT
TZOFFSETFROM:+0000
TZOFFSETTO:+0100
TZNAME:BST
DTSTART:20250330T010000
END:DAYLIGHT
BEGIN:STANDARD
TZOFFSETFROM:+0100
TZOFFSETTO:+0000
TZNAME:GMT
DTSTART:20251026T010000
END:STANDARD
END:VTIMEZONE
BEGIN:VEVENT
DTSTART;TZID=Europe/London:20250523T100000
DTEND;TZID=Europe/London:20250523T110000
DTSTAMP:20260422T042517
CREATED:20241105T101145Z
LAST-MODIFIED:20250113T093233Z
UID:12214-1747994400-1747998000@barlowhallprimary.co.uk
SUMMARY:AC Assembly
DESCRIPTION:
URL:https://barlowhallprimary.co.uk/event/ac-assembly-37/
END:VEVENT
BEGIN:VEVENT
DTSTART;TZID=Europe/London:20250523T100000
DTEND;TZID=Europe/London:20250523T103000
DTSTAMP:20260422T042517
CREATED:20241105T101145Z
LAST-MODIFIED:20250113T093233Z
UID:12215-1747994400-1747996200@barlowhallprimary.co.uk
SUMMARY:AC Assembly
DESCRIPTION:
URL:https://barlowhallprimary.co.uk/event/ac-assembly-38/
END:VEVENT
BEGIN:VEVENT
DTSTART;TZID=Europe/London:20250523T100000
DTEND;TZID=Europe/London:20250523T103000
DTSTAMP:20260422T042517
CREATED:20241105T091158Z
LAST-MODIFIED:20241105T091158Z
UID:12093-1747994400-1747996200@barlowhallprimary.co.uk
SUMMARY:Remembrance Assembly
DESCRIPTION:
URL:https://barlowhallprimary.co.uk/event/remembrance-assembly-29/
END:VEVENT
BEGIN:VEVENT
DTSTART;TZID=Europe/London:20250523T090000
DTEND;TZID=Europe/London:20250523T120000
DTSTAMP:20260422T042517
CREATED:20250519T142333Z
LAST-MODIFIED:20250523T102332Z
UID:18774-1747990800-1748001600@barlowhallprimary.co.uk
SUMMARY:Sharon Drinkwater parent cooking group - ASC
DESCRIPTION:
URL:https://barlowhallprimary.co.uk/event/sharon-drinkwater-parent-cooking-group-asc/
END:VEVENT
BEGIN:VEVENT
DTSTART;VALUE=DATE:20250523
DTEND;VALUE=DATE:20250524
DTSTAMP:20260422T042517
CREATED:20240905T111736Z
LAST-MODIFIED:20250523T225339Z
UID:9958-1747958400-1748044799@barlowhallprimary.co.uk
SUMMARY:City in the Community sessions Y1/2/3/5 and 6
DESCRIPTION:
URL:https://barlowhallprimary.co.uk/event/city-in-the-community-sessions-y1-2-3-5-and-6-37/
END:VEVENT
BEGIN:VEVENT
DTSTART;TZID=Europe/London:20250522T131500
DTEND;TZID=Europe/London:20250522T141500
DTSTAMP:20260422T042517
CREATED:20241031T125637Z
LAST-MODIFIED:20250522T123832Z
UID:11692-1747919700-1747923300@barlowhallprimary.co.uk
SUMMARY:Sure Start Cheeky Chops Playtime Parent and Toddler session KS1 Hall
DESCRIPTION:
URL:https://barlowhallprimary.co.uk/event/sure-start-cheeky-chops-playtime-parent-and-toddler-session-ks1-hall-29/
END:VEVENT
BEGIN:VEVENT
DTSTART;VALUE=DATE:20250522
DTEND;VALUE=DATE:20250523
DTSTAMP:20260422T042517
CREATED:20240323T073604Z
LAST-MODIFIED:20240603T091434Z
UID:3997-1747872000-1747958399@barlowhallprimary.co.uk
SUMMARY:City Thrive programme starting for year 6s
DESCRIPTION:
URL:https://barlowhallprimary.co.uk/event/city-thrive-programme-starting-for-year-6s-58/
END:VEVENT
BEGIN:VEVENT
DTSTART;TZID=Europe/London:20250520T151500
DTEND;TZID=Europe/London:20250520T180000
DTSTAMP:20260422T042517
CREATED:20250224T144139Z
LAST-MODIFIED:20250520T160844Z
UID:16533-1747754100-1747764000@barlowhallprimary.co.uk
SUMMARY:East Dynamos Cricket : Burnage Academy for Boys (\, Manchester) Parents collect at 6 pm
DESCRIPTION:
URL:https://barlowhallprimary.co.uk/event/east-dynamos-cricket-burnage-academy-for-boys-manchester-parents-collect-at-6-pm/
END:VEVENT
BEGIN:VEVENT
DTSTART;TZID=Europe/London:20250520T143000
DTEND;TZID=Europe/London:20250520T150000
DTSTAMP:20260422T042517
CREATED:20241219T111742Z
LAST-MODIFIED:20250404T081137Z
UID:14223-1747751400-1747753200@barlowhallprimary.co.uk
SUMMARY:Oracy Assembly
DESCRIPTION:
URL:https://barlowhallprimary.co.uk/event/oracy-assembly-27/
END:VEVENT
BEGIN:VEVENT
DTSTART;VALUE=DATE:20250519
DTEND;VALUE=DATE:20250520
DTSTAMP:20260422T042517
CREATED:20241106T124154Z
LAST-MODIFIED:20250519T232431Z
UID:12494-1747612800-1747699199@barlowhallprimary.co.uk
SUMMARY:KS1 SATs
DESCRIPTION:
URL:https://barlowhallprimary.co.uk/event/ks1-sats/
END:VEVENT
BEGIN:VEVENT
DTSTART;TZID=Europe/London:20250516T100000
DTEND;TZID=Europe/London:20250516T110000
DTSTAMP:20260422T042517
CREATED:20250113T103400Z
LAST-MODIFIED:20250404T081137Z
UID:14976-1747389600-1747393200@barlowhallprimary.co.uk
SUMMARY:AC Assembly
DESCRIPTION:
URL:https://barlowhallprimary.co.uk/event/ac-assembly-152/
END:VEVENT
BEGIN:VEVENT
DTSTART;TZID=Europe/London:20250516T100000
DTEND;TZID=Europe/London:20250516T103000
DTSTAMP:20260422T042517
CREATED:20250113T103400Z
LAST-MODIFIED:20250404T081137Z
UID:14977-1747389600-1747391400@barlowhallprimary.co.uk
SUMMARY:AC Assembly
DESCRIPTION:
URL:https://barlowhallprimary.co.uk/event/ac-assembly-153/
END:VEVENT
BEGIN:VEVENT
DTSTART;TZID=Europe/London:20250516T100000
DTEND;TZID=Europe/London:20250516T103000
DTSTAMP:20260422T042517
CREATED:20241105T101145Z
LAST-MODIFIED:20250113T093233Z
UID:12213-1747389600-1747391400@barlowhallprimary.co.uk
SUMMARY:AC Assembly
DESCRIPTION:
URL:https://barlowhallprimary.co.uk/event/ac-assembly-36/
END:VEVENT
BEGIN:VEVENT
DTSTART;TZID=Europe/London:20250516T100000
DTEND;TZID=Europe/London:20250516T103000
DTSTAMP:20260422T042517
CREATED:20241105T091158Z
LAST-MODIFIED:20241105T091158Z
UID:12092-1747389600-1747391400@barlowhallprimary.co.uk
SUMMARY:Remembrance Assembly
DESCRIPTION:
URL:https://barlowhallprimary.co.uk/event/remembrance-assembly-28/
END:VEVENT
BEGIN:VEVENT
DTSTART;VALUE=DATE:20250516
DTEND;VALUE=DATE:20250517
DTSTAMP:20260422T042517
CREATED:20240905T111736Z
LAST-MODIFIED:20250516T223850Z
UID:9957-1747353600-1747439999@barlowhallprimary.co.uk
SUMMARY:City in the Community sessions Y1/2/3/5 and 6
DESCRIPTION:
URL:https://barlowhallprimary.co.uk/event/city-in-the-community-sessions-y1-2-3-5-and-6-36/
END:VEVENT
BEGIN:VEVENT
DTSTART;TZID=Europe/London:20250515T131500
DTEND;TZID=Europe/London:20250515T141500
DTSTAMP:20260422T042517
CREATED:20241031T125637Z
LAST-MODIFIED:20250515T125417Z
UID:11691-1747314900-1747318500@barlowhallprimary.co.uk
SUMMARY:Sure Start Cheeky Chops Playtime Parent and Toddler session KS1 Hall
DESCRIPTION:
URL:https://barlowhallprimary.co.uk/event/sure-start-cheeky-chops-playtime-parent-and-toddler-session-ks1-hall-28/
END:VEVENT
BEGIN:VEVENT
DTSTART;TZID=Europe/London:20250515T090000
DTEND;TZID=Europe/London:20250515T110000
DTSTAMP:20260422T042517
CREATED:20250509T082332Z
LAST-MODIFIED:20250515T093834Z
UID:18531-1747299600-1747306800@barlowhallprimary.co.uk
SUMMARY:Inclusion coffee morning / drop-in Sure Start Centre
DESCRIPTION:
URL:https://barlowhallprimary.co.uk/event/inclusion-coffee-morning-drop-in-sure-start-centre/
END:VEVENT
BEGIN:VEVENT
DTSTART;TZID=Europe/London:20250515T090000
DTEND;TZID=Europe/London:20250515T110000
DTSTAMP:20260422T042517
CREATED:20240919T114709Z
LAST-MODIFIED:20250509T072337Z
UID:10552-1747299600-1747306800@barlowhallprimary.co.uk
SUMMARY:Inclusion coffee morning / drop-in
DESCRIPTION:
URL:https://barlowhallprimary.co.uk/event/inclusion-coffee-morning-drop-in-3/
END:VEVENT
BEGIN:VEVENT
DTSTART;VALUE=DATE:20250515
DTEND;VALUE=DATE:20250516
DTSTAMP:20260422T042517
CREATED:20240323T073604Z
LAST-MODIFIED:20240603T091434Z
UID:3996-1747267200-1747353599@barlowhallprimary.co.uk
SUMMARY:City Thrive programme starting for year 6s
DESCRIPTION:
URL:https://barlowhallprimary.co.uk/event/city-thrive-programme-starting-for-year-6s-57/
END:VEVENT
BEGIN:VEVENT
DTSTART;TZID=Europe/London:20250514T123000
DTEND;TZID=Europe/London:20250514T130000
DTSTAMP:20260422T042517
CREATED:20250509T082332Z
LAST-MODIFIED:20250514T115335Z
UID:18530-1747225800-1747227600@barlowhallprimary.co.uk
SUMMARY:School council meeting
DESCRIPTION:
URL:https://barlowhallprimary.co.uk/event/school-council-meeting/
END:VEVENT
BEGIN:VEVENT
DTSTART;TZID=Europe/London:20250513T143000
DTEND;TZID=Europe/London:20250513T150000
DTSTAMP:20260422T042517
CREATED:20241125T124209Z
LAST-MODIFIED:20241219T101730Z
UID:13300-1747146600-1747148400@barlowhallprimary.co.uk
SUMMARY:Oracy Assembly
DESCRIPTION:
URL:https://barlowhallprimary.co.uk/event/oracy-assembly-14/
END:VEVENT
BEGIN:VEVENT
DTSTART;TZID=Europe/London:20250513T130000
DTEND;TZID=Europe/London:20250513T150000
DTSTAMP:20260422T042517
CREATED:20250509T082332Z
LAST-MODIFIED:20250513T130839Z
UID:18529-1747141200-1747148400@barlowhallprimary.co.uk
SUMMARY:Year 3 out at Chorlton Water Park
DESCRIPTION:
URL:https://barlowhallprimary.co.uk/event/year-3-out-at-chorlton-water-park/
END:VEVENT
BEGIN:VEVENT
DTSTART;VALUE=DATE:20250512
DTEND;VALUE=DATE:20250513
DTSTAMP:20260422T042517
CREATED:20241106T124154Z
LAST-MODIFIED:20250512T235340Z
UID:12493-1747008000-1747094399@barlowhallprimary.co.uk
SUMMARY:KS2 SATs Week
DESCRIPTION:
URL:https://barlowhallprimary.co.uk/event/ks2-sats-week/
END:VEVENT
BEGIN:VEVENT
DTSTART;TZID=Europe/London:20250509T100000
DTEND;TZID=Europe/London:20250509T110000
DTSTAMP:20260422T042517
CREATED:20241105T101144Z
LAST-MODIFIED:20250113T093233Z
UID:12212-1746784800-1746788400@barlowhallprimary.co.uk
SUMMARY:AC Assembly
DESCRIPTION:
URL:https://barlowhallprimary.co.uk/event/ac-assembly-35/
END:VEVENT
BEGIN:VEVENT
DTSTART;TZID=Europe/London:20250509T100000
DTEND;TZID=Europe/London:20250509T103000
DTSTAMP:20260422T042517
CREATED:20250113T103400Z
LAST-MODIFIED:20250509T082332Z
UID:14975-1746784800-1746786600@barlowhallprimary.co.uk
SUMMARY:AC Assembly
DESCRIPTION:
URL:https://barlowhallprimary.co.uk/event/ac-assembly-151/
END:VEVENT
BEGIN:VEVENT
DTSTART;TZID=Europe/London:20250509T100000
DTEND;TZID=Europe/London:20250509T103000
DTSTAMP:20260422T042517
CREATED:20241105T101144Z
LAST-MODIFIED:20250113T093233Z
UID:12211-1746784800-1746786600@barlowhallprimary.co.uk
SUMMARY:AC Assembly
DESCRIPTION:
URL:https://barlowhallprimary.co.uk/event/ac-assembly-34/
END:VEVENT
BEGIN:VEVENT
DTSTART;TZID=Europe/London:20250509T100000
DTEND;TZID=Europe/London:20250509T103000
DTSTAMP:20260422T042517
CREATED:20241105T091158Z
LAST-MODIFIED:20241105T091158Z
UID:12091-1746784800-1746786600@barlowhallprimary.co.uk
SUMMARY:Remembrance Assembly
DESCRIPTION:
URL:https://barlowhallprimary.co.uk/event/remembrance-assembly-27/
END:VEVENT
BEGIN:VEVENT
DTSTART;VALUE=DATE:20250509
DTEND;VALUE=DATE:20250510
DTSTAMP:20260422T042517
CREATED:20240905T111736Z
LAST-MODIFIED:20250509T222336Z
UID:9956-1746748800-1746835199@barlowhallprimary.co.uk
SUMMARY:City in the Community sessions Y1/2/3/5 and 6
DESCRIPTION:
URL:https://barlowhallprimary.co.uk/event/city-in-the-community-sessions-y1-2-3-5-and-6-35/
END:VEVENT
BEGIN:VEVENT
DTSTART;TZID=Europe/London:20250508T131500
DTEND;TZID=Europe/London:20250508T141500
DTSTAMP:20260422T042517
CREATED:20241031T125637Z
LAST-MODIFIED:20250508T125403Z
UID:11690-1746710100-1746713700@barlowhallprimary.co.uk
SUMMARY:Sure Start Cheeky Chops Playtime Parent and Toddler session KS1 Hall
DESCRIPTION:
URL:https://barlowhallprimary.co.uk/event/sure-start-cheeky-chops-playtime-parent-and-toddler-session-ks1-hall-27/
END:VEVENT
BEGIN:VEVENT
DTSTART;VALUE=DATE:20250508
DTEND;VALUE=DATE:20250509
DTSTAMP:20260422T042517
CREATED:20240606T122932Z
LAST-MODIFIED:20250508T232348Z
UID:6706-1746662400-1746748799@barlowhallprimary.co.uk
SUMMARY:School Closed - INSET Day
DESCRIPTION:
URL:https://barlowhallprimary.co.uk/event/school-closed-inset-day-polling-day/
END:VEVENT
END:VCALENDAR