BEGIN:VCALENDAR
VERSION:2.0
PRODID:-//Barlow Hall Primary School - ECPv6.13.2.1//NONSGML v1.0//EN
CALSCALE:GREGORIAN
METHOD:PUBLISH
X-WR-CALNAME:Barlow Hall Primary School
X-ORIGINAL-URL:https://barlowhallprimary.co.uk
X-WR-CALDESC:Events for Barlow Hall Primary School
REFRESH-INTERVAL;VALUE=DURATION:PT1H
X-Robots-Tag:noindex
X-PUBLISHED-TTL:PT1H
BEGIN:VTIMEZONE
TZID:Europe/London
BEGIN:DAYLIGHT
TZOFFSETFROM:+0000
TZOFFSETTO:+0100
TZNAME:BST
DTSTART:20250330T010000
END:DAYLIGHT
BEGIN:STANDARD
TZOFFSETFROM:+0100
TZOFFSETTO:+0000
TZNAME:GMT
DTSTART:20251026T010000
END:STANDARD
END:VTIMEZONE
BEGIN:VEVENT
DTSTART;VALUE=DATE:20250627
DTEND;VALUE=DATE:20250628
DTSTAMP:20260421T192909
CREATED:20250613T090418Z
LAST-MODIFIED:20250627T233313Z
UID:19353-1750982400-1751068799@barlowhallprimary.co.uk
SUMMARY:Sports Week Fundraiser with Moses for new playground markings
DESCRIPTION:
URL:https://barlowhallprimary.co.uk/event/sports-week-fundraiser-with-moses-for-new-playground-markings/
END:VEVENT
BEGIN:VEVENT
DTSTART;VALUE=DATE:20250627
DTEND;VALUE=DATE:20250628
DTSTAMP:20260421T192909
CREATED:20240905T111736Z
LAST-MODIFIED:20250627T223313Z
UID:9963-1750982400-1751068799@barlowhallprimary.co.uk
SUMMARY:City in the Community sessions Y1/2/3/5 and 6
DESCRIPTION:
URL:https://barlowhallprimary.co.uk/event/city-in-the-community-sessions-y1-2-3-5-and-6-42/
END:VEVENT
BEGIN:VEVENT
DTSTART;TZID=Europe/London:20250626T131500
DTEND;TZID=Europe/London:20250626T141500
DTSTAMP:20260421T192909
CREATED:20241031T125638Z
LAST-MODIFIED:20250626T130317Z
UID:11697-1750943700-1750947300@barlowhallprimary.co.uk
SUMMARY:Sure Start Cheeky Chops Playtime Parent and Toddler session KS1 Hall
DESCRIPTION:
URL:https://barlowhallprimary.co.uk/event/sure-start-cheeky-chops-playtime-parent-and-toddler-session-ks1-hall-34/
END:VEVENT
BEGIN:VEVENT
DTSTART;TZID=Europe/London:20250626T090000
DTEND;TZID=Europe/London:20250626T093000
DTSTAMP:20260421T192909
CREATED:20250602T220018Z
LAST-MODIFIED:20250626T081821Z
UID:19014-1750928400-1750930200@barlowhallprimary.co.uk
SUMMARY:EYFS Sports day
DESCRIPTION:
URL:https://barlowhallprimary.co.uk/event/eyfs-sports-day-2/
END:VEVENT
BEGIN:VEVENT
DTSTART;VALUE=DATE:20250626
DTEND;VALUE=DATE:20250627
DTSTAMP:20260421T192909
CREATED:20240323T073605Z
LAST-MODIFIED:20240603T091434Z
UID:4002-1750896000-1750982399@barlowhallprimary.co.uk
SUMMARY:City Thrive programme starting for year 6s
DESCRIPTION:
URL:https://barlowhallprimary.co.uk/event/city-thrive-programme-starting-for-year-6s-63/
END:VEVENT
BEGIN:VEVENT
DTSTART;TZID=Europe/London:20250625T133000
DTEND;TZID=Europe/London:20250625T143000
DTSTAMP:20260421T192909
CREATED:20250602T220018Z
LAST-MODIFIED:20250625T131903Z
UID:19013-1750858200-1750861800@barlowhallprimary.co.uk
SUMMARY:Early years to year 1 transition session
DESCRIPTION:
URL:https://barlowhallprimary.co.uk/event/early-years-to-year-1-transition-session/
END:VEVENT
BEGIN:VEVENT
DTSTART;TZID=Europe/London:20250625T090000
DTEND;TZID=Europe/London:20250625T100000
DTSTAMP:20260421T192909
CREATED:20250602T220018Z
LAST-MODIFIED:20250625T084855Z
UID:19012-1750842000-1750845600@barlowhallprimary.co.uk
SUMMARY:KS2 Sports Day
DESCRIPTION:
URL:https://barlowhallprimary.co.uk/event/ks2-sports-day/
END:VEVENT
BEGIN:VEVENT
DTSTART;TZID=Europe/London:20250624T143000
DTEND;TZID=Europe/London:20250624T150000
DTSTAMP:20260421T192909
CREATED:20241125T124210Z
LAST-MODIFIED:20241219T101731Z
UID:13303-1750775400-1750777200@barlowhallprimary.co.uk
SUMMARY:Oracy Assembly
DESCRIPTION:
URL:https://barlowhallprimary.co.uk/event/oracy-assembly-17/
END:VEVENT
BEGIN:VEVENT
DTSTART;TZID=Europe/London:20250624T091500
DTEND;TZID=Europe/London:20250624T123000
DTSTAMP:20260421T192909
CREATED:20250326T115640Z
LAST-MODIFIED:20250624T111809Z
UID:17401-1750756500-1750768200@barlowhallprimary.co.uk
SUMMARY:Y6 Leavers' Trip to King Pins bowling Manchester Arndale 9:15-1:30pm
DESCRIPTION:
URL:https://barlowhallprimary.co.uk/event/y6-leavers-trip-to-king-pins-bowling-manchester-arndale-915-130pm/
END:VEVENT
BEGIN:VEVENT
DTSTART;VALUE=DATE:20250623
DTEND;VALUE=DATE:20250624
DTSTAMP:20260421T192909
CREATED:20250608T062927Z
LAST-MODIFIED:20250623T234813Z
UID:19201-1750636800-1750723199@barlowhallprimary.co.uk
SUMMARY:Sports Week
DESCRIPTION:
URL:https://barlowhallprimary.co.uk/event/sports-week-2/
END:VEVENT
BEGIN:VEVENT
DTSTART;TZID=Europe/London:20250620T100000
DTEND;TZID=Europe/London:20250620T110000
DTSTAMP:20260421T192909
CREATED:20241105T101146Z
LAST-MODIFIED:20250113T093234Z
UID:12221-1750413600-1750417200@barlowhallprimary.co.uk
SUMMARY:AC Assembly
DESCRIPTION:
URL:https://barlowhallprimary.co.uk/event/ac-assembly-44/
END:VEVENT
BEGIN:VEVENT
DTSTART;TZID=Europe/London:20250620T100000
DTEND;TZID=Europe/London:20250620T103000
DTSTAMP:20260421T192909
CREATED:20250113T103401Z
LAST-MODIFIED:20250620T091822Z
UID:14984-1750413600-1750415400@barlowhallprimary.co.uk
SUMMARY:AC Assembly
DESCRIPTION:
URL:https://barlowhallprimary.co.uk/event/ac-assembly-160/
END:VEVENT
BEGIN:VEVENT
DTSTART;TZID=Europe/London:20250620T100000
DTEND;TZID=Europe/London:20250620T103000
DTSTAMP:20260421T192909
CREATED:20241105T101146Z
LAST-MODIFIED:20250113T093234Z
UID:12220-1750413600-1750415400@barlowhallprimary.co.uk
SUMMARY:AC Assembly
DESCRIPTION:
URL:https://barlowhallprimary.co.uk/event/ac-assembly-43/
END:VEVENT
BEGIN:VEVENT
DTSTART;TZID=Europe/London:20250620T100000
DTEND;TZID=Europe/London:20250620T103000
DTSTAMP:20260421T192909
CREATED:20241105T091159Z
LAST-MODIFIED:20241105T091159Z
UID:12097-1750413600-1750415400@barlowhallprimary.co.uk
SUMMARY:Remembrance Assembly
DESCRIPTION:
URL:https://barlowhallprimary.co.uk/event/remembrance-assembly-33/
END:VEVENT
BEGIN:VEVENT
DTSTART;VALUE=DATE:20250620
DTEND;VALUE=DATE:20250621
DTSTAMP:20260421T192909
CREATED:20240905T111736Z
LAST-MODIFIED:20250620T224818Z
UID:9962-1750377600-1750463999@barlowhallprimary.co.uk
SUMMARY:City in the Community sessions Y1/2/3/5 and 6
DESCRIPTION:
URL:https://barlowhallprimary.co.uk/event/city-in-the-community-sessions-y1-2-3-5-and-6-41/
END:VEVENT
BEGIN:VEVENT
DTSTART;TZID=Europe/London:20250619T131500
DTEND;TZID=Europe/London:20250619T141500
DTSTAMP:20260421T192909
CREATED:20241031T125638Z
LAST-MODIFIED:20250616T170307Z
UID:11696-1750338900-1750342500@barlowhallprimary.co.uk
SUMMARY:Sure Start Cheeky Chops Playtime Parent and Toddler session KS1 Hall
DESCRIPTION:
URL:https://barlowhallprimary.co.uk/event/sure-start-cheeky-chops-playtime-parent-and-toddler-session-ks1-hall-33/
END:VEVENT
BEGIN:VEVENT
DTSTART;TZID=Europe/London:20250619T090000
DTEND;TZID=Europe/London:20250619T100000
DTSTAMP:20260421T192909
CREATED:20241106T124155Z
LAST-MODIFIED:20250613T130322Z
UID:12497-1750323600-1750327200@barlowhallprimary.co.uk
SUMMARY:Inclusion coffee morning / drop in- tbc
DESCRIPTION:
URL:https://barlowhallprimary.co.uk/event/inclusion-coffee-morning-drop-in-tbc/
END:VEVENT
BEGIN:VEVENT
DTSTART;VALUE=DATE:20250619
DTEND;VALUE=DATE:20250620
DTSTAMP:20260421T192909
CREATED:20240323T073605Z
LAST-MODIFIED:20240603T091434Z
UID:4001-1750291200-1750377599@barlowhallprimary.co.uk
SUMMARY:City Thrive programme starting for year 6s
DESCRIPTION:
URL:https://barlowhallprimary.co.uk/event/city-thrive-programme-starting-for-year-6s-62/
END:VEVENT
BEGIN:VEVENT
DTSTART;TZID=Europe/London:20250618T133000
DTEND;TZID=Europe/London:20250618T143000
DTSTAMP:20260421T192910
CREATED:20250607T205938Z
LAST-MODIFIED:20250616T170307Z
UID:19190-1750253400-1750257000@barlowhallprimary.co.uk
SUMMARY:Early years to year 1 transition session 1:30-2 pm
DESCRIPTION:
URL:https://barlowhallprimary.co.uk/event/early-years-to-year-1-transition-session-130-2-pm/
END:VEVENT
BEGIN:VEVENT
DTSTART;TZID=Europe/London:20250617T160000
DTEND;TZID=Europe/London:20250617T170000
DTSTAMP:20260421T192910
CREATED:20250606T005955Z
LAST-MODIFIED:20250616T170307Z
UID:19112-1750176000-1750179600@barlowhallprimary.co.uk
SUMMARY:AV Hough End Y5/6 football - Parents collect 5 pm
DESCRIPTION:
URL:https://barlowhallprimary.co.uk/event/av-hough-end-y5-6-football-parents-collect-5-pm/
END:VEVENT
BEGIN:VEVENT
DTSTART;TZID=Europe/London:20250617T143000
DTEND;TZID=Europe/London:20250617T150000
DTSTAMP:20260421T192910
CREATED:20241219T111742Z
LAST-MODIFIED:20250616T170307Z
UID:14225-1750170600-1750172400@barlowhallprimary.co.uk
SUMMARY:Oracy Assembly
DESCRIPTION:
URL:https://barlowhallprimary.co.uk/event/oracy-assembly-29/
END:VEVENT
BEGIN:VEVENT
DTSTART;TZID=Europe/London:20250617T131500
DTEND;TZID=Europe/London:20250617T150000
DTSTAMP:20260421T192910
CREATED:20250609T132940Z
LAST-MODIFIED:20250616T170307Z
UID:19237-1750166100-1750172400@barlowhallprimary.co.uk
SUMMARY:Y4AV out - Southern Cemetary's creation of a nature reserve.
DESCRIPTION:
URL:https://barlowhallprimary.co.uk/event/y4av-out-southern-cemetarys-creation-of-a-nature-reserve/
END:VEVENT
BEGIN:VEVENT
DTSTART;TZID=Europe/London:20250617T100000
DTEND;TZID=Europe/London:20250617T111500
DTSTAMP:20260421T192910
CREATED:20250610T095927Z
LAST-MODIFIED:20250616T170307Z
UID:19270-1750154400-1750158900@barlowhallprimary.co.uk
SUMMARY:Sure Start Baby Week - Dance like a mother session (baby-wearing dance). Junior Hall
DESCRIPTION:
URL:https://barlowhallprimary.co.uk/event/sure-start-baby-week-dance-like-a-mother-session-baby-wearing-dance-junior-hall/
END:VEVENT
BEGIN:VEVENT
DTSTART;TZID=Europe/London:20250617T093000
DTEND;TZID=Europe/London:20250617T133000
DTSTAMP:20260421T192910
CREATED:20250428T123843Z
LAST-MODIFIED:20250616T170307Z
UID:18264-1750152600-1750167000@barlowhallprimary.co.uk
SUMMARY:Y6 Leavers' Trip to Cineworld 9:30-1:30pm
DESCRIPTION:
URL:https://barlowhallprimary.co.uk/event/y6-leavers-trip-to-cineworld-930-130pm/
END:VEVENT
BEGIN:VEVENT
DTSTART;TZID=Europe/London:20250617T090000
DTEND;TZID=Europe/London:20250617T100000
DTSTAMP:20260421T192910
CREATED:20250612T075937Z
LAST-MODIFIED:20250616T170307Z
UID:19324-1750150800-1750154400@barlowhallprimary.co.uk
SUMMARY:Y2 local walk pollution survey
DESCRIPTION:
URL:https://barlowhallprimary.co.uk/event/y2-local-walk-pollution-survey/
END:VEVENT
BEGIN:VEVENT
DTSTART;VALUE=DATE:20250616
DTEND;VALUE=DATE:20250617
DTSTAMP:20260421T192910
CREATED:20250613T141814Z
LAST-MODIFIED:20250616T170307Z
UID:19362-1750032000-1750118399@barlowhallprimary.co.uk
SUMMARY:Baby Week - Sure Start Children's Centre 16-20 June
DESCRIPTION:
URL:https://barlowhallprimary.co.uk/event/baby-week-sure-start-childrens-centre-16-20-june/
END:VEVENT
BEGIN:VEVENT
DTSTART;TZID=Europe/London:20250613T100000
DTEND;TZID=Europe/London:20250613T110000
DTSTAMP:20260421T192910
CREATED:20250113T103401Z
LAST-MODIFIED:20250613T090418Z
UID:14982-1749808800-1749812400@barlowhallprimary.co.uk
SUMMARY:AC Assembly
DESCRIPTION:
URL:https://barlowhallprimary.co.uk/event/ac-assembly-158/
END:VEVENT
BEGIN:VEVENT
DTSTART;TZID=Europe/London:20250613T100000
DTEND;TZID=Europe/London:20250613T103000
DTSTAMP:20260421T192910
CREATED:20250113T103401Z
LAST-MODIFIED:20250613T090418Z
UID:14983-1749808800-1749810600@barlowhallprimary.co.uk
SUMMARY:AC Assembly
DESCRIPTION:
URL:https://barlowhallprimary.co.uk/event/ac-assembly-159/
END:VEVENT
BEGIN:VEVENT
DTSTART;TZID=Europe/London:20250613T100000
DTEND;TZID=Europe/London:20250613T103000
DTSTAMP:20260421T192910
CREATED:20241105T101145Z
LAST-MODIFIED:20250113T093234Z
UID:12219-1749808800-1749810600@barlowhallprimary.co.uk
SUMMARY:AC Assembly
DESCRIPTION:
URL:https://barlowhallprimary.co.uk/event/ac-assembly-42/
END:VEVENT
BEGIN:VEVENT
DTSTART;TZID=Europe/London:20250613T100000
DTEND;TZID=Europe/London:20250613T103000
DTSTAMP:20260421T192910
CREATED:20241105T091159Z
LAST-MODIFIED:20241105T091159Z
UID:12096-1749808800-1749810600@barlowhallprimary.co.uk
SUMMARY:Remembrance Assembly
DESCRIPTION:
URL:https://barlowhallprimary.co.uk/event/remembrance-assembly-32/
END:VEVENT
END:VCALENDAR