BEGIN:VCALENDAR
VERSION:2.0
PRODID:-//Barlow Hall Primary School - ECPv6.13.2.1//NONSGML v1.0//EN
CALSCALE:GREGORIAN
METHOD:PUBLISH
X-WR-CALNAME:Barlow Hall Primary School
X-ORIGINAL-URL:https://barlowhallprimary.co.uk
X-WR-CALDESC:Events for Barlow Hall Primary School
REFRESH-INTERVAL;VALUE=DURATION:PT1H
X-Robots-Tag:noindex
X-PUBLISHED-TTL:PT1H
BEGIN:VTIMEZONE
TZID:Europe/London
BEGIN:DAYLIGHT
TZOFFSETFROM:+0000
TZOFFSETTO:+0100
TZNAME:BST
DTSTART:20250330T010000
END:DAYLIGHT
BEGIN:STANDARD
TZOFFSETFROM:+0100
TZOFFSETTO:+0000
TZNAME:GMT
DTSTART:20251026T010000
END:STANDARD
END:VTIMEZONE
BEGIN:VEVENT
DTSTART;TZID=Europe/London:20250718T140000
DTEND;TZID=Europe/London:20250718T150000
DTSTAMP:20260425T122222
CREATED:20240606T122932Z
LAST-MODIFIED:20250718T134812Z
UID:6708-1752847200-1752850800@barlowhallprimary.co.uk
SUMMARY:Break up 2 pm - No After School Club
DESCRIPTION:
URL:https://barlowhallprimary.co.uk/event/break-up-2-pm-no-after-school-club/
END:VEVENT
BEGIN:VEVENT
DTSTART;TZID=Europe/London:20250718T133000
DTEND;TZID=Europe/London:20250718T140000
DTSTAMP:20260425T122222
CREATED:20250602T225941Z
LAST-MODIFIED:20250718T124807Z
UID:19025-1752845400-1752847200@barlowhallprimary.co.uk
SUMMARY:Reception Class Graduation 1:30 pm
DESCRIPTION:
URL:https://barlowhallprimary.co.uk/event/reception-class-graduation-130-pm/
END:VEVENT
BEGIN:VEVENT
DTSTART;TZID=Europe/London:20250718T100000
DTEND;TZID=Europe/London:20250718T110000
DTSTAMP:20260425T122222
CREATED:20241105T101146Z
LAST-MODIFIED:20250113T093235Z
UID:12227-1752832800-1752836400@barlowhallprimary.co.uk
SUMMARY:AC Assembly
DESCRIPTION:
URL:https://barlowhallprimary.co.uk/event/ac-assembly-50/
END:VEVENT
BEGIN:VEVENT
DTSTART;TZID=Europe/London:20250718T100000
DTEND;TZID=Europe/London:20250718T103000
DTSTAMP:20260425T122222
CREATED:20250113T103402Z
LAST-MODIFIED:20250718T091810Z
UID:14990-1752832800-1752834600@barlowhallprimary.co.uk
SUMMARY:AC Assembly
DESCRIPTION:
URL:https://barlowhallprimary.co.uk/event/ac-assembly-166/
END:VEVENT
BEGIN:VEVENT
DTSTART;TZID=Europe/London:20250718T100000
DTEND;TZID=Europe/London:20250718T103000
DTSTAMP:20260425T122222
CREATED:20241105T101146Z
LAST-MODIFIED:20250113T093235Z
UID:12226-1752832800-1752834600@barlowhallprimary.co.uk
SUMMARY:AC Assembly
DESCRIPTION:
URL:https://barlowhallprimary.co.uk/event/ac-assembly-49/
END:VEVENT
BEGIN:VEVENT
DTSTART;TZID=Europe/London:20250718T100000
DTEND;TZID=Europe/London:20250718T103000
DTSTAMP:20260425T122222
CREATED:20241105T091159Z
LAST-MODIFIED:20241105T091159Z
UID:12101-1752832800-1752834600@barlowhallprimary.co.uk
SUMMARY:Remembrance Assembly
DESCRIPTION:
URL:https://barlowhallprimary.co.uk/event/remembrance-assembly-37/
END:VEVENT
BEGIN:VEVENT
DTSTART;VALUE=DATE:20250718
DTEND;VALUE=DATE:20250719
DTSTAMP:20260425T122222
CREATED:20240719T113217Z
LAST-MODIFIED:20250718T230339Z
UID:8362-1752796800-1752883199@barlowhallprimary.co.uk
SUMMARY:No Swimming
DESCRIPTION:
URL:https://barlowhallprimary.co.uk/event/no-swimming-2/
END:VEVENT
BEGIN:VEVENT
DTSTART;TZID=Europe/London:20250717T131500
DTEND;TZID=Europe/London:20250717T141500
DTSTAMP:20260425T122222
CREATED:20241031T125638Z
LAST-MODIFIED:20250717T130309Z
UID:11700-1752758100-1752761700@barlowhallprimary.co.uk
SUMMARY:Sure Start Cheeky Chops Playtime Parent and Toddler session KS1 Hall
DESCRIPTION:
URL:https://barlowhallprimary.co.uk/event/sure-start-cheeky-chops-playtime-parent-and-toddler-session-ks1-hall-37/
END:VEVENT
BEGIN:VEVENT
DTSTART;VALUE=DATE:20250717
DTEND;VALUE=DATE:20250718
DTSTAMP:20260425T122222
CREATED:20250523T133842Z
LAST-MODIFIED:20250717T234821Z
UID:18869-1752710400-1752796799@barlowhallprimary.co.uk
SUMMARY:KS1 Beach Day
DESCRIPTION:
URL:https://barlowhallprimary.co.uk/event/ks1-beach-day/
END:VEVENT
BEGIN:VEVENT
DTSTART;VALUE=DATE:20250717
DTEND;VALUE=DATE:20250718
DTSTAMP:20260425T122222
CREATED:20240323T073605Z
LAST-MODIFIED:20240603T091434Z
UID:4005-1752710400-1752796799@barlowhallprimary.co.uk
SUMMARY:City Thrive programme starting for year 6s
DESCRIPTION:
URL:https://barlowhallprimary.co.uk/event/city-thrive-programme-starting-for-year-6s-66/
END:VEVENT
BEGIN:VEVENT
DTSTART;TZID=Europe/London:20250716T090000
DTEND;TZID=Europe/London:20250716T120000
DTSTAMP:20260425T122222
CREATED:20241106T135651Z
LAST-MODIFIED:20250716T100326Z
UID:12508-1752656400-1752667200@barlowhallprimary.co.uk
SUMMARY:Leavers Assembly / Y6 v parents Rounders Match
DESCRIPTION:
URL:https://barlowhallprimary.co.uk/event/leavers-assembly-y6-v-parents-rounders-match-tbc/
END:VEVENT
BEGIN:VEVENT
DTSTART;TZID=Europe/London:20250715T143000
DTEND;TZID=Europe/London:20250715T150000
DTSTAMP:20260425T122222
CREATED:20241219T111743Z
LAST-MODIFIED:20250715T133307Z
UID:14227-1752589800-1752591600@barlowhallprimary.co.uk
SUMMARY:Oracy Assembly
DESCRIPTION:
URL:https://barlowhallprimary.co.uk/event/oracy-assembly-31/
END:VEVENT
BEGIN:VEVENT
DTSTART;VALUE=DATE:20250715
DTEND;VALUE=DATE:20250716
DTSTAMP:20260425T122222
CREATED:20241106T135651Z
LAST-MODIFIED:20250715T234810Z
UID:12509-1752537600-1752623999@barlowhallprimary.co.uk
SUMMARY:Barlow Fest - am UKS2 / pm LKS2
DESCRIPTION:
URL:https://barlowhallprimary.co.uk/event/barlow-fest-am-lks2-pm-uks2-tbc/
END:VEVENT
BEGIN:VEVENT
DTSTART;TZID=Europe/London:20250711T120000
DTEND;TZID=Europe/London:20250711T122000
DTSTAMP:20260425T122222
CREATED:20250627T093317Z
LAST-MODIFIED:20250711T111816Z
UID:20416-1752235200-1752236400@barlowhallprimary.co.uk
SUMMARY:Yr 2 in KS2 hall for their lunch at 12:00.
DESCRIPTION:
URL:https://barlowhallprimary.co.uk/event/yr-2-in-ks2-hall-for-their-lunch-at-1200-2/
END:VEVENT
BEGIN:VEVENT
DTSTART;TZID=Europe/London:20250711T103000
DTEND;TZID=Europe/London:20250711T113000
DTSTAMP:20260425T122222
CREATED:20250701T113425Z
LAST-MODIFIED:20250711T101811Z
UID:20521-1752229800-1752233400@barlowhallprimary.co.uk
SUMMARY:No Time to Waste workshop for year 2
DESCRIPTION:
URL:https://barlowhallprimary.co.uk/event/no-time-to-waste-workshop-for-year-2-2/
END:VEVENT
BEGIN:VEVENT
DTSTART;TZID=Europe/London:20250711T100000
DTEND;TZID=Europe/London:20250711T110000
DTSTAMP:20260425T122222
CREATED:20250113T103402Z
LAST-MODIFIED:20250608T051525Z
UID:14989-1752228000-1752231600@barlowhallprimary.co.uk
SUMMARY:AC Assembly
DESCRIPTION:
URL:https://barlowhallprimary.co.uk/event/ac-assembly-165/
END:VEVENT
BEGIN:VEVENT
DTSTART;TZID=Europe/London:20250711T100000
DTEND;TZID=Europe/London:20250711T103000
DTSTAMP:20260425T122222
CREATED:20250113T103402Z
LAST-MODIFIED:20250608T051525Z
UID:14988-1752228000-1752229800@barlowhallprimary.co.uk
SUMMARY:AC Assembly
DESCRIPTION:
URL:https://barlowhallprimary.co.uk/event/ac-assembly-164/
END:VEVENT
BEGIN:VEVENT
DTSTART;TZID=Europe/London:20250711T100000
DTEND;TZID=Europe/London:20250711T103000
DTSTAMP:20260425T122222
CREATED:20241105T101146Z
LAST-MODIFIED:20250113T093234Z
UID:12225-1752228000-1752229800@barlowhallprimary.co.uk
SUMMARY:AC Assembly
DESCRIPTION:
URL:https://barlowhallprimary.co.uk/event/ac-assembly-48/
END:VEVENT
BEGIN:VEVENT
DTSTART;TZID=Europe/London:20250711T100000
DTEND;TZID=Europe/London:20250711T103000
DTSTAMP:20260425T122222
CREATED:20241105T091159Z
LAST-MODIFIED:20241105T091159Z
UID:12100-1752228000-1752229800@barlowhallprimary.co.uk
SUMMARY:Remembrance Assembly
DESCRIPTION:
URL:https://barlowhallprimary.co.uk/event/remembrance-assembly-36/
END:VEVENT
BEGIN:VEVENT
DTSTART;TZID=Europe/London:20250711T090000
DTEND;TZID=Europe/London:20250711T093000
DTSTAMP:20260425T122222
CREATED:20250701T081828Z
LAST-MODIFIED:20250711T081808Z
UID:20513-1752224400-1752226200@barlowhallprimary.co.uk
SUMMARY:EYFS Sports Day - 9 am
DESCRIPTION:
URL:https://barlowhallprimary.co.uk/event/eyfs-sports-day-9-am/
END:VEVENT
BEGIN:VEVENT
DTSTART;VALUE=DATE:20250711
DTEND;VALUE=DATE:20250712
DTSTAMP:20260425T122222
CREATED:20241106T135650Z
LAST-MODIFIED:20250711T230316Z
UID:12507-1752192000-1752278399@barlowhallprimary.co.uk
SUMMARY:Reports Out to Parents/Carers
DESCRIPTION:
URL:https://barlowhallprimary.co.uk/event/reports-out-to-parents-carers/
END:VEVENT
BEGIN:VEVENT
DTSTART;VALUE=DATE:20250711
DTEND;VALUE=DATE:20250712
DTSTAMP:20260425T122222
CREATED:20240905T111737Z
LAST-MODIFIED:20250711T220308Z
UID:9965-1752192000-1752278399@barlowhallprimary.co.uk
SUMMARY:City in the Community sessions Y1/2/3/5 and 6
DESCRIPTION:
URL:https://barlowhallprimary.co.uk/event/city-in-the-community-sessions-y1-2-3-5-and-6-44/
END:VEVENT
BEGIN:VEVENT
DTSTART;TZID=Europe/London:20250710T160000
DTEND;TZID=Europe/London:20250710T163000
DTSTAMP:20260425T122222
CREATED:20250704T091806Z
LAST-MODIFIED:20250710T141914Z
UID:20597-1752163200-1752165000@barlowhallprimary.co.uk
SUMMARY:Starting Reception - Parents Meeting for children starting Reception in September 2025
DESCRIPTION:
URL:https://barlowhallprimary.co.uk/event/starting-reception-parents-meeting-for-children-starting-reception-in-september-2025/
END:VEVENT
BEGIN:VEVENT
DTSTART;TZID=Europe/London:20250710T131500
DTEND;TZID=Europe/London:20250710T141500
DTSTAMP:20260425T122222
CREATED:20241031T125638Z
LAST-MODIFIED:20250710T130316Z
UID:11699-1752153300-1752156900@barlowhallprimary.co.uk
SUMMARY:Sure Start Cheeky Chops Playtime Parent and Toddler session KS1 Hall
DESCRIPTION:
URL:https://barlowhallprimary.co.uk/event/sure-start-cheeky-chops-playtime-parent-and-toddler-session-ks1-hall-36/
END:VEVENT
BEGIN:VEVENT
DTSTART;VALUE=DATE:20250710
DTEND;VALUE=DATE:20250711
DTSTAMP:20260425T122222
CREATED:20240323T073605Z
LAST-MODIFIED:20240603T091434Z
UID:4004-1752105600-1752191999@barlowhallprimary.co.uk
SUMMARY:City Thrive programme starting for year 6s
DESCRIPTION:
URL:https://barlowhallprimary.co.uk/event/city-thrive-programme-starting-for-year-6s-65/
END:VEVENT
BEGIN:VEVENT
DTSTART;TZID=Europe/London:20250709T093000
DTEND;TZID=Europe/London:20250709T103000
DTSTAMP:20260425T122222
CREATED:20250701T113425Z
LAST-MODIFIED:20250709T084818Z
UID:20520-1752053400-1752057000@barlowhallprimary.co.uk
SUMMARY:No Time to Waste workshop for year 2
DESCRIPTION:
URL:https://barlowhallprimary.co.uk/event/no-time-to-waste-workshop-for-year-2/
END:VEVENT
BEGIN:VEVENT
DTSTART;TZID=Europe/London:20250709T090000
DTEND;TZID=Europe/London:20250709T094500
DTSTAMP:20260425T122222
CREATED:20250602T225941Z
LAST-MODIFIED:20250701T071833Z
UID:19023-1752051600-1752054300@barlowhallprimary.co.uk
SUMMARY:Reserve KS2 Sports day
DESCRIPTION:
URL:https://barlowhallprimary.co.uk/event/reserve-ks2-sports-day/
END:VEVENT
BEGIN:VEVENT
DTSTART;TZID=Europe/London:20250708T143000
DTEND;TZID=Europe/London:20250708T150000
DTSTAMP:20260425T122222
CREATED:20241125T124211Z
LAST-MODIFIED:20241219T101731Z
UID:13304-1751985000-1751986800@barlowhallprimary.co.uk
SUMMARY:Oracy Assembly
DESCRIPTION:
URL:https://barlowhallprimary.co.uk/event/oracy-assembly-18/
END:VEVENT
BEGIN:VEVENT
DTSTART;TZID=Europe/London:20250708T090000
DTEND;TZID=Europe/London:20250708T093000
DTSTAMP:20260425T122222
CREATED:20250602T220019Z
LAST-MODIFIED:20250701T071833Z
UID:19015-1751965200-1751967000@barlowhallprimary.co.uk
SUMMARY:Reserve Ks1 Sports day
DESCRIPTION:
URL:https://barlowhallprimary.co.uk/event/reserve-ks1-sports-day/
END:VEVENT
BEGIN:VEVENT
DTSTART;VALUE=DATE:20250708
DTEND;VALUE=DATE:20250709
DTSTAMP:20260425T122222
CREATED:20250602T220019Z
LAST-MODIFIED:20250708T231850Z
UID:19016-1751932800-1752019199@barlowhallprimary.co.uk
SUMMARY:SATs results day
DESCRIPTION:
URL:https://barlowhallprimary.co.uk/event/sats-results-day/
END:VEVENT
END:VCALENDAR